{"text_format":"1","workbook":"xlsx","n_sheets":214,"sheets":["PRESENTACION","SINOPSIS","1.3.1","I-1.1.1","I-1.2.1","I-1.2.2","I-1.2.3","I-1.2.4","I-1.2.5","I-1.2.6","I-1.2.7","I-1.2.8","I-1.2.9","I-1.2.10","I-2.1.1","I-2.2.1","I-2.2.2","I-2.2.3","I-2.3.1","I-2.3.2","I-2.5.1","I-2.5.2","I-2.5.3","I-2.5.4","I-2.5.5","I-2.5.6","I-2.6.1","I-2.6.2","I-2.6.3","I-2.6.4","I-2.6.5","I-2.6.6","I-2.7.1","I-2.7.2","I-2.7.3","I-3.1.1","I-3.1.2","I-3.1.3","I-3.1.4","I-3.1.5","I-3.1.6","I-3.1.7","I-3.3.1","I-4.4.1","I-4.4.2","I-4.4.3","I-4.5.1","G I-1.2.1","G I-1.2.2","G I-1.2.3 ","G I-1.2.4","G I-1.2.5","G I-1.2.6","G I-1.2.7","G I-1.2.8","G I-1.2.9 ","G I-1.2.10","G I-1.2.11","G I-1.2.12","G I-1.2.13","G I-1.2.14","G I-1.2.15","G I-1.2.16","G I-1.2.17","G I-1.2.18","G I-1.2.19","G I-1.3.1","G I-1.3.2","G I-1.3.3","G I-2.1.1","G I-2.1.2","G I-2.1.3","G I-2.1.4","G I-2.2.1","G I-2.2.2","G I-2.2.3","G I-2.2.4","G I-2.3.1","G I-2.3.2","G I-2.3.3","G I-2.3.4","G I-2.3.5","G I-2.3.6","G I-2.3.7","G I-2.3.8","G I-2.3.9","G I-2.3.10","G I-2.4.1","G I-2.4.2","G I-2.4.3","G I-2.4.4","G I-2.4.5","G I-2.4.6","G I-2.5.1","G I-2.5.2","G I-2.5.3","G I-2.5.4","G I-2.5.5","G I-2.5.6","G I-2.5.7","G I-2.5.8","G I-3.2.1","G I-3.2.2","G I-3.3.1","G I-3.3.2","G I-3.3.3","G I-4.1.1 ","G I-4.1.2","G I-4.1.3","G I 4.2.1","G I 4.2.2","G I-4.2.3","G I-4.3.1","G I-4.3.2","G I-4.4.1","PRIMERA INFANCIA E INICIAL"," II-1.1.1","II-1.1.2","II-1.2.1","II-1.2.2","II-1.2.3 ","II-1.2.4","II-1.2.5","II-1.2.6","II-1.3.1","II-1.3.2","PRIMARIA","II-2.1.1"," II-2.1.2 ","II-2.1.3","II-2.1.4","II-2.2.1","II-2.2.2","II-2.2.3","II-2.2.4","II-2.2.5","II-2.2.6","II-2.2.7","II-2.2.8","II-2.2.9","II-2.2.10","II-2.2.11","II-2.2.12","II-2.2.13 ","II-2.2.14","II-2.2.15 ","II-2.2.16 ","II-2.2.17 ","II-2.2.18","II-2.3.1","II-2.3.2","MEDIA BÁSICA","II-3.1.1","II-3.2.1","II-3.2.2","II-3.2.3","II-3.2.4","II-3.2.5 ","II-3.2.6 ","II-3.3.1","II-3.3.2","II-3.4.1","MEDIA SUPERIOR","II-4.1.1","II-4.2.1","II-4.2.2 ","II-4.2.3 ","II-4.2.4 ","II-4.2.5","II-4.2.6","II-4.2.7","II-4.2.8 ","II_4_2_9","II_4_2_10","II-4.2.11 ","II-4.3.1 ","II-4.3.2","II-4.4.1","OFERTA TER. NO UNIVERSITARIA","II-5.1.1 ","II-5.2.1 ","II-5.2.2 ","II-5.2.3 ","II-5.2.4","II-5.3.1 ","II-5.3.2","II-5.3.3","EDUCACIÓN UNIVERSITARIA ","II-6.1.1 ","II-6.2.1","II-6.2.2 ","II-6.2.3 ","II-6.2.4","II-6.2.5","II-6.2.6","II-6.2.7","II-6.2.8 ","II-6.2.9 ","II-6.2.10 ","II-6.2.11 ","EDUCACIÓN DE JÓVENES Y ADULTOS"," II-7.1.1"," II-7.1.2","II-7.1.3","II-7.1.4","II-7.1.5 ","II-7.1.6 ","II-7.1.7","II-7.1.8","II-7.1.9 ","II-7.2.1","II-7.2.2","II-7.2.3","II-7.3.1 "],"not_rendered":{"charts":0,"images":69,"macros":1,"external_links":1,"defined_names":319,"comments":2,"pivot_tables":0},"unopened":[],"bounds":{"document_bytes":16777216,"sheet_cells":100000,"rows_first":2000,"rows_last":500,"rows_between":2000,"halvings":0,"cell_chars":16384,"cell_head_chars":4096},"cells_cut":0,"cells_raw":0,"read":"whole","date_system":"1900"}

{"sheet":"PRESENTACION","index":0,"n_rows":0,"n_cols":0,"rows_kept":0,"cut":false,"hidden":false,"merged":[[8,0,8,8]]}

{"sheet":"SINOPSIS","index":1,"n_rows":354,"n_cols":1,"rows_kept":354,"cut":false,"hidden":false,"merged":[[348,0,348,4],[349,0,349,4],[350,0,350,4],[351,0,351,4],[352,0,352,4],[353,0,353,4],[354,0,354,4],[209,0,209,4],[339,0,339,4],[340,0,340,4],[341,0,341,4],[342,0,342,4],[343,0,343,4],[344,0,344,4],[345,0,345,4],[346,0,346,4],[347,0,347,4],[330,0,330,4],[331,0,331,4],[332,0,332,4],[333,0,333,4],[334,0,334,4],[335,0,335,4],[336,0,336,4],[337,0,337,4],[338,0,338,4],[321,0,321,4],[322,0,322,4],[323,0,323,4],[324,0,324,4],[325,0,325,4],[326,0,326,4],[327,0,327,4],[328,0,328,4],[329,0,329,4],[312,0,312,4],[310,0,310,4],[314,0,314,4],[315,0,315,4],[313,0,313,4],[317,0,317,4],[318,0,318,4],[316,0,316,4],[320,0,320,4],[308,0,308,4],[290,0,290,4],[293,0,293,4],[296,0,296,4],[299,0,299,4],[281,0,281,4],[20,0,20,4],[302,0,302,4],[311,0,311,4],[305,0,305,4],[284,0,284,4],[83,0,83,4],[86,0,86,4],[89,0,89,4],[92,0,92,4],[287,0,287,4],[224,0,224,4],[269,0,269,4],[245,0,245,4],[248,0,248,4],[266,0,266,4],[272,0,272,4],[236,0,236,4],[230,0,230,4],[278,0,278,4],[275,0,275,4],[239,0,239,4],[242,0,242,4],[263,0,263,4],[251,0,251,4],[254,0,254,4],[257,0,257,4],[260,0,260,4],[215,0,215,4],[218,0,218,4],[233,0,233,4],[221,0,221,4],[227,0,227,4],[191,0,191,4],[194,0,194,4],[212,0,212,4],[197,0,197,4],[206,0,206,4],[203,0,203,4],[200,0,200,4],[161,0,161,4],[119,0,119,4],[101,0,101,4],[80,0,80,4],[98,0,98,4],[155,0,155,4],[104,0,104,4],[113,0,113,4],[116,0,116,4],[137,0,137,4],[140,0,140,4],[143,0,143,4],[146,0,146,4],[149,0,149,4],[176,0,176,4],[188,0,188,4],[179,0,179,4],[32,0,32,4],[56,0,56,4],[68,0,68,4],[122,0,122,4],[107,0,107,4],[110,0,110,4],[164,0,164,4],[125,0,125,4],[128,0,128,4],[131,0,131,4],[134,0,134,4],[182,0,182,4],[71,0,71,4],[185,0,185,4],[167,0,167,4],[170,0,170,4],[173,0,173,4],[74,0,74,4],[77,0,77,4],[95,0,95,4],[158,0,158,4],[17,0,17,4],[56,5,56,6],[62,0,62,4],[65,0,65,4],[35,0,35,4],[38,0,38,4],[44,0,44,4],[47,0,47,4],[41,0,41,4],[50,0,50,4],[53,0,53,4],[59,0,59,4],[62,5,62,9],[23,0,23,4],[26,0,26,4],[29,0,29,4]]}
[]
[]
[]
[]
[]
[]
[]
[]
[]
[]
["Ministerio de Educación y Cultura"]
["Dirección de Educación"]
["Área de Investigación y Estadística"]
[]
["CUADROS"]
[]
["Cuadro 1.3.1"]
[{"$f":"'1.3.1'!A6:F6","v":"INDICADORES ESCOGIDOS"}]
[]
["Cuadro I-1.1.1"]
[{"$f":"'I-1.1.1'!A6:F6","v":"UNIVERSO CUBIERTO POR EL ANUARIO ESTADÍSTICO DE EDUCACIÓN 2010 POR FORMA DE ADMINISTRACIÓN, MATRÍCULA Y FUENTE DE INFORMACIÓN SEGÚN TIPO DE OFERTA Y NIVEL EDUCATIVO."}]
[]
["Cuadro I-1.2.1"]
[{"$f":"'I-1.2.1'!A6:G6","v":"TASA DE ANALFABETISMO Y PORCENTAJE DE POBLACIÓN POR ÁREA DEMOGRÁFICA SEGÚN AÑO "}]
[]
["Cuadro I-1.2.2"]
[{"$f":"'I-1.2.2'!A6:I6","v":"TASA DE ANALFABETISMO SEGÚN TRAMOS DE EDAD."}]
[]
["Cuadro I-1.2.3"]
[{"$f":"'I-1.2.3'!A6:I6","v":"PORCENTAJE DE POBLACIÓN DE 25 AÑOS O MÁS POR TRAMOS DE EDAD SEGÚN NIVEL EDUCATIVO MÁXIMO ALCANZADO."}]
[]
["Cuadro I-1.2.4"]
[{"$f":"'I-1.2.4'!A6:X6","v":"ASISTENCIA A ALGÚN ESTABLECIMIENTO EDUCATIVO POR EDADES SIMPLES SEGÚN AÑO LECTIVO."}]
[]
["Cuadro I-1.2.5"]
[{"$f":"'I-1.2.5'!A6:E6","v":"ASISTENCIA A ALGÚN ESTABLECIMIENTO EDUCATIVO POR EDADES SIMPLES SEGÚN AÑO LECTIVO y PERTENENCIA DE LOS HOGARES A LOS QUINTILES EXTREMOS DE INGRESOS."}]
[]
["Cuadro I-1.2.6"]
[{"$f":"'I-1.2.6'!A6:E6","v":"DIFERENCIA DE ASISTENCIA ENTRE 2009 Y 2010 POR EDADES SIMPLES SEGÚN 1º QUINTIL Y QUINTIL MAYOR DE INGRESOS DE LOS HOGARES"}]
[]
["Cuadro I-1.2.7"]
[{"$f":"'I-1.2.7'!A6:U6","v":"ASISTENCIA A ALGÚN ESTABLECIMIENTO EDUCATIVO POR EDADES SIMPLES SEGÚN GRANDES ÁREAS Y AÑO LECTIVO."}]
[]
["Cuadro I-1.2.8"]
[{"$f":"'I-1.2.8'!A6:L6","v":"MATRÍCULA DEL SISTEMA EDUCATIVO POR AÑO LECTIVO (2001-2010) SEGÚN NIVEL, FORMA DE ADMINISTRACIÓN Y MODALIDAD."}]
[]
["Cuadro I-1.2.9"]
[{"$f":"'I-1.2.9'!A6:K6","v":"MATRICULA POR NIVEL Y FORMA DE ADMINISTRACIÓN SEGÚN GRANDES ÁREAS Y DEPARTAMENTO."}]
[]
["Cuadro I-1.2.10"]
[{"$f":"'I-1.2.10'!A6:G6","v":"JÓVENES DE 15 A 20 AÑOS DE EDAD POR ASISTENCIA A ALGÚN ESTABLECIMIENTO DE EDUCACIÓN Y ACTIVIDAD SEGÚN NIVEL EDUCATIVO MÁXIMO ALCANZADO"}]
[]
["Cuadro I-2.1.1"]
[{"$f":"'I-2.1.1'!$A$6","v":"TASA NETA DE MATRICULACIÓN ENTRE LOS NIÑOS DE 3 A 5 AÑOS POR AÑO LECTIVO Y TRAMOS DE EDAD"}]
[]
["Cuadro I-2.2.1"]
[{"$f":"'I-2.2.1'!A6:D6","v":"MATRÍCULA EN EDUCACIÓN PRIMARIA ESPECIAL SEGÚN REGIÓN Y FORMA DE ADMINISTRACIÓN"}]
[]
["Cuadro I-2.2.2"]
[{"$f":"'I-1.2.3'!A6:I6","v":"PORCENTAJE DE POBLACIÓN DE 25 AÑOS O MÁS POR TRAMOS DE EDAD SEGÚN NIVEL EDUCATIVO MÁXIMO ALCANZADO."}]
[]
["Cuadro I-2.2.3"]
[{"$f":"'I-2.2.3'!A6:D6","v":"PORCENTAJE DE ASISTENCIA INSUFICIENTE Y ABANDONO INTERMITENTE DE  1º A 6º GRADO EN EDUCACIÓN PRIMARIA COMÚN PÚBLICA SEGÚN REGIONES Y CONTEXTO 1er QUINTIL Y QUINTIL MAYOR (AÑO 2010)"}]
[]
["Cuadro I-2.3.1"]
[{"$f":"'I-2.3.1'!A6:E6","v":"NO APROBADOS Y DESVINCULADOS EN EDUCACIÓN MEDIA BÁSICA PÚBLICA POR GRANDES ÁREAS SEGÚN MODALIDAD Y GRADO (Turno diurno)"}]
[]
["Cuadro I-2.3.2"]
[{"$f":"'I-2.3.2'!A6:E6","v":"NO APROBADOS Y DESVINCULADOS EN EDUCACIÓN MEDIA TECNOLÓGICA SUPERIOR PÚBLICA POR GRANDES ÁREAS SEGÚN MODALIDAD Y GRADO (Turno diurno)"}]
[]
["I-2.5.1"]
[{"$f":"'I-2.5.1'!A6","v":"EVOLUCIÓN DE LA MATRÍCULA DE LAS INSTITUCIONES UNIVERSITARIAS (2000 – 2010)"}]
[]
["I-2.5.2"]
[{"$f":"'I-2.5.2'!A6:M6","v":"INGRESOS A INSTITUCIONES UNIVERSITARIAS POR AÑO LECTIVO SEGÚN ÁREA DE CONOCIMIENTO - (2000 - 2010)"}]
[]
["I-2.5.3"]
[{"$f":"'I-2.5.3'!A6:I6","v":"EGRESOS DE INSTITUCIONES UNIVERSITARIAS POR NIVEL ACADÉMICO SEGÚN ÁREA DE CONOCIMIENTO"}]
[]
["I-2.5.4"]
[{"$f":"'I-2.5.4'!A6:M6","v":"EGRESOS DE INSTITUCIONES UNIVERSITARIAS POR AÑO LECTIVO SEGÚN ÁREA DE CONOCIMIENTO - (2000 - 2010)"}]
[]
["I-2.5.5"]
[{"$f":"'I-2.5.5'!A6","v":"INGRESOS A INSTITUCIONES UNIVERSITARIAS POR NIVEL ACADÉMICO SEGÚN ÁREA DE CONOCIMIENTO"}]
[]
["I-2.5.6"]
[{"$f":"'I-2.5.6'!A6:D6","v":"INGRESOS, MATRÍCULA Y EGRESOS SEGÚN FORMA DE ADMINISTRACIÓN EN CANTIDADES ABSOLUTAS Y PORCENTAJES"}]
[]
["I-2.6.1"]
[{"$f":"'I-2.6.1'!A6:L6","v":"ALUMNOS MATRICULADOS EN EL PROGRAMA NACIONAL DE JÓVENES Y ADULTOS POR MODALIDAD, NIVEL Y SEXO SEGÚN GRANDES ÁREAS"}]
[]
["I-2.6.2"]
[{"$f":"'I-2.6.2'!A7:H7","v":"ALUMNOS INGRESADOS Y MATRICULADOS EN CECAP POR SEXO SEGÚN GRANDES ÁREAS "}]
[]
["I-2.6.3"]
[{"$f":"'I-2.6.3'!A6:G6","v":"ALUMNOS MATRICULADOS EN CURSOS DE EDUCACIÓN TÉCNICA (CETP-UTU) PARA JÓVENES Y ADULTOS POR SEXO Y GRANDES ÁREAS SEGÚN TIPO DE CURSO"}]
[]
["I-2.6.4"]
[{"$f":"'I-2.6.4'!A6:E6","v":"ALUMNOS MATRICULADOS DEL COCAP SEGÚN TIPO DE CURSO Y ÁREA DE FORMACIÓN"}]
[]
["I-2.6.5"]
[{"$f":"'I-2.6.5'!A7:E7","v":"FUNCIONARIOS PARTICIPANTES EN LOS CURSOS DE LA ENAP \"DR. AQUILES LANZA\", CANTIDAD DE CURSOS Y HORAS TIPO DE CURSO"}]
[]
["I-2.6.6"]
[{"$f":"'I-2.6.6'!A7","v":"ALUMNOS INGRESADOS Y MATRICULADOS EN CARRERAS NO TERCIARIAS EN UNIVERSIDADES E INSTITUTOS UNIVERSITARIOS"}]
[]
["I-2.7.1"]
[{"$f":"'I-2.7.1'!A6:D6","v":"ESTABLECIMIENTOS DE EDUCACIÓN TÉCNICO PROFESIONAL POR TIPO DE ESTABLECIMIENTO SEGÚN GRANDES ÁREAS."}]
[]
["I-2.7.2"]
[{"$f":"'I-2.7.2'!A5:K5","v":"ALUMNOS MATRICULADOS EN EDUCACIÓN TÉCNICA POR GRANDES ÁREAS Y SEXO SEGÚN NIVEL Y TIPO DE CURSO"}]
[]
["I-2.7.3"]
[{"$f":"'I-2.7.3'!A7:G7","v":"ALUMNOS MATRICULADOS EN EDUCACIÓN MEDIA, TÉCNICA Y TERCIARIA POR NIVEL DEL CURSO SEGÚN SECTORES DE ESTUDIO"}]
[]
["I-3.1.1"]
[{"$f":"'I-3.1.1'!A6:H6","v":"ESCUELAS POR GRANDES ÁREAS, MAESTROS Y ALUMNOS DEL PROGRAMA MAESTROS COMUNITARIOS SEGÚN AÑO LECTIVO"}]
[]
["I-3.1.2"]
[{"$f":"'I-3.1.2'!A6:D6","v":"MAESTROS Y ESCUELAS DEL PROGRAMA MAESTROS COMUNITARIOS SEGÚN REQUERIMIENTO"}]
[]
["I-3.1.3"]
[{"$f":"'I-3.1.3'!A6:E6","v":"EDUCACIÓN FÍSICA ESCOLAR SEGÚN AÑO LECTIVO - (2005 - 2010)"}]
[]
["I-3.1.4"]
[{"$f":"'I-3.1.4'!A6:E6","v":"EDUCACIÓN FÍSICA ESCOLAR SEGÚN GRANDES ÁREAS – Año 2010"}]
[]
["I-3.1.5"]
[{"$f":"'I-3.1.5'!A5:F5","v":"CANTIDAD DE BECAS OTORGADAS POR MODALIDAD Y CICLO SEGÚN DEPARTAMENTO - 2010"}]
[]
["I-3.1.6"]
[{"$f":"'I-3.1.6'!A8:K8","v":"CANTIDAD DE COMPUTADORAS PORTÁTILES ENTREGADAS POR AÑO LECTIVO Y DESTINATARIO SEGÚN DEPARTAMENTO"}]
[]
["I-3.1.7"]
[{"$f":"'I-3.1.7'!A6:D6","v":"PORCENTAJE DE HOGARES EN VIVIENDAS UBICADAS EN ASENTAMIENTOS IRREGULARES SEGÚN TENENCIA Y CANTIDAD DE XO"}]
[]
["I-3.3.1"]
[{"$f":"'I-3.3.1'!A6:G6","v":"GASTO EN MILLONES DE PESOS CONSTANTES DE 2006 POR AÑO LECTIVO SEGÚN ÁMBITO DEL GASTO (2004 - 2010)"}]
[]
["I-4.4.1"]
[{"$f":"'I-4.4.1'!A6:G6","v":"SERCE (2008): PORCENTAJE DE ESTUDIANTES POR TIPO DE PRUEBA, GRADO Y NIVEL DE DESEMPEÑO SEGÚN PAÍS Y REGIÓN"}]
[]
["I-4.4.2"]
[{"$f":"'I-4.4.2'!A6:J6","v":"PORCENTAJE DE ESTUDIANTES EN EL MAYOR NIVEL DE RENDIMIENTO DE LAS PRUEBAS DE COMPETENCIAS DE PISA POR TIPO DE COMPETENCIA Y AÑOS DE LA PRUEBA SEGÚN PAISES DEL MERCOSUR Y PROMEDIO DE LA OCDE"}]
[]
["I-4.4.3"]
[{"$f":"'I-4.4.3'!A6:J6","v":"PORCENTAJE DE ESTUDIANTES CON EL MENOR NIVEL DE RENDIMIENTO DE LAS PRUEBAS DE COMPETENCIAS DE PISA POR TIPO DE COMPETENCIA Y AÑOS DE LA PRUEBA SEGÚN PAISES DEL MERCOSUR Y PROMEDIO DE LA OCDE"}]
[]
["I-4.5.1"]
[{"$f":"'I-4.5.1'!A6:E6","v":"INDICADORES Y VALORES PARA LA META NACIONAL 3  (2008 - 2010)"}]
[]
[]
["GRÁFICOS"]
[]
["Gráfico I-1.2.1"]
["EVOLUCIÓN COMPARADA DE LA TASA DE ANALFABETISMO TOTAL Y RURAL"]
[]
["Gráfico I-1.2.2"]
["NIVEL EDUCATIVO MÁXIMO ALCANZADO POR LA POBLACIÓN DE 25 A 29 AÑOS EN LOS QUINTILES EXTREMOS DE INGRESO"]
[]
["Gráfico I-1.2.3"]
["EVOLUCIÓN RECIENTE DEL NIVEL EDUCATIVO MÁXIMO ALCANZADO POR LA POBLACIÓN DE 25 A 29 AÑOS EN EL 1ª QUINTIL DE INGRESO (Todo el país, Año 2010)"]
[]
["Gráfico I-1.2.4"]
["EVOLUCIÓN RECIENTE DEL NIVEL EDUCATIVO MÁXIMO ALCANZADO POR LA POBLACIÓN DE 25 A 29 AÑOS EN EL QUINTIL MAYOR DE INGRESO (Todo el país, Año 2010)"]
[]
["Gráfico I-1.2.5"]
["ASISTENCIA A ALGÚN ESTABLECIMIENTO EDUCATIVO POR EDADES SIMPLES SEGÚN QUINTILES DE INGRESO DE LOS HOGARES (Todo el país, Año 2010)"]
[]
["Gráfico I-1.2.6"]
["ASISTENCIA A ALGÚN ESTABLECIMIENTO EDUCATIVO POR EDADES SIMPLES SEGÚN GRANDES ÁREAS (Todo el país, Año 2010)"]
[]
["Gráfico I-1.2.7"]
["ASISTENCIA A ALGÚN ESTABELCIMIENTO EDUCATIVO POR EDADES SIMPLES SEGÚN SEXO (Todo el país, Año 2010)"]
[]
["Gráfico I-1.2.8"]
["MATRICULADOS POR NIVEL EDUCATIVO SEGÚN AÑO LECTIVO (2001-2010)"]
[]
["Gráfico  I-1.2.9"]
["PORCENTAJE DE HOMBRES Y MUJERES EN LA MATRÍCULA POR NIVEL EDUCATIVO. AÑO 2010."]
[]
["Gráfico I-1.2.10"]
["MATRÍCULA POR NIVEL EDUCATIVO SEGÚN GRANDES ÁREAS. AÑO 2010."]
[]
["Gráfico I-1.2.11"]
["MATRÍCULA POR NIVEL EDUCATIVO SEGÚN FORMA DE ADMINISTRACIÓN. AÑO 2010."]
[]
["Gráfico I-1.2.12"]
["PORCENTAJE DE LA POBLACIÓN ENTRE 4 A 11 AÑOS POR ASISTENCIA A ALGÚN ESTABLECIMIENTO EDUCATIVO Y GRUPOS DE EDADES SEGÚN NIVEL EDUCATIVO (Todo el país, Año 2010)"]
[]
["Gráfico I-1.2.13"]
["PORCENTAJE DE LA POBLACIÓN ENTRE 12 A 17 AÑOS POR ASISTENCIA A ALGÚN ESTABLECIMIENTO EDUCATIVO Y GRUPOS DE EDADES SEGÚN NIVEL (Todo el país, Año 2010)"]
[]
["Gráfico I-1.2.14"]
["PORCENTAJE DE LA POBLACIÓN ENTRE 12 A 24 AÑOS POR ASISTENCIA A ALGÚN ESTABLECIMIENTO EDUCATIVO Y GRUPOS DE EDADES SEGÚN NIVEL (Todo el país, Año 2010)"]
[]
["Gráfico I-1.2.15"]
["CULMINACIÓN DE CICLOS EDUCATIVOS PARA EDADES SELECCIONADAS POR QUINTILES DE INGRESO (Todo el país, Año 2010)"]
[]
["Gráfico I-1.2.16"]
["CULMINACIÓN DE CICLOS EDUCATIVOS POR EDADES SELECCIONADAS SEGÚN REGIÓN(Todo el país, Año 2010)"]
[]
["Gráfico I-1.2.17"]
["CULMINACIÓN DE CICLOS EDUCATIVOS POR EDADES SELECCIONADAS SEGÚN SEXO (Todo el país, Años 2006 - 2010)"]
[]
["Gráfico I-1.2.18"]
["CULMINACIÓN DE CICLOS EDUCATIVOS POR EDADES SELECCIONADAS SEGÚN SEXO (Todo el país, Año 2010)"]
[]
["Gráfico I-1.3.1"]
["TASA DE ALFABETISMO SEGÚN ASCENDENCIA. (Todo el país, Año 2010)"]
[]
["Gráfico I-1.3.2"]
["CULMINACIÓN DE CICLOS EDUCATIVOS SEGÚN ASCENDENCIA. (Todo el país, Año 2010)"]
[]
["Gráfico I-1.3.3"]
["ASISTENCIA A ALGÚN ESTABLECIMIENTO EDUCATIVO POR EDADES SIMPLES SEGÚN ASCENDENCIA Y GRANDES ÁREAS. (Todo el país, Año 2010)"]
[]
["Gráfico I-2.1.1"]
["MATRÍCULA DE NIÑOS DE 0 A 5 AÑOS DE EDAD SEGÚN TIPO DE CENTRO AÑO 2010."]
[]
["Gráfico I-2.1.2"]
["MATRÍCULA DE NIÑOS DE 0 A 5 AÑOS DE EDAD POR MODALIDAD SEGÚN GRANDES. ÁREAS AÑO 2010."]
[]
["Gráfico I-2.1.3"]
["MATRÍCULA DE EDUCACIÓN INICIAL (ÓRBITA ANEP) POR GRANDES ÁREAS. AÑOS 2000 - 2010."]
[]
["Gráfico I-2.1.4"]
["MATRÍCULA DE EDUCACIÓN INICIAL (ÓRBITA ANEP) POR FORMA DE ADMINISTRACIÓN. AÑOS 2000 - 2010."]
[]
["Gráfico I-2.2.1"]
["RAZÓN PÚBLICO-PRIVADO Y MATRÍCULA DE EDUCACIÓN PRIMARIA COMÚN POR FORMA DE ADMINISTRACIÓN (2000-2010) "]
[]
["Gráfico I-2.2.2"]
["MATRÍCULA DE ENSEÑANZA PRIMARIA COMÚN POR GRANDES ÁREAS SEGÚN FORMA DE ADMINISTRACIÓN. AÑO 2010."]
[]
["Gráfico I-2.2.3"]
["PORCENTAJE DE NO PROMOVIDOS EN PRIMER AÑO Y DE PRIMERO A SEXTO (Escuela públicas, 2000-2010)"]
[]
["Gráfico I-2.2.4"]
["DIFERENCIA EN EL PORCENTAJE DE NO APROBACIÓN DE 1º A 6º GRADO ENTRE EL PRIMER Y QUINTO QUINTIL DE ESCUELAS CLASIFICADAS POR CONTEXTO SOCIOCULTURAL, SEGÚN REGIÓN. AÑO 2010."]
[]
["Gráfico I-2.3.1"]
["MATRÍCULA DE EDUCACIÓN MEDIA POR MODALIDAD DE ENSEÑANZA. AÑOS (2000-2010)"]
[]
["Gráfico I-2.3.2"]
["MATRÍCULA DE EDUCACIÓN MEDIA POR CICLO(2000-2010)"]
[]
["Gráfico I-2.3.3"]
["MATRÍCULA DE EDUCACIÓN MEDIA BÁSICA POR MODALIDAD DE ENSEÑANZA Y RAZÓN GENERAL / TECNOLÓGICA (2000-2010)"]
[]
["Gráfico I-2.3.4"]
["MATRÍCULA DE EDUCACIÓN MEDIA BÁSICA POR FORMA DE ADMINISTRACIÓN Y RAZÓN PÚBLICO / PRIVADO(2000-2010)"]
[]
["Gráfico I-2.3.5"]
["MATRÍCULA DE EDUCACIÓN MEDIA BÁSICA GENERAL POR REGIÓN SEGÚN FORMA DE ADMINISTRACIÓN. AÑO 2010."]
[]
["Gráfico I-2.3.6"]
["PORCENTAJE DE NO APROBACIÓN, DESVINCULACIÓN Y ENVÍO A EXÁMENES EN CICLO BÁSICO DE EDUCACIÓN MEDIA BÁSICA GENERAL PÚBLICA (2002-2010)"]
[]
["Gráfico I-2.3.7"]
["APROBADOS, NO APROBADOS Y DESVINCULADOS EN EDUCACIÓN MEDIA BÁSICA DEL CETP. AÑO 2010."]
[]
["Gráfico I-2.3.8"]
["MATRÍCULA DE SEGUNDO CICLO DE ENSEÑANZA MEDIA POR MODALIDAD. (2000-2010)"]
[]
["Gráfico I-2.3.9"]
["MATRÍCULA SEGUNDO CICLO DE SECUNDARIA POR FORMA DE ADMINISTRACIÓN. (2000-2010)"]
[]
["Gráfico I-2.3.10"]
["MATRÍCULA DEL CONSEJO DE EDUCACIÓN TÉCNICO PROFESIONAL POR NIVEL. (2000-2010)"]
[]
["Gráfico I-2.4.1"]
["MATRÍCULA DE FORMACIÓN DOCENTE POR AÑO LECTIVO SEGÚN TIPO DE OFERTA. (2000-2010)."]
[]
["Gráfico I-2.4.2"]
["MATRÍCULA DE FORMACIÓN DOCENTE POR AÑO LECTIVO SEGÚN GRANDES ÁREAS (2000-2010)."]
[]
["Gráfico I-2.4.3"]
["EGRESOS DE FORMACIÓN DOCENTE POR AÑO LECTIVO SEGÚN CURSO (2000-2010)"]
[]
["Gráfico I-2.4.4"]
["MATRÍCULA DE NIVEL TERCIARIO NO UNIVERSITARIO DEL ÁREA DE SEGURIDAD Y DEFENSA POR MINISTREIOS SEGÚN AÑO (2000-2010."]
[]
["Gráfico I-2.4.5"]
["MATRÍCULA DE NIVEL TERCIARIO NO UNIVERSITARIO DEL ÁREA DE SEGURIDAD Y DEFENSA POR INSTSITUCIÓN SEGÚN AÑO (2000-2010)."]
[]
["Gráfico I-2.4.6"]
["EGRESO DE NIVEL TERCIARIO NO UNIVERSITARIO DEL ÁREA DE SEGURIDAD Y DEFENSA POR MINISTERIO SEGÚN AÑO (2000-2010)."]
[]
["Gráfico I-2.5.1"]
["EVOLUCIÓN COMPARADA DE LA MATRÍCULA DE GRADO Y POSTGRADO POR AÑO SEGÚN UNIVERSIDADES E INSTITUTOS UNIVERSITARIOS PRIVADOS (2000-2010)."]
[]
["Gráfico I-2.5.2"]
["EVOLUCIÓN COMPARADA DEL INGRESO DE GRADO EN UDELAR Y EN UNIVERSIDADES E INSTITUTOS UNIVERSITARIOS PRIVADOS (2000-2010)."]
[]
["Gráfico I-2.5.3"]
["EVOLUCIÓN COMPARADA DEL INGRESO Y DEL EGRESO EN CARRERAS DE GRADO EN LA UDELAR. AÑOS 2000-2010."]
[]
["Gráfico I-2.5.4"]
["EVOLUCIÓN COMPARADA DEL EGRESO DE GRADO EN UDELAR Y EN UNIVERSIDADES E INSTITUTOS UNIVERSITARIOS PRIVADOS. AÑOS 2000-2010."]
[]
["Gráfico I-2.5.5"]
["EVOLUCIÓN COMPARADA DEL INGRESO Y DEL EGRESO DE GRADO EN LAS UNIVERSIDADES E INSTITUTOS UNIVERSITARIOS PRIVADOS (2000-20109)."]
[]
["Gráfico I-2.5.6"]
["EVOLUCIÓN COMPARADA DEL INGRESO Y DEL EGRESO DE POSTGRADO EN UDELAR Y EN UNIVERIDADES E INSTITUTOS UNIVERSITARIOS PRIVADOS POR AÑO (2000-2010)."]
[]
["Gráfico I-2.5.7"]
["EVOLUCIÓN COMPARADA DEL INGRESO Y EGRESO DE POSTGRADO EN UDELAR (2000-2010)."]
[]
["Gráfico I-2.5.8"]
["EVOLUCIÓN COMPARADA DEL INGRESO Y EGRESO DE POSTGRADO EN LAS UNIVERSIDADES E INSTITUTOS UNIVERSITARIOS PRIVADOS (2000-2010)."]
[]
["Gráfico I-3.2.1"]
["EVOLUCIÓN DEL PRODUCTO BRUTO INTERNO. PRECIO CONSTANTES BASE 2005 EN MILES(2000-2010)."]
[]
["Gráfico I-3.2.2"]
["EVOLUCIÓN DE LA INCIDENCIA DE LA POBREZA Y LA INDIGENCIA (TODO EL PAÍS, 2006-2010)"]
[]
["Gráfico I-3.3.1"]
["SERIE DE GASTO PÚBLICO EN EDUCACIÓN EN MILLONES DE PESOS CONSTANTES DE 2006 (2004-2010)"]
[]
["Gráfico I-3.3.2"]
["GASTO PÚBLICO EN EDUCACIÓN COMO PORCENTAJE DEL PBI Y DEL GASTO TOTAL DEL GOBIERNO CENTRAL (2004-2010)."]
[]
["Gráfico I-3.3.3"]
["EVOLUCIÓN MEDIA DEL SALARIO REAL DOCENTE SEGÚN EL AÑO LECTIVO AÑO 2000 BASE=100 (2000-2010)."]
[]
["Gráfico I-4.1.1 "]
["TASAS DE ANALFABETISMO POR PAÍSES DE LA REGIÓN SEGÚN AÑO LECTIVO (2000-2010)."]
[]
["Gráfico I-4.1.2"]
["TASA DE ANALFABETISMO: URUGUAY COMPARADO CON AGRUPAMIENTOS INTERNACIONALES (% DE POBLACIÓN DE 15 AÑOS O MÁS)"]
[]
["Gráfico I-4.1.3"]
["TASA DE ANALFABETISMO: URUGUAY COMPARADO CON AGRUPAMIENTOS INTERNACIONALES (% DE POBLACIÓN DE 15 AÑOS O MÁS)"]
[]
["Gráfico I 4.2.1"]
["TASAS DE SOBREEDAD EN EDUCACIÓN PRIMARIA POR PAÍSES DE LA REGIÓN SEGÚN AÑO LECTIVO (2000-2008)."]
[]
["Gráfico I 4.2.2"]
["TASAS DE SOBREEDAD EN EDUCACIÓN MEDIA BÁSICA POR PAÍSES DE LA REGIÓN SEGÚN AÑO LECTIVO (2000-2008)."]
[]
["Gráfico I-4.2.3"]
["TASAS DE SOBREEDAD POR NIVEL DE ENSEÑANZA SEGÚN AÑO LECTIVO PARA EL MERCOSUR (2000-2008)."]
[]
["Gráfico I-4.3.1"]
["GASTO PÚBLICO EN EDUCACIÓN COMO PORCENTAJE DEL PBI POR PAÍSES DEL MERCOSUR (2009)"]
[]
["Gráfico I-4.3.2"]
["GASTO PÚBLICO EN EDUCACIÓN COMO PORCENTAJE DEL PBI POR REGIONES DEL MUNDO."]
[]
["Gráfico I-4.4.1"]
["PORCENTAJE DE ESTUDIANTES POR TIPO DE COMPETENCIA SEGÚN AÑO DE LA PRUEBA PISA (Pisa 2006 y 2009)."]

{"sheet":"1.3.1","index":2,"n_rows":75,"n_cols":4,"rows_kept":75,"cut":false,"hidden":false,"merged":[[12,0,12,2],[7,0,7,3],[8,0,8,2],[9,0,9,2],[10,0,10,2],[11,0,11,2],[24,0,24,2],[13,0,13,2],[14,0,14,3],[15,0,15,2],[16,0,16,2],[17,0,17,2],[18,0,18,2],[19,0,19,2],[20,0,20,2],[21,0,21,2],[22,0,22,2],[23,0,23,2],[49,0,49,3],[50,0,50,2],[51,0,51,2],[36,0,36,2],[25,0,25,2],[26,0,26,2],[27,0,27,2],[28,0,28,3],[29,0,29,2],[30,0,30,2],[31,0,31,2],[32,0,32,2],[33,0,33,2],[34,0,34,2],[35,0,35,2],[43,0,43,3],[44,0,44,2],[45,0,45,2],[46,0,46,2],[47,0,47,2],[38,0,38,2],[39,0,39,2],[40,0,40,2],[41,0,41,2],[42,0,42,2],[74,0,74,3],[73,0,73,3],[65,0,65,2],[66,0,66,3],[54,0,54,2],[4,0,4,5],[61,0,61,2],[62,0,62,2],[63,0,63,3],[64,0,64,2],[55,0,55,2],[56,0,56,3],[57,0,57,2],[58,0,58,2],[59,0,59,2],[60,0,60,2],[52,0,52,2],[53,0,53,2],[5,0,5,5],[48,0,48,2],[37,0,37,2]]}
["Ministerio de Educación y Cultura"]
["Dirección de Educación"]
["Área de Investigación y Estadística"]
[]
["Cuadro I-0.0.0"]
["INDICADORES ESCOGIDOS"]
[]
["INICIAL"]
["Cantidad de Jardines de Infantes (Supervisados por CEIP, públicos y privados)",null,null,218]
["Cantidad de Centros CAIF[1]",null,null,382]
["Cantidad de Centros Educativos en la Primera Infancia (RNG)",null,null,527]
["Cantidad de alumnos en Jardines de Infantes (Supervisados por CEIP)",null,null,109819]
["Cantidad de alumnos en Centros CAIF",null,null,49180]
["Cantidad de alumnos en Centros Educativos en la Primera Infancia (RNG)",null,null,21444]
["EDUCACIÓN PRIMARIA"]
["Cantidad de establecimientos",null,null,2548]
["Cantidad de alumnos",null,null,342286]
["% de alumnos de educación pública",null,null,84.5]
["% de alumnos de educación pública en Montevideo",null,null,73.3]
["% de alumnos de educación pública en el Resto del País",null,null,90.6]
["% de alumnos de educación pública Urbana",null,null,93.8]
["Razón Público/Privado en Educación Primaria",null,null,5.5]
["% de alumnos que no aprobaron en 1ero",null,null,13.9]
["% de alumnos que no aprobaron de 1ero a 6to",null,null,6.2]
["% de alumnos que no aprobaron de 1ero a 6to en escuelas rurales",null,null,1.4]
["% de alumnos que no aprobaron de 1ero a 6to en escuelas urbanas",null,null,6.7]
["% de personas de 14 a 15 que culminaron primaria",null,null,95.6]
["% de personas de 15 a 20 que no culminaron educación media básica, no estudian, no trabajan ni buscan trabajo",null,null,9.1]
["EDUCACIÓN MEDIA"]
["Cantidad de establecimientos dependientes del CES",null,null,527]
["Cantidad de establecimientos dependientes del CETP (UTU)",null,null,96]
["% de establecimientos dependientes del CES en Montevideo",null,null,34]
["% de establecimientos dependientes del CETP (UTU) en Montevideo",null,null,32.299999999999997]
["Cantidad de alumnos en Educación Media Básica",null,null,177619]
["Cantidad de alumnos en Educación Media Superior",null,null,145358]
["Razón Público/Privado en Educación Media Básica[2]",null,null,5.2]
["Razón Público/Privado en Educación Media Superior",null,null,5.9]
["% de no aprobación de 1º a 3º año diurno público en Educación Media Básica General",null,null,27.8]
["% de no aprobación de 1º a 3º año diurno público en Educación Media Básica Tecnológica",null,null,20.3]
["% de desvinculación de 1º a 3º año diurno público en Educación Media Básica General",null,null,4.0999999999999996]
["% de desvinculación de 1º a 3º año diurno público en Educación Media Básica Tecnológica",null,null,20.5]
["% de personas de 17 a 18 años que culminaron ciclo básico",null,null,58.2]
["% de personas de 21 a 22 años que culminaron segundo ciclo ",null,null,31.2]
["EDUCACIÓN TERCIARIA"]
["Cantidad de matriculados en cursos de grado en universidades e institutos universitarios",null,null,131013]
["Cantidad de matriculados en ofertas terciarias de Formación Docente",null,null,20191]
["Cantidad de matriculados en ofertas terciarias del Ministerio del Interior y del Ministerio de Defensa Nacional",null,null,603]
["Cantidad de ingresos en cursos de grado en universidades e institutos universitarios",null,null,23597]
["Cantidad de egresos en cursos de grado en universidades e institutos universitarios",null,null,6017]
["LOGRO EDUCATIVO Y ASISTENCIA"]
["% personas de 25 años o más con primaria completa o menos como nivel máximo alcanzado ",null,null,40.4]
["% personas de 25 a 29 años con primaria completa o menos como nivel máximo alcanzado",null,null,20.6]
["Tasa de analfabetismo (Uruguay)",null,null,2]
["Tasa de analfabetismo (MERCOSUR)",null,null,8]
["Tasa de analfabetismo (UNASUR)",null,null,8.1]
["% de jóvenes de 15 a 20 años que no asiste a ningún establecimiento, no trabaja, ni busca trabajo",null,null,12.4]
["CONTEXTO DE LA EDUCACIÓN"]
["Cantidad de alumnos atendidos por el Programa Maestros Comunitarios",null,null,16749]
["Cantidad de alumnos atendidos por los CECAP’s",null,null,1127]
["Alumnos atendidos por el Programa de Educación Física Escolar",null,null,308260]
["Razón alumnos/docente en el Programa Maestros Comunitarios",null,null,30.3]
["Razón alumnos/educadores en los CECAP’s",null,null,8.4]
["Razón alumnos/docente en el Programa de Educación Física Escolar",null,null,315.5]
["GASTO"]
["Gasto público en educación como porcentaje de gasto del Gobierno Central",null,null,18.899999999999999]
["Gasto público en educación como % del PBI (Uruguay)",null,null,4.2]
["PRUEBAS DE RENDIMIENTO INTERNACIONALES"]
[null,"LECTURA","MATEMÁTICAS","CIENCIAS"]
["Posición de Uruguay en SERCE 3er Grado","6 to","3 ero","-"]
["Posición de Uruguay en SERCE 6to Grado","3 ero","2 do","2 do"]
["% de jóvenes (15 años de edad) que en Uruguay obtuvieron el mayor desempeño en PISA 2009",1.8,2.5,1.5]
["% de jóvenes (15 años de edad) que en Uruguay obtuvieron el peor desempeño en PISA 2009",42.1,47,42.6]
[]
["Notas: CAIF incluye Centros Diurnos, y sólo en Montevideo, el Proyecto Nuestros Niños de la IMM."]
["La relación matriculados en educación pública, matriculados en educación privada, se realiza sin incorporar en el sector público la matrícula del CETP (UTU), por no contar con información sobre la matrícula técnico-vocacional en educación media del sector privado."]

{"sheet":"I-1.1.1","index":3,"n_rows":48,"n_cols":6,"rows_kept":48,"cut":false,"hidden":false,"merged":[[4,0,4,5],[5,0,5,5],[6,0,6,5],[7,0,7,1],[8,0,8,1],[7,2,7,3],[8,2,8,3],[7,4,8,4],[9,0,9,5],[10,0,10,5],[11,0,11,1],[12,0,12,1],[13,0,13,1],[11,2,11,3],[12,2,12,3],[13,2,13,3],[11,4,13,4],[14,0,14,5],[15,0,15,5],[16,0,16,1],[17,0,17,1],[18,0,18,1],[16,2,16,3],[17,2,17,3],[18,2,18,3],[16,4,18,4],[16,5,18,5],[30,0,30,5],[19,0,19,5],[20,0,20,5],[21,0,21,1],[22,0,22,1],[21,2,21,3],[22,2,22,3],[21,4,22,4],[21,5,22,5],[23,0,23,5],[24,0,24,5],[25,0,29,1],[25,4,26,4],[27,4,28,4],[31,0,31,5],[32,0,36,1],[32,2,32,3],[33,2,33,3],[34,2,34,3],[35,2,35,3],[36,2,36,3],[32,4,36,4],[32,5,36,5],[37,0,37,5],[38,0,38,5],[39,0,43,1],[39,2,39,3],[39,5,43,5],[40,2,40,3],[41,2,41,3],[42,2,42,3],[43,2,43,3],[44,0,44,5],[45,0,45,5],[46,0,47,0],[46,1,46,5],[47,1,47,5]]}
["Ministerio de Educación y Cultura"]
["Dirección de Educación"]
["Área de Investigación y Estadística"]
[]
["Cuadro I-1.1.1"]
["UNIVERSO CUBIERTO POR EL ANUARIO ESTADÍSTICO DE EDUCACIÓN 2010 POR FORMA DE ADMINISTRACIÓN, MATRÍCULA Y FUENTE DE INFORMACIÓN SEGÚN TIPO DE OFERTA Y NIVEL EDUCATIVO."]
[]
["Nivel",null,"Descripción",null,"Matriculados en 2010","Fuentes"]
["(Edad teórica)",null,"(Oferta por forma de administración)",null,null,"de información"]
[]
[]
["EDUCACIÓN EN LA PRIMERA INFANCIA",null,"PÚBLICO: centros de educación infantil gestionados por organismos públicos (por ej. intendencias).",null,50685,"·Área de Educación en la primera infancia y Área de Investigación y Estadística de la Dirección de Educación del Ministerio de Educación y Cultura – Registro Nacional de Centros de Educación en la Primera Infancia;"]
["0 a 3 años (a)",null,"PRIVADO: Centros de Educación Infantil Privados bajo supervisión del MEC. En todos los casos la matrícula reportada excluye a los niños matriculados en centros que hayan sido habilitados por ANEP.",null,null,"·Sistema de Información Para la Infancia (SIPI) de INAU."]
[null,null,"PÚBLICO/PRIVADO: CAIF (modalidad diaria)."]
[]
[]
["EDUCACIÓN INICIAL",null,"PUBLICO: Establecimientos del Consejo de Educación Inicial y Primaria (CEIP). Jardines y clases jardineras en escuelas de educación común.",null,109819,"·Área de Educación en la primera infancia, Área de Investigación y Estadística de la Dirección de Educación del Ministerio de Educación y Cultura y Departamento de Estadística Educativa del CEIP;"]
["3 a 5 años",null,"PRIVADO: jardines de infantes privados, jardines en colegios privados y clases jardineras en colegios privados (bajo supervisión de ANEP)"]
["(4 y 5 años obligatorio)"]
[]
[]
["EDUCACIÓN PRIMARIA",null,"PUBLICO: Establecimientos del Consejo de Educación Inicial y Primaria",null,342356,"·Sistema de Información Para la Infancia (SIPI) de INAU y Departamento de Estadística Educativa del CEIP."]
["6 a 11 años (obligatorio)",null,"PRIVADO: Establecimientos privados bajo supervisión de ANEP"]
[]
[]
["EDUCACIÓN MEDIA (b)",null,"PUBLICO: establecimientos del Consejo de Educación Secundaria, del Consejo de Educación Técnico Profesional, del Ciclo Básico Rural (7º, 8º y 9º) y los Habilitados Liceo Militar y Escuela Naval.","MEDIA BÁSICA",177619,"·Departamento de Estadística del CES (oficiales, habilitados privados y habilitados militares) a través de bedelías informáticas en establecimientos públicos y de planilla estadística enviadas por establecimientos a los habilitados privados;"]
[null,null,"PRIVADO: liceos habilitados privados bajo supervisión de ANEP.","12 a 14 años (obligatorio)",null,"·Departamento de Estadística del CETP; y"]
[null,null,null,"MEDIA SUPERIOR",145358,"·Departamento de estadística del CEIP (para 7º, 8º y 9º) a través de planillas estadísticas."]
[null,null,null,"15 a 17 años (obligatorio)"]
[null,null,null,"OTROS CURSOS DE EDUCACIÓN TÉCNICA",11912]
[]
[]
["EDUCACIÓN TERCIARIA",null,"INSTIT. TERCIARIOS NO UNIVERSITARIOS ",null,128159,"·División de Estadística de la Dirección General de Planeamiento de la UdelaR, Oficina de información para la gestión de la Dirección de Formación y Perfeccionamiento Docente, unidades de planeamiento y/o asuntos estudiantiles de universidades e institutos universitarios y no universitarios públicos y privados. Todos contestan formulario estadístico enviado por Área de Investigación y Estadística del MEC."]
[null,null,"Públicos: Carreras del Consejo de Formación en Educación, Instituto Superior de Educación Física, Escuela Municipal de Arte Dramático, Centro de Formación del INAU, Centro de Diseño Industrial, Esc. Nacional de Policía, Esc. Militar, Esc. Militar de Aeronáutica y Esc. Naval. "]
[null,null,"Privados: CIEP."]
[null,null,"INSTIT. UNIVERSITARIOS PRIVADOS (Autónomo del Sur, Asociación Cristiana de Jóvenes, CLAEH, Crandon, BIOS, Mariano Soler, Instituto Universitario CEDIIAP)."]
[null,null,"UNIVERSIDADES (Universidad de la República, Universidad Católica, Universidad ORT, Universidad de Montevideo, Universidad de la Empresa)."]
[]
[]
["EDUCACIÓN DE JÓVENES Y ADULTOS SIN NIVEL EDUCATIVO",null,"Centros de Capacitación y Producción (CECAP) y Consejo De Capacitación Profesional (COCAP) del Ministerio de Educación y Cultura",null,2006,"·Área de Educación No Formal de la Dirección de Educación del MEC, Gerencia de Programas Especiales de CODICEN, Oficina Nacional del Servicio Civil e información brindada por las instituciones universitarias."]
[null,null,"Dirección Sectorial de Educación de Jóvenes y Adultos de la ANEP",null,7618]
[null,null,"Escuela de Funcionarios Públicos de la Oficina Nacional del Servicio Civil",null,5540]
[null,null,"Educación no terciaria en universidades e instituciones universitarias privadas",null,4578]
[null,null,"Cursos técnicos de Nivel I y II sin continuidad educativa del CETP (UTU)",null,11912]
[]
[]
["Nota:","(a) Esta definición etaria responde a la lógica de los hechos: prácticamente la mitad de los niños atendidos en Centros de Educación Infantil Privados tienen 3 años (también existe una porción minoritaria de niños de 4 y 5 años). En términos teóricos, este nivel atendería a niños de 0 a 36 meses (o hasta 2 años cumplidos y 11 meses). Algo similar sucede en el caso del nivel “Educación Inicial”, donde la enorme mayoría de los niños tienen 4 o 5 años y cuya definición teórica apuntaría a aquellos de 3, 4 y 5."]
[null,"(b) Media Básica incluye Ciclo Básico Rural, Educación Media Básica General (CEM) y Educación Media Tecnológica Básica(CETP); y Media Superior incluye Ciclo Superior de Secundaria, Bachillerato Tecnológico y Educación Media Tecnológica, Otros Cursos de Educación Técnica, incluyen a los demás cursos de las ofertas de Nivel I y II del CETP."]

{"sheet":"I-1.2.1","index":4,"n_rows":24,"n_cols":7,"rows_kept":24,"cut":false,"hidden":false,"merged":[[8,0,8,1],[9,0,9,1],[10,0,10,1],[4,0,4,6],[5,0,5,6],[6,0,7,1],[6,2,7,2],[6,3,6,4],[6,5,7,5],[6,6,7,6],[11,0,11,1],[12,0,12,1],[17,0,17,1],[23,1,23,6],[18,0,18,6],[19,0,19,6],[21,1,21,6],[22,1,22,6],[16,0,16,1],[20,0,22,0],[20,1,20,6],[14,0,14,1],[15,0,15,1],[13,0,13,1]]}
["Ministerio de Educación y Cultura"]
["Dirección de Educación"]
["Área de Investigación y Estadística"]
[]
["Cuadro I-1.2.1"]
["TASA DE ANALFABETISMO Y PORCENTAJE DE POBLACIÓN POR ÁREA DEMOGRÁFICA SEGÚN AÑO "]
["EDADES",null,"Fuente","TASA",null,"% de población rural  ","% de analfabetos rurales sobre total país"]
[null,null,null,"Total del país","Área Rural"]
[]
[1963,null,"CENSO",8.8000000000000007,15.4,19.2,2.96]
[1975,null,"CENSO",5.7,10.3,17,1.75]
[1985,null,"CENSO",4.3,8.4,12.7,1.06]
[1996,null,"CENSO",3.1,6.2,9.1999999999999993,0.56999999999999995]
[2006,null,"ENHA",2.2000000000000002,3,6.4,0.19]
[2007,null,"ECH",2.1,3.4,6.6,0.21]
[2008,null,"ECH",1.9,3.1,6.2,0.19]
[2009,null,"ECH",1.8,3.4,7.9,0.27]
[2010,null,"ECH",2,3.2,5.8,0.19]
[]
[]
["Fuente:","§   1963 a 1996: Censos de Población. INE."]
[null,"§   2006: Encuesta Nacional de Hogares Ampliada (ENHA) 2006. Condiciones de vida de la población residente en el área rural. Enero-marzo 2006. INE."]
[null,"§   2007, 2008, 2009 y 2010: Elaboración propia con base en las ECH de 2007 a 2010 y las Proyecciones Poblacionales del INE (Área Socio Demográfica)."]
["NOTA:","Las tasas fueron calculadas sobre población con 15 y más años de edad. La evolución de la población rural con base en el total poblacional."]

{"sheet":"I-1.2.2","index":5,"n_rows":17,"n_cols":9,"rows_kept":17,"cut":false,"hidden":false,"merged":[[4,0,4,8],[5,0,5,8],[6,0,7,1],[6,2,6,8],[14,0,14,1],[12,0,12,1],[15,0,15,8],[16,0,16,8],[8,0,8,1],[9,0,9,1],[10,0,10,1],[13,0,13,1]]}
["Ministerio de Educación y Cultura"]
["Dirección de Educación"]
["Área de Investigación y Estadística"]
[]
["Cuadro I-1.2.2"]
["TASA DE ANALFABETISMO SEGÚN TRAMOS DE EDAD."]
["TASA DE ANALFABETISMO",null,"TRAMOS DE EDAD"]
[null,null,"TOTAL","15 a 20 años","21 a 39 años","40 a 49 años","50 a 59 años","60 a 64 años","65 y más años"]
[]
[2006,null,2.2000000000000002,1.2,1.4,1.4,2.1,2.6,4.7]
[2007,null,2.1,1.2,1.3,1.5,1.8,2.2999999999999998,4.7]
[2008,null,1.9,0.9,1.3,1.3,1.9,2,4]
[2009,null,1.8,0.97036101157805343,1.1487000275040851,1.132360342224459,1.4799783076465547,2.3329747324285557,4.2257625143151429]
[2010,null,2,1.2,1.3,1.3,1.8,2.1,4.5]
[]
["Fuentes: Elaboración propia en base a la Encuesta Continua de Hogares 2010."]
["Nota: Población con 15 y más años para todo el país (Año 2006-2010)"]

{"sheet":"I-1.2.3","index":6,"n_rows":29,"n_cols":9,"rows_kept":29,"cut":false,"hidden":false,"merged":[[21,0,21,1],[17,0,17,1],[26,0,26,8],[22,0,22,1],[23,0,23,1],[24,0,24,1],[18,0,18,1],[19,0,19,1],[20,0,20,1],[16,0,16,1],[6,2,6,8],[8,0,8,1],[9,0,9,1],[4,0,4,8],[5,0,5,8],[6,0,7,1],[10,0,10,1],[11,0,11,1],[12,0,12,1],[13,0,13,1],[14,0,14,1],[15,0,15,1]]}
["Ministerio de Educación y Cultura"]
["Dirección de Educación"]
["Área de Investigación y Estadística"]
[]
["Cuadro I-1.2.3"]
["PORCENTAJE DE POBLACIÓN DE 25 AÑOS O MÁS POR TRAMOS DE EDAD SEGÚN NIVEL EDUCATIVO MÁXIMO ALCANZADO."]
["NIVEL EDUCATIVO MÁXIMO ALCANZADO",null,"TRAMOS DE EDAD"]
[null,null,"TOTAL","25 a 29 años","30 a 39 años","40 a 49 años","50 a 59 años","60 a 69 años","70 y más años"]
[]
["TOTAL ",null,100,100,100,100,100,100,100]
[]
["Sin instrucción  ",null,1.7,0.2,0.4,0.5,1,2.1,6]
["Primaria incompleta  ",null,13.2,3.7,4,6.6,12.1,22.5,31.3]
["Primaria completa  ",null,25.5,16.7,20,25,26.3,28.7,34.4]
[]
["HASTA PRIMARIA COMPLETA  ",null,40.4,20.6,24.4,32.1,39.4,53.3,71.7]
[]
["Ciclo Básico Liceo o UTU incompleto ",null,1.6,0.9,1.2,2,2.3797162318189216,1.7791891999627951,1.0515154942320741]
["Ciclo Básico Liceo o UTU completo ",null,2.2999999999999998,1.5,1.4,2.1,3.2755000038744972,2.8235825615540997,2.4920832390861798]
["Ciclo Superior de Secundaria incompleto ",null,9.8000000000000007,14.9,12.9,11.4,9.0345527667785106,7.1762181267356731,4.0907034607554849]
["Ciclo Superior de Secundaria completo ",null,9.5,11.9,13.6,11.5,9.4731458593247524,6.1095682908356475,3.6914725175299705]
["UTU Bachillerato Tecnológico y Cursos Superiores incompleto ",null,13.1,18.7,18,14.3,12.749679062474977,9.9772120277973393,5.6729246776747342]
["UTU Bachillerato Tecnológico y Cursos Superiores completo ",null,7.4,7.5,8.6,8.6,8.8310125094602316,6.5643311763377135,3.8105066726984846]
["Terciaria Incompleta ",null,6.6,16.3,8.9,6.7,4.6075521701059285,3.9503580967060419,2.6750169644876727]
["Terciaria Completa ",null,9.1999999999999993,7.7,11.1,11.3,10.277749795297394,8.3398663282796743,4.8068875819950234]
[]
[]
["Fuentes: Elaboración propia en base a la Encuesta Continua de Hogares 2010."]
["Nota:  Todo el país (Año 2010)"]

{"sheet":"I-1.2.4","index":7,"n_rows":17,"n_cols":24,"rows_kept":17,"cut":false,"hidden":false,"merged":[[16,0,16,23],[4,0,4,23],[5,0,5,23],[6,0,7,0],[0,0,0,7],[2,0,2,7],[1,0,1,7],[14,0,14,23],[15,0,15,23],[6,1,6,23]]}
["Ministerio de Educación y Cultura"]
["Dirección de Educación"]
["Área de Investigación y Estadística"]
[]
["Cuadro I-1.2.4"]
["ASISTENCIA A ALGÚN ESTABLECIMIENTO EDUCATIVO POR EDADES SIMPLES SEGÚN AÑO LECTIVO."]
["AÑO LECTIVO","EDADES SIMPLES"]
[null,0,1,2,3,4,5,6,7,8,9,10,11,12,13,14,15,16,17,18,19,20,21,22]
[]
[2006,"s/d","s/d","s/d",46.3,76.5,95.2,99.3,99.6,99.8,99.8,99.6,99.6,98.5,95.2,90.2,82.1,76.599999999999994,66.900000000000006,55,47,40.5,35.6,34.299999999999997]
[2007,"s/d","s/d","s/d",49.4,78.900000000000006,94.7,99.3,99.5,99.7,99.9,99.8,99.9,99.8,95,88.7,82.1,74.599999999999994,65.5,53.4,46.3,39.299999999999997,37.1,31.5]
[2008,"s/d","s/d","s/d",49.9,81.2,96.4,99,99.1,99.1,99.3,99.1,99.1,97.5,94.3,89.7,82.6,73.3,67.7,52.8,45.3,42.2,39,33.5]
[2009,"s/d","s/d","s/d",58.5,86.61292945248438,97.298278247850646,98.869981972475045,98.739290629022946,98.754299135978528,98.807786388209422,98.947694852181101,98.997861289336996,97.956747508107355,94.538019121601437,91.023978634050053,83.827401851260774,77.651992439754295,70.218525250928636,53.321667264025642,44.923789397958721,41.411301658701156,37.585952556568088,32.662902561368654]
[2010,7.9,24,41.1,61.314638595257456,86.134435015631979,97.337511413629954,99.306235546573888,99.002295971613435,98.760062569150364,99.223755783116204,99.33265998124233,98.548805582893436,98.273465254775431,95.556926874421478,91.218203561847503,82.081624420090094,78.070262083497965,66.42554751825061,49.223131378137353,44.176991868270029,40.547905909351691,36.086682095518618,32.083905715095618]
[]
["Fuentes: Elaboración propia en base a la ENHA 2006 y las ECH 2007 a 2010."]
["Nota: Todo el país (Años 2006 a 2010)"]

{"sheet":"I-1.2.5","index":8,"n_rows":24,"n_cols":5,"rows_kept":24,"cut":false,"hidden":false,"merged":[[9,0,9,1],[19,0,19,1],[22,1,22,4],[16,0,16,1],[21,0,21,4],[12,0,12,1],[20,0,20,1],[0,0,0,4],[1,0,1,4],[2,0,2,4],[8,0,8,4],[4,0,4,4],[5,0,5,4],[6,2,6,4],[6,0,7,1],[23,1,23,4],[10,0,10,1],[11,0,11,1],[14,0,14,4],[15,0,15,4],[18,0,18,1],[17,0,17,1],[13,0,13,1]]}
["Ministerio de Educación y Cultura"]
["Dirección de Educación"]
["Área de Investigación y Estadística"]
[]
["Cuadro I-1.2.5"]
["ASISTENCIA A ALGÚN ESTABLECIMIENTO EDUCATIVO POR EDADES SIMPLES SEGÚN AÑO LECTIVO y PERTENENCIA DE LOS HOGARES A LOS QUINTILES EXTREMOS DE INGRESOS."]
["AÑO LECTIVO",null,"EDADES SIMPLES"]
[null,null,12,13,14]
[" 1er Quintil"]
[2006,null,97.5,93,83.7]
[2007,null,98.5,92.6,81.900000000000006]
[2008,null,96.9,90.2,81.8]
[2009,null,97.548785026851704,91.217481789802292,83.51193106495802]
[2010,null,97.8,92.6,83.7]
[]
["Mayor"]
[2006,null,100,99.2,99.3]
[2007,null,99.1,100,100]
[2008,null,98.3,98.1,99.3]
[2009,null,97.956747508107355,94.538019121601437,91.023978634050053]
[2010,null,99.3,99.2,99.5]
[]
["Fuentes:","Elaboración propia en base a la ENHA 2006 y las ECH 2007 a 2010."]
["Nota:","Todo el país (Años 2006 a 2010)"]

{"sheet":"I-1.2.6","index":9,"n_rows":14,"n_cols":5,"rows_kept":14,"cut":false,"hidden":false,"merged":[[6,0,7,1],[6,2,6,4],[0,0,0,4],[1,0,1,4],[2,0,2,4],[4,0,4,4],[5,0,5,4],[13,1,13,4],[8,0,8,4],[9,0,9,1],[10,0,10,1],[11,0,11,4],[12,1,12,4]]}
["Ministerio de Educación y Cultura"]
["Dirección de Educación"]
["Área de Investigación y Estadística"]
[]
["Cuadro I-1.2.6"]
["DIFERENCIA DE ASISTENCIA ENTRE 2009 Y 2010 POR EDADES SIMPLES SEGÚN 1º QUINTIL Y QUINTIL MAYOR DE INGRESOS DE LOS HOGARES"]
["AÑO LECTIVO",null,"EDADES SIMPLES"]
[null,null,12,13,14]
[]
["1er Quintil",null,0.2,1.3,0.2]
["Quintil mayor",null,1.4,4.5999999999999996,8.5]
[]
["Fuentes:","Elaboración propia en base a la ENHA 2006 y a las ECH 2007 a 2010."]
["Nota:","Todo el país (Años 2006 a 2010)"]

{"sheet":"I-1.2.7","index":10,"n_rows":24,"n_cols":21,"rows_kept":24,"cut":false,"hidden":false,"merged":[[23,0,23,20],[8,0,8,20],[0,0,0,20],[1,0,1,20],[2,0,2,20],[4,0,4,20],[5,0,5,20],[6,0,7,0],[6,1,6,20],[14,0,14,20],[15,0,15,20],[21,0,21,20],[22,0,22,20]]}
["Ministerio de Educación y Cultura"]
["Dirección de Educación"]
["Área de Investigación y Estadística"]
[]
["Cuadro I-1.2.7"]
["ASISTENCIA A ALGÚN ESTABLECIMIENTO EDUCATIVO POR EDADES SIMPLES SEGÚN GRANDES ÁREAS Y AÑO LECTIVO."]
["AÑO LECTIVO","EDADES SIMPLES"]
[null,3,4,5,6,7,8,9,10,11,12,13,14,15,16,17,18,19,20,21,22]
["Montevideo"]
[2006,53.7,79.400000000000006,95.8,99.1,99.5,99.7,99.8,99.6,99.6,99.1,96.8,93.3,86.1,79.099999999999994,72.900000000000006,62.7,55.1,51.3,47.9,46]
[2007,59.6,82.5,94.5,99.1,99.1,99.6,100,99.8,99.9,99.2,96.5,90.7,85.5,80.3,70.400000000000006,60.5,56.9,49.2,49.1,42.6]
[2008,61.5,86.5,96.5,99.1,98.9,99,99.4,98.8,98.9,98.1,96.2,92.8,87.3,79.099999999999994,74.099999999999994,57.6,54.2,51.5,48.5,45.9]
[2009,67.2,86.487770125860834,95.499033349444176,98.563968668407313,98.499790807483109,97.91038104816181,99.372562319823643,99.210324709764862,99.303793734143611,98.463989077255661,96.678808656524538,93.452576304561859,88.594833018273476,81.826049329294676,74.788520421402254,60.941163640329357,51.032891559800397,50.798094396149509,52.026691667126236,41.982310093652444]
[2010,72.170542635658919,88.981481481481481,95.59054203218497,99.014564611093888,98.398470968167132,99.183976261127597,98.477621692257429,99.349204583379688,98.206846585763444,97.946330777656073,96.854704524716865,93.56001253525541,85.876425645000552,82.058264399116268,70.915924419502645,56.75409297486722,52.635064290050217,50.455847877051305,48.623215526920816,44.174183848797249]
[]
["Resto del país"]
[2006,41.9,74.8,94.8,99.4,99.6,99.8,99.8,99.6,99.5,98.2,94.4,88.4,79.7,75.099999999999994,63,49.6,41.8,33.1,25.9,24.5]
[2007,43.3,76.900000000000006,94.8,99.5,99.8,99.7,99.9,99.8,99.8,98.5,94.2,87.7,80.2,71.5,62.5,48.9,38.9,32.700000000000003,27.9,23]
[2008,42.8,78,96.3,98.9,99.2,99.1,99.2,99.3,99.1,97.1,93.4,88.1,79.900000000000006,69.900000000000006,63.6,49.7,39.1,35.200000000000003,31.2,23]
[2009,52.5,86.693379126120973,98.38000799099197,99.063441940577007,98.880768280196307,99.261397972201706,98.485044253504753,98.805770516862523,98.83655820319791,97.683952883585746,93.392386194243784,89.694210668184127,80.906575730279243,75.263125309559186,67.408990843250493,48.51849305651038,40.518475527181273,34.026275115919631,26.627887512554405,24.538485961808863]
[2010,58.024691358024697,86.312807514537056,98.442741622232418,99.468544017669188,99.21690159618781,98.421535444279257,99.618134050223006,99.253202668398373,98.771770031188765,98.723381138635375,95.44851515460762,91.682238139728014,81.296862345533867,77.152317880794698,64.777685574323414,45.58448952683468,39.411094618385171,34.816139488096567,28.911362284354546,23.659183037106331]
[]
["Fuentes: Elaboración propia en base a la ENHA 2006 y las ECH 2007 a 2010."]
["Nota: Todo el país (Años 2006 a 2010)"]

{"sheet":"I-1.2.8","index":11,"n_rows":82,"n_cols":13,"rows_kept":82,"cut":false,"hidden":false,"merged":[[15,1,15,2],[16,1,16,2],[9,0,9,2],[10,1,10,2],[11,0,11,2],[13,1,13,2],[14,1,14,2],[4,0,4,11],[5,0,5,11],[6,0,7,2],[6,3,6,12],[8,0,8,2],[17,1,17,2],[18,1,18,2],[19,0,19,2],[20,1,20,2],[21,1,21,2],[22,1,22,2],[23,1,23,2],[24,1,24,2],[25,1,25,2],[26,1,26,2],[27,1,27,2],[28,1,28,2],[29,0,29,2],[30,1,30,2],[31,1,31,2],[33,1,33,2],[35,1,35,2],[39,1,39,2],[41,1,41,2],[42,1,42,2],[36,0,36,2],[37,0,37,2],[43,1,43,2],[47,1,47,2],[49,0,49,2],[50,1,50,2],[51,1,51,2],[44,0,44,2],[45,0,45,2],[52,1,52,2],[53,1,53,2],[54,1,54,2],[55,0,55,2],[56,1,56,2],[57,1,57,2],[58,1,58,2],[59,1,59,2],[60,1,60,2],[61,1,61,2],[62,1,62,2],[63,1,63,2],[64,0,64,2],[65,1,65,2],[66,1,66,2],[67,1,67,2],[68,1,68,2],[69,1,69,11],[71,0,71,1],[78,0,78,10],[72,0,72,12],[74,12,74,13],[82,0,82,10],[79,0,79,10],[80,0,80,10],[81,0,81,10],[74,0,74,1],[75,0,75,10],[76,0,76,10],[77,0,77,10]]}
["Ministerio de Educación y Cultura"]
["Dirección de Educación"]
["Área de Investigación y Estadística"]
[]
["Cuadro I-1.2.8"]
["MATRÍCULA DEL SISTEMA EDUCATIVO POR AÑO LECTIVO (2001-2010) SEGÚN NIVEL, FORMA DE ADMINISTRACIÓN Y MODALIDAD."]
["NIVEL / FORMA DE ADMINISTRACIÓN / MODALIDAD",null,null,"AÑO LECTIVO"]
[null,null,null,2001,2002,2003,2004,2005,2006,2007,2008,2009,2010]
[]
["TOTAL SISTEMA ",null,null,{"$f":"D12+D20+D30+D50+D56+D65","v":919203},943130,949606,954690,937573,947477,949746,969834,986125,965908]
[]
["Total Educación Pre Primaria ",null,null,{"$f":"D14+D16","v":144150},{"$f":"E14+E16","v":144319},133964,140628,133640,141065,141307,157582,173003,{"$f":"M14+M16","v":160504}]
[]
[null,"Total Primera Infancia1 ",null,{"$f":"11339+27014","v":38353},38096,30345,35413,28069,34429,34429,47928,61112,50685]
[]
[null,"Total Educación Inicial2 ",null,{"$f":"D17+D18","v":105797},{"$f":"E17+E18","v":106223},103619,105215,105571,106636,106878,109654,111891,109819]
[null,"Inicial pública ",null,87155,86906,85628,84612,83546,81833,81176,82649,83854,81875]
[null,"Inicial privada ",null,18642,19317,17991,20603,22025,24803,25702,27005,28037,27944]
[]
["Total Educación Primaria ",null,null,{"$f":"D22+D26","v":358231},{"$f":"E22+E26","v":365004},365495,367428,365840,365879,360653,354852,349271,342356]
[]
[null,"Primaria Común",null,{"$f":"D23+D24","v":349549},{"$f":"E23+E24","v":353826},354843,355568,354777,353528,348579,342498,336865,330548]
[null,"Primaria Común pública ",null,304452,307756,311141,311350,309286,306030,300143,292542,286092,279445]
[null,"Primaria Común privada ",null,45097,46070,43702,44218,45491,47498,48436,49956,50773,51103]
[]
[null,"Primaria Especial",null,{"$f":"D27","v":8682},{"$f":"E27+E28","v":11178},{"$f":"F27+F28","v":10652},11860,11063,12351,12074,12354,12406,11808]
[null,"Primaria Especial pública ",null,8682,9076,8884,8553,8379,8221,7913,7778,7535,7416]
[null,"Primaria Especial privada ",null,"...",2102,1768,3307,2684,4130,4161,4576,4871,4392]
[]
["Total Educación Media ",null,null,{"$f":"D32+D42","v":277487},{"$f":"E32+E42","v":295399},306417,306778,302311,300681,298925,310128,320420,322977]
[]
[null,"Total Educación Media Básica",null,{"$f":"D34+D36+D40","v":157389},{"$f":"E34+E36+E40","v":162664},164180,161736,158131,160028,160367,171502,{"$f":"L34+L36+L40","v":177015},{"$f":"M34+M36+M40","v":177619}]
[]
[null,"Ciclo Básico Rural (7mo, 8vo y 9no) ",null,1037,1498,1771,1869,1797,1818,1784,2028,1991,1934]
[]
[null,"Total Media Básica General",null,{"$f":"D37+D38","v":142102},{"$f":"E37+E38","v":146588},147146,144374,140743,142350,142420,151798,155409,155444]
["Media Básica General Pública",null,null,120226,125367,127162,123869,120487,121195,120960,127681,130013,130073]
["Media Básica General Privada3 ",null,null,21876,21221,19984,20505,20256,21155,21460,24117,25396,25371]
[]
[null,"Media Básica Tecnológica",null,{"$f":"'[1]CB MEDIA'!C4","v":14250},{"$f":"'[1]CB MEDIA'!D4","v":14578},{"$f":"'[1]CB MEDIA'!E4","v":15263},{"$f":"'[1]CB MEDIA'!F4","v":15493},{"$f":"'[1]CB MEDIA'!G4","v":15591},{"$f":"'[1]CB MEDIA'!H4","v":15860},{"$f":"'[1]CB MEDIA'!I4","v":16163},{"$f":"'[1]CB MEDIA'!J4","v":17676},{"$f":"'[1]CB MEDIA'!K4","v":19615},{"$f":"'[1]CB MEDIA'!L4","v":20241}]
[]
[null,"Total Educación Media Superior",null,{"$f":"D44+D48","v":120098},{"$f":"E44+E48","v":132735},142237,145042,144180,140653,138558,138626,143405,145358]
[]
[null,"Total Media Superior General",null,{"$f":"D45+D46","v":112639},{"$f":"E45+E46","v":122617},129454,127356,124512,119418,112877,110507,112664,113327]
["Media Superior General Pública",null,null,99008,108589,115157,112669,108459,103938,97136,94506,96319,96902]
["Media Superior General Privada3 ",null,null,13631,14028,14297,14687,16053,15480,15741,16001,16345,16425]
[]
[null,"Total Media Superior Tecnológica",null,{"$f":"'[1]CS MEDIA'!C4","v":7459},{"$f":"'[1]CS MEDIA'!D4","v":10118},{"$f":"'[1]CS MEDIA'!E4","v":12783},{"$f":"'[1]CS MEDIA'!F4","v":17686},{"$f":"'[1]CS MEDIA'!G4","v":19668},{"$f":"'[1]CS MEDIA'!H4","v":21235},{"$f":"'[1]CS MEDIA'!I4","v":25681},{"$f":"'[1]CS MEDIA'!J4","v":28119},{"$f":"'[1]CS MEDIA'!K4","v":30741},{"$f":"'[1]CS MEDIA'!L4","v":32031}]
[]
["Total Educación Técnica ",null,null,{"$f":"D52+D54","v":37304},{"$f":"E52+E54","v":36416},37219,32372,27146,28840,24419,19957,{"$f":"L52+L54","v":16769},{"$f":"M52+M54","v":11912}]
[]
[null,"Nivel Básico Tecnológico  ",null,20149,20154,21719,20724,18180,19336,18539,16387,13653,9800]
[]
[null,"Nivel Superior Tecnológico  ",null,17155,16262,15500,11648,8966,9504,5880,3570,3116,2112]
[]
["Total Educación Terciaria No Universitaria ",null,null,{"$f":"D58+D63","v":22353},22231,26649,27834,26233,27263,28395,29465,28130,{"$f":"M58+M63","v":28263}]
[]
[null,"Terciaria No Universitaria Pública ",null,{"$f":"D59+D60+D61+D62","v":19470},{"$f":"E59+E60+E61+E62","v":21758},25405,27389,25928,27132,28242,29290,28034,{"$f":"M59+M60+M61+M62","v":28215}]
[null,"Formación docente ",null,14788,16610,19298,20968,20435,21175,21992,22108,20391,20191]
[null,"Terciaria Tecnológica (CETP)",null,2314,2564,3514,3671,4024,3961,3896,4650,4964,6158]
[null,"Terciaria Policial o Militar",null,591,620,623,653,679,724,652,557,649,603]
[null,"Otras terciaria pública4 ",null,1777,1964,1970,2097,790,1272,1702,1975,2030,1263]
[null,"Terciaria No Universitaria Privada5 ",null,2883,473,1244,445,305,131,153,175,96,48]
[]
["Total Educación Universitaria6 ",null,null,{"$f":"D67+D69","v":79678},{"$f":"E67+E69","v":79761},79862,79650,82403,83749,96047,97850,98532,{"$f":"M67+M69","v":99896}]
[]
[null,"Universitaria Pública (UdelaR) 7 ",null,70156,70156,70156,70156,70156,70156,81774,81774,81774,81774]
[]
[null,"Universitaria Privada ",null,9522,9605,9706,9494,12247,13593,14273,16076,16758,18122]
[]
[]
["Fuentes:"]
["Departamentos de Estadística (u oficinas productoras de información) del CEIP, CES y CETP y de la Universidad de la República,  Dirección de Formación y Perfeccionamiento Docente, e instituciones privadas de educación terciaria."]
[]
["Nota:"]
["1. Los datos de primera infancia de 2006 fueron corregidos para 2007, ya que por error se contabilizaron centros pertenecientes al censo 2007 que eran reportados por primaria."]
["2. En el caso de CAÍF solo se tomaron niños de 2 a 5 años que son los que asisten a inicial, no se tomaron los niños de 0 a 2."]
["3. Los datos de secundaria privada corresponden a la educación secundaria habilitada, que se componen en su gran mayoría por liceos privados a los que se suma el Liceo Militar y el bachillerato de la Escuela Naval."]
["4. La baja significativa de matriculados en la categoría “Otras terciaria pública” responde a que el ISEF no reportó información para el año 2005 y sí lo había hecho en 2004 (1181 matriculados). En 2006 y 2007 reportó en UdelaR porque pasó a formar parte de Terciaria Universitaria, al igual que el C.D.I para el año 2010. "]
["5. Algunas instituciones de educación terciaria no universitaria privada fueron reportadas en distintos niveles a lo largo de la serie o bien no reportaron en algunos de los años, lo que explica la irregularidad de la evolución de la matrícula en este nivel."]
["6. Los datos de enseñanza terciaria universitaria pública corresponden a carreras cortas y de grado (excluyen carreras de postgrado)."]
["7. Los datos de UdelaR del 2000 a 2006 corresponde a una proyección realizada del Censo 1999 de carreras de grado. El dato de 2007-2010 corresponde al Censo 2007 (en ambos casos no incluyen carreras de postgrado)"]

{"sheet":"I-1.2.9","index":12,"n_rows":40,"n_cols":11,"rows_kept":40,"cut":false,"hidden":false,"merged":[[16,0,16,1],[10,0,10,1],[36,1,36,10],[35,0,35,10],[37,0,39,0],[37,1,37,10],[38,1,38,10],[39,1,39,10],[14,0,14,1],[15,0,15,1],[11,0,11,1],[12,0,12,1],[13,0,13,1],[0,6,2,10],[8,6,8,7],[4,0,4,10],[5,0,5,10],[6,0,9,1],[6,2,6,10],[7,2,7,4],[7,5,7,7],[7,8,7,10],[8,8,9,8],[8,9,8,10],[8,2,9,2],[8,3,8,4],[8,5,9,5]]}
["Ministerio de Educación y Cultura"]
["Dirección de Educación"]
["Área de Investigación y Estadística"]
[]
["Cuadro I-1.2.9"]
["MATRICULA POR NIVEL Y FORMA DE ADMINISTRACIÓN SEGÚN GRANDES ÁREAS Y DEPARTAMENTO."]
["GRANDES ÁREAS / DEPARTAMENTO",null,"NIVEL / FORMA DE ADMINISTRACIÓN"]
[null,null,"EDUCACIÓN INICIAL",null,null,"EDUCACIÓN PRIMARIA",null,null,"EDUCACIÓN MEDIA"]
[null,null,"Total","FORMA DE ADMINISTRACIÓN",null,"Total","FORMA DE ADMINISTRACIÓN",null,"Total","FORMA DE ADMINISTRACIÓN"]
[null,null,null,"Pública","Privada",null,"Pública","Privada",null,"Pública","Privada"]
[]
["TOTAL ",null,109819,81875,27944,342356,286861,55495,322977,281181,41796]
[null,null,100,74.554494213205373,25.445505786794637,100,83.790265104160582,16.209734895839421,100,87.05914043414856,12.94085956585144]
["MONTEVIDEO ",null,40760,24014,16746,122062,88439,33623,122450,93936,28514]
[null,null,100,58.915603532875373,41.084396467124634,100,72.454162638659042,27.545837361340958,100,76.713760718660666,23.28623928133932]
["RESTO DEL PAÍS ",null,69059,57861,11198,220294,198422,21872,200527,187245,13282]
[null,null,100,83.78487959570802,16.215120404291984,100,90.071449971401847,9.9285500285981456,100,93.376453046223205,6.623546953776799]
["Artigas ",null,2580.0000000000005,2505.0000000000005,75,9666,9429,237,8782,8782,0]
["Canelones ",null,16803,13027,3776,53843,46620,7223,48568,43953,4615]
["Cerro Largo ",null,2964.0000000000005,2656.0000000000005,308,10264,9678,586,9083,8775,308]
["Colonia ",null,4144,3559,585,11648,10921,727,11757,11691,66]
["Durazno ",null,1911,1722,189,6785,6217,568,6154,5824,330]
["Flores ",null,866,677,189,2707,2323,384,2739,2487,252]
["Florida ",null,2293.9999999999995,2056.9999999999995,237,6986,6599,387,6546,6206,340]
["Lavalleja ",null,2164,1779,385,6053,5404,649,5845,5632,213]
["Maldonado ",null,6086,4046,2040,18005,13985,4020,16168,13426,2742]
["Paysandú ",null,4082,3571,511,13921,12457,1464,11568,10663,905]
["Río Negro ",null,2177.0000000000005,1891.0000000000005,286,6760,6181,579,5551,5511,40]
["Rivera ",null,4127,3678.0000000000005,449,12817,12152,665,11869,11167,702]
["Rocha ",null,2444,2189,255,7679,7185,494,7195,6901,294]
["Salto ",null,4959,4169,790,15609,14275,1334,13359,12558,801]
["San José ",null,3329,3054,275,11012,10402,610,10408,9927,481]
["Soriano ",null,3038,2717,321,10040,8950,1090,9024,8729,295]
["Tacuarembó ",null,3404,2961,443,10969,10308,661,10360,9767,593]
["Treinta y Tres ",null,1687,1603,84,5530,5336,194,5551,5246,305]
[]
["Fuente:","Departamentos de Estadísticas del C.E.P., C.E.S. y C.E.T.P."]
["Notas:","* Educación Inicial solo incluye órbita ANEP"]
[null,"* Educación Primaria incluye común y especial."]
[null,"* Educación media incluye enseñanza secundaria, ciclo básico rural (7º, 8º y 9º) y enseñanza técnica. En el caso de enseñanza secundaria, se cuentan como privadas las instituciones habilitadas que incluye al Liceo Militar y la Escuela Naval. En el caso de enseñanza técnica se consideran únicamente a los alumnos del Consejo de Educación Técnico Profesional de cursos de nivel medio (no considera los de nivel terciario)."]

{"sheet":"I-1.2.10","index":13,"n_rows":25,"n_cols":7,"rows_kept":25,"cut":false,"hidden":false,"merged":[[19,0,19,1],[24,1,24,6],[20,0,20,1],[21,0,21,1],[22,0,22,6],[15,0,15,1],[18,0,18,1],[17,0,17,1],[16,0,16,1],[14,0,14,1],[10,0,10,1],[11,0,11,1],[12,0,12,1],[13,0,13,1],[0,0,0,6],[1,0,1,6],[2,0,2,6],[9,0,9,1],[4,0,4,6],[5,0,5,6],[6,2,6,6],[8,0,8,1],[6,0,7,1]]}
["Ministerio de Educación y Cultura"]
["Dirección de Educación"]
["Área de Investigación y Estadística"]
[]
["Cuadro I-1.2.10"]
["JÓVENES DE 15 A 20 AÑOS DE EDAD POR ASISTENCIA A ALGÚN ESTABLECIMIENTO DE EDUCACIÓN Y ACTIVIDAD SEGÚN NIVEL EDUCATIVO MÁXIMO ALCANZADO"]
["NIVEL EDUCATIVO MÁXIMO ALCANZADO",null,"ASISTENCIA A ALGÚN ESTABLECIMIENTO DE EDUCACIÓN Y ACTIVIDAD"]
[null,null,"TOTAL","Asiste y trabaja o busca trabajo","Asiste y no trabaja ni busca trabajo","No Asiste y trabaja o busca trabajo","No asiste, no trabaja y no busca trabajo"]
[]
["TOTAL ",null,100,13.248040488555491,48.197970763608389,26.162483169840357,12.391505577995767]
[null,null,{"$f":"D11+E11+F11+G11","v":0.15207251394498941},0,0,4.2075399115214466E-3,0.14786497403346796]
["Sin instrucción ",null,{"$f":"D12+E12+F12+G12","v":1.081938834391229E-2},0,0,0,1.081938834391229E-2]
["Primaria incompleta ",null,2.764954798999808,0.11961434891325255,0.53706241584920178,0.90101461819580686,1.2072634160415465]
["Primaria completa ",null,10.691058376610886,0,0,6.6082419696095407,4.0828164070013466]
["Ciclo Básico Liceo o UTU incompleto ",null,1.4080231775341412,0.30594825928063091,0.65517407193691102,0.30053856510867477,0.1463622812079246]
["Ciclo Básico Liceo o UTU completo ",null,0.4532121561838815,0,0,0.35433496826312749,9.8877187920753992E-2]
["Ciclo Superior de Secundaria incompleto ",null,29.625589055587611,3.4706193498749762,14.381972494710521,8.2122162915945367,3.5607809194075779]
["Ciclo Superior de Secundaria completo ",null,6.4871249278707452,0,0,4.8999807655318337,1.5871441623389115]
["UTU Bachillerato Tecnológico y Cursos Superiores incompleto ",null,37.683629063281401,6.9655823235237539,26.398405943450665,3.4853457395653007,0.83429505674168114]
["UTU Bachillerato Tecnológico y Cursos Superiores completo ",null,1.9171355068282363,0,0,1.2661689748028468,0.65096653202538945]
["Terciaria Incompleta ",null,8.7387598576649363,2.3862762069628776,6.2253558376610885,8.8959415272167733E-2,3.8168397768801696E-2]
["Terciaria Completa ",null,6.7621177149451817E-2,0,0,4.1474321984997113E-2,2.6146855164454703E-2]
[]
["Fuentes: Elaboración propia en base a la ECH 2010."]
["Nota: Todo el país (Año 2010)"]

{"sheet":"I-2.1.1","index":14,"n_rows":15,"n_cols":5,"rows_kept":15,"cut":false,"hidden":false,"merged":[[14,1,14,4],[8,0,8,1],[9,0,9,1],[10,0,10,1],[11,0,11,1],[12,0,12,1],[13,0,13,4],[6,0,7,1],[6,2,6,4],[0,0,0,3],[1,0,1,3],[2,0,2,3],[4,0,4,4],[5,0,5,4]]}
["Ministerio de Educación y Cultura"]
["Dirección de Educación"]
["Área de Investigación y Estadística"]
[]
["Cuadro I-2.1.1"]
["TASA NETA DE MATRICULACIÓN ENTRE LOS NIÑOS DE 3 A 5 AÑOS POR AÑO LECTIVO Y TRAMOS DE EDAD"]
["Tramos de edad",null,"Año Lectivo"]
[null,null,2008,2009,2010]
[]
["3 a 5 años",null,76.8,81.2,81.900000000000006]
[]
["4 y 5 años",null,88.9,92,91.9]
[]
[]
["Fuentes:","Elaboración propia en base en las ECH 2008, 2009 y 2010 del INE."]

{"sheet":"I-2.2.1","index":15,"n_rows":19,"n_cols":4,"rows_kept":19,"cut":false,"hidden":false,"merged":[[9,0,9,1],[10,0,10,1],[11,0,11,1],[16,0,16,1],[17,0,17,3],[18,0,18,3],[12,0,12,1],[13,0,13,1],[14,0,14,1],[15,0,15,1],[6,0,6,1],[7,0,7,1],[0,0,0,3],[1,0,1,3],[2,0,2,3],[4,0,4,3],[5,0,5,3]]}
["Ministerio de Educación y Cultura"]
["Dirección de Educación"]
["Área de Investigación y Estadística"]
[]
["Cuadro I-2.2.1"]
["MATRÍCULA EN EDUCACIÓN PRIMARIA ESPECIAL SEGÚN REGIÓN Y FORMA DE ADMINISTRACIÓN"]
["REGIÓN Y FORMA DE ADMINISTRACIÓN",null,"Cantidad absoluta","Porcentaje"]
[]
["TOTAL ",null,{"$f":"C12+C13","v":11808},100]
[]
["REGIÓN"]
["Montevideo ",null,{"$f":"'II-2.2.2'!H11+'II-2.2.5'!G13","v":5543},{"$f":"C12/(C12+C13)*100","v":46.942750677506773}]
["Resto del país ",null,{"$f":"'II-2.2.2'!H12+'II-2.2.5'!G14","v":6265},{"$f":"100-D12","v":53.057249322493227}]
[]
["FORMA DE ADMINISTRACIÓN"]
["Público ",null,{"$f":"'II-2.2.2'!H10","v":7416},{"$f":"C16/(C16+C17)*100","v":62.804878048780488}]
["Privado ",null,{"$f":"'II-2.2.5'!G11","v":4392},{"$f":"100-D16","v":37.195121951219512}]
[]
["Fuentes: Elaboración propia en base a información del Departamento de Estadística del CEP"]

{"sheet":"I-2.2.2","index":16,"n_rows":16,"n_cols":13,"rows_kept":16,"cut":false,"hidden":false,"merged":[[6,2,6,12],[11,0,11,1],[15,0,15,9],[12,0,12,1],[13,0,13,1],[14,0,14,10],[10,0,10,1],[8,0,8,1],[9,0,9,1],[6,0,7,1],[1,0,1,12],[0,0,0,12],[2,0,2,12],[4,0,4,12],[5,0,5,12]]}
["Ministerio de Educación y Cultura"]
["Dirección de Educación"]
["Área de Investigación y Estadística"]
[]
["Cuadro I-2.2.2"]
["MATRÍCULA EN EDUCACIÓN PRIMARIA PÚBLICA COMÚN POR AÑO LECTIVO SEGÚN ÁREAS DEMOGRÁFICAS (2000 – 2010)"]
["ÁREAS DEMOGRÁFICAS",null,"AÑO LECTIVO"]
[null,null,2000,2001,2002,2003,2004,2005,2006,2007,2008,2009,2010]
[]
["Urbana ",null,285077,288168,291484,294182,293879,292143,285826,280554,273491,267638,{"$f":"'II-2.2.3'!D12","v":262192}]
["Rural ",null,16105,16284,16272,16959,17471,17143,20204,19589,19051,18454,{"$f":"'II-2.2.3'!J12","v":17253}]
[]
[]
["% Urbana ",null,94.7,94.7,94.7,94.5,94.4,94.5,93.4,93.5,93.5,93.549627392586999,{"$f":"M10/(M10+M11)*100","v":93.82597648911235}]
[]
["Fuentes: Elaboración propia en base al Departamento de Estadística del CEIP."]

{"sheet":"I-2.2.3","index":17,"n_rows":23,"n_cols":4,"rows_kept":23,"cut":false,"hidden":false,"merged":[[22,1,22,3],[11,0,11,1],[12,0,12,1],[13,0,13,1],[14,0,14,1],[15,0,15,1],[16,0,16,1],[17,0,17,1],[18,0,18,1],[19,0,19,1],[20,0,20,1],[21,0,21,3],[10,0,10,1],[0,0,0,3],[0,4,0,6],[1,0,1,3],[1,4,1,6],[2,0,2,3],[2,4,2,6],[4,0,4,3],[5,0,5,3],[6,0,7,1],[8,0,8,1],[9,0,9,1]]}
["Ministerio de Educación y Cultura"]
["Dirección de Educación"]
["Área de Investigación y Estadística"]
[]
["Cuadro I-2.2.3"]
["PORCENTAJE DE ASISTENCIA INSUFICIENTE Y ABANDONO INTERMITENTE DE  1º A 6º GRADO EN EDUCACIÓN PRIMARIA COMÚN PÚBLICA SEGÚN REGIONES Y CONTEXTO 1er QUINTIL Y QUINTIL MAYOR (AÑO 2010)"]
[null,null,"ASISTENCIA","ABANDONO"]
[null,null,"INSUFICIENTE","INTERMITENTE"]
[]
["TOTAL",null,7.2,1.2]
[]
["MONTEVIDEO ",null,9.6,0]
["RESTO DEL PAÍS ",null,6.2,1]
[]
[]
["1Quintil-Urbano ",null,11.8,2.1]
["1Quintil-Rural ",null,8,1.3]
[]
["5Quintil-Urbano ",null,3.6,0.7]
["5Quintil-Rural ",null,3.8,0.8]
[]
[]
["Fuentes:","Monitor Educativo de Enseñanza Estado de Situación 2010  y Elaboración propia en base a datos de CEIP."]

{"sheet":"I-2.3.1","index":18,"n_rows":23,"n_cols":6,"rows_kept":23,"cut":false,"hidden":false,"merged":[[18,0,21,5],[22,0,22,5],[5,0,5,4],[17,0,17,5],[11,0,13,0],[14,0,14,2],[15,0,15,3],[6,1,7,1],[6,2,6,4],[8,0,10,0],[16,0,16,5]]}
["Ministerio de Educación y Cultura"]
["Dirección de Educación"]
["Área de Investigación y Estadística"]
[]
["Cuadro I-2.3.1"]
["NO APROBADOS Y DESVINCULADOS EN EDUCACIÓN MEDIA BÁSICA PÚBLICA POR GRANDES ÁREAS SEGÚN MODALIDAD Y GRADO (Turno diurno)"]
[null,"GRADO","GRANDES ÁREAS"]
[null,null,"TOTAL","Montevideo","Interior","Desvinculados"]
["Educación Media Básica General (CES)","Primero",29.4,42.9,24,4.7]
[null,"Segundo",25.4,35.700000000000003,20.8,3.6]
[null,"Tercero",27.8,37.1,23,3.7]
["Educación Media Básica Tecnológica (CETP)","Primero",20.396039603960396,20.656370656370658,20.351342393105735,23.267326732673268]
[null,"Segundo",21.26530612244898,23.458445040214475,20.871449205584977,17.102040816326529]
[null,"Tercero",18.730964467005077,20.326678765880217,18.471525523753318,19.923857868020303]
["Fuentes: Departamento de Estadística del CES"]
["Nota: No incluye  liceos extra edad."]
["La información del CETP refiere al último dato disponible (último dato disponible 2009)"]
["La información del CETP no incluye Formación Profesional Básica Plan 2007 y Ciclo Básico Tecnológico Agrario"]
["Def: CETP- \"Aprobado\" es la categoría que reúne a los alumnos con fallo final de aprobación (Total o Parcial) del curso realizado durante el año t y que lo habilita a cursar el grado (semestre/ módulo) siguiente en t + 1. / \"Desvinculado\" reúne a los alumnos que abandonaron durante el período interanual del año t y, no se encontraron en la matrícula del año t + 1. / \"Repite\" reúne a los alumnos que abandonar o no aprobaron el curso en el año t, y se encuentran en el mismo grado (módulo) y nivel  en el año t + 1 (esta categoría incluye los cambios de orientación)"]
[]
[]
[]
["Def: CES- \"Desvinculados\" Son los alumnos con más de 50 inasistencias, que se desconoce su destino."]

{"sheet":"I-2.3.2","index":19,"n_rows":20,"n_cols":6,"rows_kept":20,"cut":false,"hidden":false,"merged":[[16,0,16,5],[19,0,24,5],[11,0,13,0],[5,0,5,4],[6,1,7,1],[6,2,6,4],[8,0,9,0],[14,0,14,2],[15,0,15,4]]}
["Ministerio de Educación y Cultura"]
["Dirección de Educación"]
["Área de Investigación y Estadística"]
[]
["Cuadro I-2.3.2"]
["NO APROBADOS Y DESVINCULADOS EN EDUCACIÓN MEDIA TECNOLÓGICA SUPERIOR PÚBLICA POR GRANDES ÁREAS SEGÚN MODALIDAD Y GRADO (Turno diurno)"]
[null,"GRADO","GRANDES ÁREAS"]
[null,null,"TOTAL","Montevideo","Interior","Desvinculados"]
["Educación Media Profesional","Primero",8.9115213239974533,10.96946338571005,7.3627844712182062,35.989815404201146]
[null,"Segundo",7.9928952042628776,10.915994304698623,5.423445974134335,22.091474245115453]
["Bachillerato Profesional","Primero",11.610486891385769,11.351351351351353,13.414634146341465,30.711610486891384]
["Educación Media Tecnológica","Primero",14.768782891053633,16.795727636849129,13.305052063247205,32.69510693091479]
[null,"Segundo",15.977011494252874,21.512113617376773,11.288039631988676,17.60536398467433]
[null,"Tercero",14.12202807218562,21.642266072565246,7.9687499999999991,15.955313663706674]
["Fuentes: Departamento de Estadística del CES."]
["Nota: No incluye EMP Especialización, Bachillerato Figari y Curso de Articulación."]
["           La información del CETP refiere al último dato disponible (último dato disponible 2009)"]
["El Bachillerato Profesional es un año único opcional post Educación Media Profesional (EMP) para culminación "]
["de la Educación Media Superior (titulación de Técnico Medio, Bachiller Profesional)"]
["Def: CETP- \"Aprobado\" es la categoría que reúne a los alumnos con fallo final de aprobación (Total o Parcial) del curso realizado durante el año t y que lo habilita a cursar el grado (semestre/ módulo) siguiente en t + 1. / \"Desvinculado\" reúne a los alumnos que abandonaron durante el período interanual del año t y, no se encontraron en la matrícula del año t + 1. / \"Repite\" reúne a los alumnos que abandonar o no aprobaron el curso en el año t, y se encuentran en el mismo grado (módulo) y nivel  en el año t + 1 (esta categoría incluye los cambios de orientación)"]

{"sheet":"I-2.5.1","index":20,"n_rows":38,"n_cols":12,"rows_kept":38,"cut":false,"hidden":false,"merged":[[37,0,37,9],[6,1,6,11],[33,0,33,8],[34,0,34,8],[35,0,35,8],[36,0,36,9]]}
["Ministerio de Educación y Cultura"]
["Dirección de Educación"]
["Área de Investigación y Estadística"]
[]
["Cuadro I-2.5.1"]
["EVOLUCIÓN DE LA MATRÍCULA DE LAS INSTITUCIONES UNIVERSITARIAS (2000 – 2010)"]
["INSTITUCIONES","AÑO LECTIVO"]
["UNIVERSITARIAS",2000,2001,2002,2003,2004,2005,2006,2007,2008,2009,2010]
[]
["TOTAL  ",{"$f":"B12+B22","v":78634},{"$f":"C12+C22","v":79678},79761,79862,79650,85019,86802,131000,132905,133699,135288]
[]
["Total Universidades   ",{"$f":"SUM(B14,B16)","v":78419},{"$f":"SUM(C14,C16)","v":79340},79353,79449,79057,83621,85153,129122,130136,131409,132726]
[]
["UdelaR ",70156,70156,70156,70156,70156,70156,70156,112891,112891,112891,112891]
[]
["Universidades privadas  ",8263,9184,9197,9293,{"$f":"SUM(F17:F20)","v":8901},13465,14997,16231,17245,18518,19835]
["Univ. Católica del Uruguay  ",4057,4180,3591,3849,3286,5580,5911,6401,7126,7227,7996]
["Univ. ORT Uruguay  ",3445,3572,3900,3777,3827,5674,5863,6118,6442,7202,7199]
["Univ. de Montevideo  ",575,775,749,824,916,1300,1612,1956,1938,2025,2175]
["Univ. de la Empresa ",0,609,909,790,872,911,1611,1756,1739,2064,2465]
[]
["Total Inst. Universitarios  ",{"$f":"SUM(B23:B32)","v":215},{"$f":"SUM(C23:C32)","v":338},408,413,593,1398,1649,1878,2769,2290,2562]
["I.U. Autónomo del Sur ",215,211,218,184,195,318,428,414,428,515,605]
["I.U. Asoc. Cristiana de Jóvenes ",0,93,140,141,184,407,508,449,352,346,427]
["I.U. CLAEH ",0,0,0,39,91,283,412,483,483,740,651]
["I.U. Monseñor Mariano Soler ",0,0,0,0,59,65,50,83,54,50,42]
["I.U. Asoc. Psico. del Uru. ",0,0,0,0,35,25,31,29,34,38,40]
["I.U. Crandon ",0,0,0,0,29,60,59,72,21,89,78]
["I.U. San Francisco de Asís ",0,0,0,0,0,83,161,202,202,237,380]
["I.U. Bios ",0,0,0,0,0,157,0,146,178,112,109]
["I.U. Maldonado – P. del Este ","n/c","n/c","n/c","n/c","n/c","n/c","n/c","n/c",1017,"n/c","n/c"]
["I.U. CEDIIAP ",0,34,50,49,0,0,0,0,0,163,230]
[]
["Fuentes: Oficinas productoras de cada una de las instituciones"]
["Nota:   UdelaR incluye tecnicaturas y grado, no incluye matrícula de postgrados"]
["Las Universidades privadas incluyen grado y postgrado. "]
["Para el instituto CEDIIAP no se incluye información de los años anteriores por no haber reportado información en el períodos 2004-2008. "]
["El Instituto Universitario \"Instituto de Estudios para la Salud y el Desarrollo Florence Ninghtingale\" (INSADE), que registrara actividad en los años 2000 a 2003 de la serie presentada, luego no reportó información, por lo cual fue retirado de la tabla. Sin embargo la matrícula correspondiente a dichos años sigue incluida en el ítem \"Total de Institutos Universitarios\"."]

{"sheet":"I-2.5.2","index":21,"n_rows":35,"n_cols":13,"rows_kept":35,"cut":false,"hidden":false,"merged":[[13,0,13,1],[9,0,9,1],[11,0,11,1],[12,0,12,1],[15,0,15,1],[26,0,26,1],[24,0,24,1],[19,0,19,1],[20,0,20,1],[21,0,21,1],[22,0,22,1],[23,0,23,1],[5,0,5,12],[6,2,7,12],[34,0,34,10],[25,0,25,1],[33,0,33,9],[28,0,28,1],[29,0,29,1],[30,0,30,1],[31,0,31,1],[32,0,32,9],[27,0,27,1],[16,0,16,1],[17,0,17,1],[18,0,18,1],[14,0,14,1],[8,0,8,1]]}
["Ministerio de Educación y Cultura"]
["Dirección de Educación"]
["Área de Investigación y Estadística"]
[]
["Cuadro I-2.5.2"]
["INGRESOS A INSTITUCIONES UNIVERSITARIAS POR AÑO LECTIVO SEGÚN ÁREA DE CONOCIMIENTO - (2000 - 2010)"]
["INSTITUCIONES",null,"AÑO LECTIVO"]
["UNIVERSITARIAS"]
[null,null,2000,2001,2002,2003,2004,2005,2006,2007,2008,2009,2010]
[]
["TOTAL ",null,18131,19265,20090,21169,21558,21964,22798,23014,23566,{"$f":"SUM(L13:L31)","v":24981},{"$f":"SUM(M13:M31)","v":26253}]
[]
["Formación de personal docente y ciencias de la educación ",null,315,505,542,588,515,766,911,901,941,709,800]
["Artes ",null,488,539,574,642,710,809,744,752,746,839,1219]
["Humanidades ",null,568,663,709,803,899,967,1038,889,909,791,541]
["Ciencias sociales y del comportamiento ",null,2965,2466,3152,2933,3126,3353,2987,3057,4830,5692,5936]
["Periodismo e información ",null,945,838,1118,1174,972,1170,1219,1036,1038,1049,816]
["Enseñanza comercial y administración ",null,2546,4252,3903,4132,3942,3828,4292,4885,3127,3253,4176]
["Derecho ",null,2378,2033,2047,2087,1828,2000,1837,1754,1850,1855,2031]
["Ciencias de la vida ",null,474,492,515,633,815,785,955,939,818,581,650]
["Ciencias físicas ",null,505,374,545,540,653,624,771,653,687,760,636]
["Matemáticas y estadística ",null,107,142,113,131,324,244,328,329,238,218,155]
["Informática ",null,792,701,749,790,813,843,917,962,1186,1248,1319]
["Ingeniería y profesiones afines ",null,720,676,672,752,767,570,701,633,671,686,856]
["Industria y producción ",null,43,151,172,214,247,114,141,104,111,115,116]
["Arquitectura y construcción ",null,788,704,756,645,602,628,648,665,646,832,770]
["Agricultura, silvicultura y pesca ",null,210,225,176,252,283,398,362,414,436,638,806]
["Veterinaria ",null,295,320,317,381,411,508,484,525,519,533,508]
["Medicina ",null,3673,3817,3573,3960,4135,3633,3572,3562,3888,4823,4361]
["Servicios sociales ",null,311,367,457,498,508,724,573,626,594,87,146]
["Servicios personales ",null,8,0,0,14,8,0,318,328,331,272,411]
[]
["Fuente: Elaboración propia en base información de las oficinas productoras de las instituciones"]
["Nota: Las áreas corresponden a la clasificación CINE 1997 de UNESCO."]
["Al total 2010 se deben sumar 104 estudiantes más que ingresaron al Ciclo Inicial y no pueden ser clasificables por área."]

{"sheet":"I-2.5.3","index":22,"n_rows":33,"n_cols":9,"rows_kept":33,"cut":false,"hidden":false,"merged":[[32,0,32,7],[28,0,28,1],[29,0,29,1],[30,0,30,1],[26,0,26,1],[27,0,27,1],[21,0,21,1],[19,0,19,1],[24,0,24,1],[31,0,31,7],[25,0,25,1],[12,0,12,1],[23,0,23,1],[5,0,5,8],[6,2,6,8],[6,0,7,1],[18,0,18,1],[8,0,8,1],[10,0,10,1],[11,0,11,1],[16,0,16,1],[17,0,17,1],[13,0,13,1],[14,0,14,1],[15,0,15,1],[22,0,22,1],[20,0,20,1]]}
["Ministerio de Educación y Cultura"]
["Dirección de Educación"]
["Área de Investigación y Estadística"]
[]
["Cuadro I-2.5.3"]
["EGRESOS DE INSTITUCIONES UNIVERSITARIAS POR NIVEL ACADÉMICO SEGÚN ÁREA DE CONOCIMIENTO"]
["INSTITUCIONES UNIVERSITARIAS",null,"NIVEL ACADÉMICO"]
[null,null,"TOTAL","%","Carrera corta o tecnicatura","Carrera de grado, licenciatura","Postgrado de especialización","Maestría","Doctorado"]
[]
["TOTAL ",null,{"$f":"SUM(E10:I10)","v":7223},{"$f":"SUM(D12:D30)","v":100},551,5466,516,651,39]
[]
["Formación de personal docente y ciencias de la educación ",null,{"$f":"SUM(E12:I12)","v":235},{"$f":"(C12*100)/$C$10","v":3.2534957773778208},26,49,111,48,1]
["Artes ",null,211,2.9212238681988092,72,139,0,0,0]
["Humanidades ",null,66,0.91374775024228161,4,57,0,5,0]
["Ciencias sociales y del comportamiento ",null,746,10.328118510314274,65,572,71,32,6]
["Periodismo e información ",null,201,2.7827772393742212,11,190,0,0,0]
["Enseñanza comercial y administración ",null,1280,17.721168489547278,179,787,216,98,0]
["Derecho ",null,786,10.881905025612626,0,771,0,15,0]
["Ciencias de la vida ",null,166,2.2982140384881626,4,128,0,25,9]
["Ciencias físicas ",null,158,2.1874567354284924,6,125,2,8,17]
["Matemáticas y estadística ",null,14,0.19382528035442337,0,11,0,3,0]
["Informática ",null,250,3.4611657206147028,6,216,15,12,1]
["Ingeniería y profesiones afines ",null,222,3.0735151599058561,19,189,0,12,2]
["Industria y producción ",null,27,0.3738058978263879,0,27,0,0,0]
["Arquitectura y construcción ",null,341,4.7210300429184553,0,336,4,0,1]
["Agricultura, silvicultura y pesca ",null,279,3.8626609442060085,58,155,42,24,0]
["Veterinaria ",null,105,1.4536896026581754,0,91,0,14,0]
["Medicina ",null,1962,27.163228575384188,95,1455,55,355,2]
["Servicios sociales ",null,123,1.7028935345424339,0,123,0,0,0]
["Servicios personales ",null,51,0.70607780700539946,6,45,0,0,0]
[]
["Fuente: Elaboración propia en base información de las oficinas productoras de las instituciones"]
["Nota: Las áreas corresponden a la clasificación CINE 1997 de UNESCO."]

{"sheet":"I-2.5.4","index":23,"n_rows":34,"n_cols":13,"rows_kept":34,"cut":false,"hidden":false,"merged":[[20,0,20,1],[21,0,21,1],[22,0,22,1],[27,0,27,1],[26,0,26,1],[24,0,24,1],[23,0,23,1],[25,0,25,1],[5,0,5,12],[6,2,7,12],[17,0,17,1],[18,0,18,1],[19,0,19,1],[15,0,15,1],[16,0,16,1],[6,0,6,1],[7,0,7,1],[14,0,14,1],[8,0,8,1],[9,0,9,1],[11,0,11,1],[12,0,12,1],[13,0,13,1],[33,0,33,9],[28,0,28,1],[29,0,29,1],[30,0,30,1],[31,0,31,1],[32,0,32,9]]}
["Ministerio de Educación y Cultura"]
["Dirección de Educación"]
["Área de Investigación y Estadística"]
[]
["Cuadro I-2.5.4"]
["EGRESOS DE INSTITUCIONES UNIVERSITARIAS POR AÑO LECTIVO SEGÚN ÁREA DE CONOCIMIENTO - (2000 - 2010)"]
["INSTITUCIONES",null,"AÑO LECTIVO"]
["UNIVERSITARIAS"]
[null,null,2000,2001,2002,2003,2004,2005,2006,2007,2008,2009,2010]
[]
["TOTAL ",null,4646,4402,5902,5697,6177,5514,6151,6381,7018,{"$f":"SUM(L13:L31)","v":7185},{"$f":"SUM(M13:M31)","v":7223}]
[]
["Formación de personal docente y ciencias de la educación ",null,66,61,81,120,113,136,291,372,399,275,235]
["Artes ",null,40,33,39,60,46,42,104,120,181,184,211]
["Humanidades ",null,80,33,74,33,73,64,76,75,92,90,66]
["Ciencias sociales y del comportamiento ",null,381,534,739,671,655,634,689,641,923,720,746]
["Periodismo e información ",null,120,78,208,249,289,174,191,213,234,242,201]
["Enseñanza comercial y administración ",null,914,865,1328,1509,1205,918,1032,1071,1135,1289,1280]
["Derecho ",null,500,613,686,676,816,781,838,777,886,806,786]
["Ciencias de la vida ",null,97,62,72,73,107,108,141,137,183,169,166]
["Ciencias físicas ",null,110,94,153,118,162,140,105,125,143,154,158]
["Matemáticas y estadística ",null,9,4,6,9,10,12,5,13,27,19,14]
["Informática ",null,285,234,257,194,237,277,235,215,242,260,250]
["Ingeniería y profesiones afines ",null,133,124,187,201,224,214,200,204,194,257,222]
["Industria y producción ",null,0,12,8,16,10,26,16,31,33,24,27]
["Arquitectura y construcción ",null,233,136,294,208,308,437,324,303,280,275,341]
["Agricultura, silvicultura y pesca ",null,226,145,164,161,213,123,126,111,164,301,279]
["Veterinaria ",null,112,49,107,89,91,118,94,55,70,91,105]
["Medicina ",null,1323,1311,1476,1276,1578,1243,1537,1726,1532,1874,1962]
["Servicios sociales ",null,17,14,23,18,33,48,51,47,106,88,123]
["Servicios personales ",null,0,0,0,16,7,19,96,145,194,67,51]
[]
["Fuente: Elaboración propia en base a información brindada por las oficinas productoras de las instituciones"]
["Nota: Las áreas corresponden a la clasificación CINE 1997 de UNESCO."]

{"sheet":"I-2.5.5","index":24,"n_rows":35,"n_cols":9,"rows_kept":35,"cut":false,"hidden":false,"merged":[[6,0,6,1],[6,2,6,8],[7,0,7,1],[7,2,8,3],[7,4,8,4],[7,5,8,5],[7,7,8,7],[7,8,8,8],[8,0,8,1],[7,6,8,6],[9,0,9,1],[11,0,11,1],[12,0,12,1],[13,0,13,1],[14,0,14,1],[15,0,15,1],[16,0,16,1],[17,0,17,1],[18,0,18,1],[19,0,19,1],[20,0,20,1],[21,0,21,1],[22,0,22,1],[23,0,23,1],[24,0,24,1],[25,0,25,1],[26,0,26,1],[27,0,27,1],[28,0,28,1],[29,0,29,1],[30,0,30,1],[31,0,31,1],[32,0,32,7],[33,0,33,7],[34,0,34,8]]}
["Ministerio de Educación y Cultura"]
["Dirección de Educación"]
["Área de Investigación y Estadística"]
[]
["Cuadro I-2.5.5"]
["INGRESOS A INSTITUCIONES UNIVERSITARIAS POR NIVEL ACADÉMICO SEGÚN ÁREA DE CONOCIMIENTO"]
[null,null,"NIVEL ACADÉMICO"]
["INSTITUCIONES UNIVERSITARIAS",null,"TOTAL",null,"Carrera corta o tecnicatura","Carrera de grado, licenciatura","Postgrado de especialización","Maestría","Doctorado"]
[]
[]
["TOTAL ",null,{"$f":"SUM(E11:I11)","v":26253},{"$f":"SUM(D13:D31)","v":99.999999999999986},4129,19364,1169,1478,113]
[]
["Formación de personal docente y ciencias de la educación ",null,{"$f":"SUM(E13:I13)","v":800},{"$f":"(C13*100)/$C$11","v":3.0472707881004077},103,343,230,103,21]
["Artes ",null,1219,{"$f":"(C14*100)/$C$11","v":4.6432788633679962},16,1203,0,0,0]
["Humanidades ",null,541,2.0607168704529006,75,466,0,0,0]
["Ciencias sociales y del comportamiento ",null,5936,22.610749247705023,1014,4453,277,175,17]
["Periodismo e información ",null,816,3.1082162038624159,66,737,9,4,0]
["Enseñanza comercial y administración ",null,4176,15.906753513884128,1988,1553,430,194,11]
["Derecho ",null,2031,7.7362587132899101,0,1898,32,101,0]
["Ciencias de la vida ",null,650,2.4759075153315813,60,501,0,78,11]
["Ciencias físicas ",null,636,2.4225802765398239,14,574,4,17,27]
["Matemáticas y estadística ",null,155,0.59040871519445393,0,149,0,4,2]
["Informática ",null,1319,5.0241877118805469,106,1147,28,31,7]
["Ingeniería y profesiones afines ",null,856,3.2605797432674359,97,667,0,86,6]
["Industria y producción ",null,116,0.44185426427455909,0,116,0,0,0]
["Arquitectura y construcción ",null,770,2.9329981335466422,0,740,30,0,0]
["Agricultura, silvicultura y pesca ",null,806,3.0701253190111606,172,507,75,47,5]
["Veterinaria ",null,508,1.9350169504437589,0,496,0,6,6]
["Medicina ",null,4361,16.611434883632345,234,3467,54,606,0]
["Servicios sociales ",null,146,0.55612691882832443,0,120,0,26,0]
["Servicios personales ",null,411,1.5655353673865844,184,227,0,0,0]
[]
["Fuente: Elaboración propia en base información de las oficinas productoras de las instituciones"]
["Nota: Las áreas corresponden a la clasificación CINE 1997 de UNESCO."]
["Al total de las Carreras Cortas o Tecnicaturas y en el total de Carreras de Grado se deben sumar 104 estudiantes más que  ingresaron al Ciclo Inicial y no pueden ser clasificables por área."]

{"sheet":"I-2.5.6","index":25,"n_rows":20,"n_cols":4,"rows_kept":20,"cut":false,"hidden":false,"merged":[[17,0,17,3],[18,0,18,2],[5,0,5,3]]}
["Ministerio de Educación y Cultura"]
["Dirección de Educación"]
["Área de Investigación y Estadística"]
[]
["Cuadro I-2.5.6"]
["INGRESOS, MATRÍCULA Y EGRESOS SEGÚN FORMA DE ADMINISTRACIÓN EN CANTIDADES ABSOLUTAS Y PORCENTAJES"]
["FORMA DE ADMINISTRACIÓN","INGRESOS","MATRÍCULA","EGRESOS"]
[]
["VALORES ABSOLUTOS"]
["TOTAL ",{"$f":"SUM(B11:B12)","v":23597},{"$f":"SUM(C11:C12)","v":131013},{"$f":"SUM(D11:D12)","v":6017}]
["Universidad de la República ",19467,112891,4784]
["Instituciones Universitarias Privadas ",4130,18122,1233]
[]
["PORCENTAJES"]
["TOTAL ",1,1,1]
["Universidad de la República ",{"$f":"B11/B10*100%","v":0.82497775140907748},{"$f":"C11/C10*100%","v":0.86167784876309983},{"$f":"D11/D10*100%","v":0.79508060495263422}]
["Instituciones Universitarias Privadas ",{"$f":"B12/B10*100%","v":0.17502224859092258},{"$f":"C12/C10*100%","v":0.13832215123690014},{"$f":"D12/D10*100%","v":0.20491939504736581}]
[]
["Fuentes: Elaboración propia en base a información brindada por las oficinas productoras de las instituciones."]
["Nota: Se toma en cuenta solo las ofertas de grado."]

{"sheet":"I-2.6.1","index":26,"n_rows":15,"n_cols":12,"rows_kept":15,"cut":false,"hidden":false,"merged":[[7,3,7,5],[7,6,7,8],[7,9,9,9],[7,10,8,11],[8,3,9,3],[8,4,8,5],[8,6,9,6],[19,0,19,7],[0,0,0,4],[1,0,1,4],[2,0,2,4],[12,0,12,1],[10,0,10,1],[11,0,11,1],[8,7,8,8],[13,0,13,1],[14,0,14,11],[4,0,4,11],[5,0,5,11],[6,0,9,1],[6,2,6,8],[6,9,6,11],[7,2,9,2]]}
["Ministerio de Educación y Cultura"]
["Dirección de Educación"]
["Área de Investigación y Estadística"]
[]
["Cuadro I-2.6.1"]
["ALUMNOS MATRICULADOS EN EL PROGRAMA NACIONAL DE JÓVENES Y ADULTOS POR MODALIDAD, NIVEL Y SEXO SEGÚN GRANDES ÁREAS"]
["GRANDES ÁREAS",null,"ALUMNOS MATRICULADOS EN EDUCACIÓN PRIMARIA",null,null,null,null,null,null,"ALUMNOS MATRICULADOS EN TALLERES"]
[null,null,"TOTAL","PRIMER  TRAMO: NIVEL I",null,null,"PRIMER  TRAMO: NIVEL II",null,null,"TOTAL","SEXO"]
[null,null,null,"Total","SEXO",null,"TOTAL","SEXO"]
[null,null,null,null,"Masculino","Femenino",null,"Masculino","Femenino",null,"Masculino","Femenino"]
[]
["TOTAL ",null,2803,1484,729,755,1319,571,748,4815,1762,3053]
["Montevideo ",null,1144,632,319,313,512,258,254,4151,1398,2753]
["Resto del País ",null,1659,852,410,442,807,313,494,664,364,300]
["Fuentes: ANEP - CODICEN - Programa de Educación de Jóvenes y Adultos."]

{"sheet":"I-2.6.2","index":27,"n_rows":15,"n_cols":8,"rows_kept":15,"cut":false,"hidden":false,"merged":[[16,0,16,1],[0,0,0,4],[1,0,1,4],[2,0,2,4],[9,0,9,1],[11,0,11,1],[12,0,12,1],[13,0,13,1],[14,0,14,7],[8,0,8,1],[5,0,5,7],[6,0,6,7],[7,0,7,1],[7,3,7,4],[7,6,7,7]]}
["Ministerio de Educación y Cultura"]
["Dirección de Educación"]
["Área de Investigación y Estadística"]
[]
[]
["Cuadro I-2.6.2 "]
["ALUMNOS INGRESADOS Y MATRICULADOS EN CECAP POR SEXO SEGÚN GRANDES ÁREAS "]
["NIVEL EDUCATIVO MÁXIMO",null,null,"INGRESADOS",null,null,"MATRICULADOS"]
["ALCANZADO",null,"TOTAL","Masculino","Femenino","TOTAL","Masculino","Femenino"]
[]
["TOTAL ",null,{"$f":"C13+C14","v":958},513,445,1127,592,535]
[]
["Montevideo",null,{"$f":"D13+E13","v":325},152,173,{"$f":"G13+H13","v":348},162,186]
["Resto del país",null,{"$f":"D14+E14","v":633},361,272,{"$f":"G14+H14","v":779},430,349]
["Fuente: Área de Educación No Formal de la Dirección de Educación - MEC"]

{"sheet":"I-2.6.3","index":28,"n_rows":14,"n_cols":7,"rows_kept":14,"cut":false,"hidden":false,"merged":[[0,0,0,4],[1,0,1,4],[2,0,2,4],[13,0,13,1],[12,1,12,6],[8,0,8,1],[10,0,10,1],[11,0,11,6],[9,0,9,1],[4,0,4,6],[5,0,5,6],[6,0,6,1],[7,0,7,1],[6,2,7,2],[6,3,6,4],[6,5,6,6]]}
["Ministerio de Educación y Cultura"]
["Dirección de Educación"]
["Área de Investigación y Estadística"]
[]
["Cuadro I-2.6.3 "]
["ALUMNOS MATRICULADOS EN CURSOS DE EDUCACIÓN TÉCNICA (CETP-UTU) PARA JÓVENES Y ADULTOS POR SEXO Y GRANDES ÁREAS SEGÚN TIPO DE CURSO"]
["NIVEL EDUCATIVO MÁXIMO",null,"TOTAL","SEXO",null,"GRANDES ÁREAS"]
["ALCANZADO",null,null,"Masculino","Femenino","Montevideo","Resto del País"]
["TOTAL ",null,{"$f":"C10+C11","v":11912},{"$f":"D10+D11","v":6217},{"$f":"E10+E11","v":5695},{"$f":"F10+F11","v":5556},{"$f":"G10+G11","v":6356}]
["Nivel Básico ",null,{"$f":"D10+E10","v":9800},4712,5088,4439,5361]
["Nivel Superior ",null,{"$f":"D11+E11","v":2112},1505,607,1117,995]
[]
["Fuente: D.E. - U.T.U"]
["Nota: Todo el país (Año 2010)"]

{"sheet":"I-2.6.4","index":29,"n_rows":15,"n_cols":5,"rows_kept":15,"cut":false,"hidden":false,"merged":[[6,5,6,6],[5,0,5,4],[4,0,4,4],[8,0,8,1],[6,0,6,1],[7,0,7,1],[15,0,15,1],[9,0,9,1],[12,0,12,1],[13,0,13,6],[10,0,10,1],[11,0,11,1],[14,0,14,7],[6,2,7,2],[6,3,6,4],[0,0,0,4],[1,0,1,4],[2,0,2,4]]}
["Ministerio de Educación y Cultura"]
["Dirección de Educación"]
["Área de Investigación y Estadística"]
[]
["Cuadro I-2.6.4 "]
["ALUMNOS MATRICULADOS DEL COCAP SEGÚN TIPO DE CURSO Y ÁREA DE FORMACIÓN"]
["NIVEL EDUCATIVO MÁXIMO",null,"TOTAL","SEXO"]
["ALCANZADO",null,null,"Masculino","Femenino"]
[]
["TOTAL ",null,{"$f":"C12+C13","v":879},{"$f":"D12+D13","v":870},{"$f":"E12+E13","v":9}]
[]
["Cursos Abiertos (Industrial)",null,{"$f":"D12+E12","v":789},780,9]
["Cursos Cerrados (Industrial)",null,{"$f":"D13+E13","v":90},90,0]
[]
["Fuente: COCAP"]

{"sheet":"I-2.6.5","index":30,"n_rows":13,"n_cols":5,"rows_kept":13,"cut":false,"hidden":false,"merged":[[0,0,0,4],[10,0,10,1],[11,0,11,1],[12,0,12,4],[5,0,5,4],[6,0,6,4],[7,0,7,1],[8,0,8,1],[9,0,9,1],[1,0,1,4],[2,0,2,4]]}
["Ministerio de Educación y Cultura"]
["Dirección de Educación"]
["Área de Investigación y Estadística"]
[]
[]
["Cuadro I-1.6.5"]
["FUNCIONARIOS PARTICIPANTES EN LOS CURSOS DE LA ENAP \"DR. AQUILES LANZA\", CANTIDAD DE CURSOS Y HORAS TIPO DE CURSO"]
["GRANDES ÁREAS",null,"FUNCIONARIOS PARTICIPANTES","CANTIDAD DE CURSOS","HORAS"]
["TOTAL ",null,{"$f":"SUM(C10:C12)","v":5540},{"$f":"SUM(D10:D12)","v":292},{"$f":"SUM(E10:E12)","v":11840}]
["Maestría en Políticas y Gestión Pública ",null,20,1,530]
["Programas de Formación: Programa de Dirección Media, Diploma en Gestión Humana y Programa de Desarrollo Administrativo ",null,180,9,3398]
["Cursos y Seminarios ",null,5340,282,7912]
["Fuentes: Oficina Nacional del Servicio Civil - Escuela Nacional de Administración Pública \"Dr. Aquiles Lanza\""]

{"sheet":"I-2.6.6","index":31,"n_rows":14,"n_cols":8,"rows_kept":14,"cut":false,"hidden":false,"merged":[[12,0,12,1],[15,0,15,1],[7,0,8,1],[7,3,7,4],[7,6,7,7],[8,3,8,4],[8,6,8,7],[9,0,9,1],[11,0,11,1]]}
["Ministerio de Educación y Cultura"]
["Dirección de Educación"]
["Área de Investigación y Estadística"]
[]
[]
["Cuadro I-2.6.6 "]
["ALUMNOS INGRESADOS Y MATRICULADOS EN CARRERAS NO TERCIARIAS EN UNIVERSIDADES E INSTITUTOS UNIVERSITARIOS"]
["UNIVERSIDADES E INSTITUTOS UNIVERSITARIOS",null,null,"INGRESADOS",null,null,"MATRICULADOS"]
[null,null,"TOTAL","SEXO",null,"TOTAL","SEXO"]
[null,null,null,"Masculino","Femenino",null,"Masculino","Femenino"]
["TOTAL ",null,{"$f":"C12+C13","v":1032},664,368,4578,3180,1398]
["Universidad ORT Uruguay ",null,{"$f":"D12+E12","v":784},545,239,{"$f":"G12+H12","v":4248},3020,1228]
["Universidad de la Empresa ",null,{"$f":"D13+E13","v":248},119,129,{"$f":"G13+H13","v":330},160,170]
["Fuente: Procesamiento propio en base a datos proporcionados por el  Área de Educación No Formal, Dirección de Educación, MEC."]

{"sheet":"I-2.7.1","index":32,"n_rows":21,"n_cols":4,"rows_kept":21,"cut":false,"hidden":false,"merged":[[4,0,4,3],[5,0,5,3],[6,1,6,3],[0,0,0,4],[1,0,1,4],[2,0,2,4]]}
["Ministerio de Educación y Cultura"]
["Dirección de Educación"]
["Área de Investigación y Estadística"]
[]
["Cuadro I-2.7.1"]
["ESTABLECIMIENTOS DE EDUCACIÓN TÉCNICO PROFESIONAL POR TIPO DE ESTABLECIMIENTO SEGÚN GRANDES ÁREAS."]
[null,"GRANDES ÁREAS"]
[null,"TOTAL","Montevideo","Resto del País"]
["TOTAL",{"$f":"C9+D9","v":117},{"$f":"SUM(C10:C21)","v":27},{"$f":"SUM(D10:D21)","v":90}]
["Ed Básica",{"$f":"C10+D10","v":1},0,1]
["Ed Básica y Superior",12,0,12]
["Ed Superior",6,1,5]
["Terciaria",1,1,0]
["Ed J y A. ",3,2,1]
["Ed Superior y Terciaria",4,1,3]
["Ed Superior y J y A.  ",13,4,9]
["Ed Básica Superior y J y A. ",25,5,20]
["Ed Superior Terciaria y J y A. ",14,9,5]
["Ed Básica, Superior y Terciaria",4,1,3]
["Ed Básica, Superior  J y A.  y Terciaria",31,2,29]
["Ed Terciaria y J y A. ",3,1,2]

{"sheet":"I-2.7.2","index":33,"n_rows":22,"n_cols":11,"rows_kept":22,"cut":false,"hidden":false,"merged":[[6,0,6,1],[5,2,5,10],[6,5,6,7],[7,6,7,7],[7,9,7,10],[0,0,2,10],[15,0,15,10],[6,2,6,4],[9,0,9,1],[7,0,7,1],[11,0,11,1],[7,3,7,4],[8,0,8,1],[12,0,12,1],[13,0,13,1],[14,0,14,1],[6,8,6,10],[10,0,10,1],[3,0,3,10],[4,0,4,10],[5,0,5,1]]}
["Ministerio de Educación y Cultura Dirección de Educación Área de Investigación y Estadística"]
[]
[]
["Cuadro I-2.7.2"]
["ALUMNOS MATRICULADOS EN EDUCACIÓN TÉCNICA POR GRANDES ÁREAS Y SEXO SEGÚN NIVEL Y TIPO DE CURSO"]
["NIVEL",null,"GRANDES ÁREAS"]
["DEL CURSO",null,"TOTAL",null,null,"MONTEVIDEO",null,null,"RESTO DEL PAÍS"]
[null,null,null,"Sexo",null,null,"Sexo",null,null,"Sexo"]
[null,null,"Total","Masculino","Femenino","Total","Masculino","Femenino","Total","Masculino","Femenino"]
[]
["TOTAL ",null,{"$f":"D11+E11","v":70342},{"$f":"SUM(D12:D15)","v":39967},{"$f":"SUM(E12:E15)","v":30375},{"$f":"G11+H11","v":27080},{"$f":"SUM(G12:G15)","v":15995},{"$f":"SUM(H12:H15)","v":11085},{"$f":"J11+K11","v":43262},{"$f":"SUM(J12:J15)","v":23972},{"$f":"SUM(K12:K15)","v":19290}]
["Educación Media Básica ",null,{"$f":"D12+E12","v":20241},{"$f":"G12+J12","v":12407},{"$f":"H12+K12","v":7834},{"$f":"G12+H12","v":3279},2036,1243,{"$f":"J12+K12","v":16962},10371,6591]
["Nivel Básico ",null,{"$f":"D13+E13","v":9800},{"$f":"G13+J13","v":5088},4712,{"$f":"G13+H13","v":4439},2479,1960,{"$f":"J13+K13","v":5361},2609,2752]
["Nivel Superior ",null,{"$f":"D14+E14","v":33858},18503,15355,{"$f":"G14+H14","v":15080},8774,6306,{"$f":"J14+K14","v":18778},9729,9049]
["Terciaria no universitaria ",null,{"$f":"D15+E15","v":6443},3969,2474,{"$f":"G15+H15","v":4282},2706,1576,{"$f":"J15+K15","v":2161},1263,898]
["Fuente: Elaboración propia en base a información del Departamento de Estadísticas CETP - U.T.U"]
["Nota: La presente clasificación de niveles refiere a la adoptada por UTU y no la expuesta en los apartados del Anuario. "]
["De esta manera el lector encontrara discrepancias en las magnitudes producto de la diferencia en los criterios de clasificación. Por ejemplo en "]
["Terciaria no Universitaria la clasificación de UTU añade los cursos de articulación entre niveles (285 alumnos) que en el anuario se presentan en "]
["educación media Superior, constatándose la diferencia con el Capítulo 5. "]
["También es preciso aclarar que la adopción de diferentes clasificaciones no modifica la magnitud global de la matrícula. "]
["de la matrícula de UTU "]

{"sheet":"I-2.7.3","index":34,"n_rows":22,"n_cols":7,"rows_kept":22,"cut":false,"hidden":false,"merged":[[5,0,5,6],[6,0,6,6],[0,0,2,6],[7,3,7,6],[7,0,9,1],[8,3,9,3],[7,2,9,2],[8,4,8,5],[8,6,9,6],[21,0,21,6],[10,0,10,1],[12,0,12,1],[11,0,11,1],[18,0,18,1],[14,0,14,1],[13,0,13,1],[19,0,19,1],[20,0,20,1],[17,0,17,1],[15,0,15,1],[16,0,16,1]]}
["Ministerio de Educación y Cultura Dirección de Educación Área de Investigación y Estadística"]
[]
[]
[]
[]
["Cuadro I-2.7.3"]
["ALUMNOS MATRICULADOS EN EDUCACIÓN MEDIA, TÉCNICA Y TERCIARIA POR NIVEL DEL CURSO SEGÚN SECTORES DE ESTUDIO"]
["ÁREAS\nDE ESTUDIO",null,"TOTAL","NIVEL DEL CURSO"]
[null,null,null,"EDUCACIÒN MEDIA BÀSICA","EDUCACIÓN TÉCNICA",null,"EDUCACIÓNTERCIARIA"]
[null,null,null,null,"NIVEL BASICO","NIVEL SUPERIOR"]
["TOTAL ",null,{"$f":"SUM(D11:G11)","v":70342},{"$f":"SUM(D12:D21)","v":20241},{"$f":"SUM(E12:E21)","v":9800},{"$f":"SUM(F12:F21)","v":33858},{"$f":"SUM(G12:G21)","v":6443}]
["Ciclo Básico  ",null,{"$f":"SUM(D12:G12)","v":16232},16232,"-","-","-"]
["Programas de Articulación entre Niveles ",null,{"$f":"SUM(D13:G13)","v":239},"-","-","-",239]
["Agricultura y pesca ",null,2425,153,123,1821,328]
["Industria ",null,{"$f":"SUM(D15:G15)","v":13712},1910,4616,5136,2050]
["Mantenimiento y Reparación de Vehículos ",null,3041,486,815,1732,8]
["Construcción ",null,3662,18,683,2719,242]
["Comercio, Adm., Informát.y Comunic. ",null,13584,"-","-",11504,2080]
["Informática",null,7254,135,321,6404,394]
["Servicios ",null,8865,1307,1969,4487,1102]
["Artes y Artesanías ",null,1328,0,1273,55,0]
["Fuentes:Departamento de Estadísticas CETP - U.T.U"]

{"sheet":"I-3.1.1","index":35,"n_rows":16,"n_cols":8,"rows_kept":16,"cut":false,"hidden":false,"merged":[[4,0,4,7],[5,0,5,7],[6,0,7,1],[6,2,6,4],[6,5,7,5],[15,0,15,6],[12,0,12,1],[14,0,14,1],[8,0,8,1],[9,0,9,1],[10,0,10,1],[11,0,11,1],[13,0,13,1]]}
["Ministerio de Educación y Cultura"]
["Dirección de Educación"]
["Área de Investigación y Estadística"]
[]
["Cuadro I-3.1.1"]
["ESCUELAS POR GRANDES ÁREAS, MAESTROS Y ALUMNOS DEL PROGRAMA MAESTROS COMUNITARIOS SEGÚN AÑO LECTIVO"]
["AÑO LECTIVO",null,"Escuelas",null,null,"Maestros comunitarios",null,"Alumnos"]
[null,null,"Total","Montevideo","Resto del país",null,null,"atendidos"]
[]
[2005,null,255,97,158,437,null,9292]
[2006,null,252,95,157,433,null,14884]
[2007,null,334,101,233,553,null,18163]
[2008,null,334,100,234,533,null,16802]
[2009,null,337,101,236,553,null,16166]
[2010,null,337,101,236,553,null,16749]
["Fuente: Coordinación Técnica, Programa INFAMILIA / CEP INFAMILIA"]

{"sheet":"I-3.1.2","index":36,"n_rows":16,"n_cols":4,"rows_kept":16,"cut":false,"hidden":false,"merged":[[16,0,16,1],[4,0,4,3],[5,0,5,3],[6,0,7,1],[6,3,7,3],[15,0,15,2],[12,0,12,1],[8,0,8,1],[9,0,9,1],[10,0,10,1],[11,0,11,1],[13,0,13,1],[14,0,14,1]]}
["Ministerio de Educación y Cultura"]
["Dirección de Educación"]
["Área de Investigación y Estadística"]
[]
["Cuadro I-3.1.2"]
["MAESTROS Y ESCUELAS DEL PROGRAMA MAESTROS COMUNITARIOS SEGÚN REQUERIMIENTO"]
["AÑO LECTIVO",null,"Maestros","Escuelas"]
[null,null,"comunitarios"]
[]
["Total ",null,{"$f":"SUM(C12:C14)","v":551},{"$f":"SUM(D12:D14)","v":328}]
[]
["Requerimiento 1 ",null,263,134]
["Requerimiento 2 ",null,168,112]
["Requerimiento 3 ",null,120,82]
[]
["Fuente: Coordinación Técnica, Programa INFAMILIA / CEP INFAMILIA"]

{"sheet":"I-3.1.3","index":37,"n_rows":17,"n_cols":5,"rows_kept":17,"cut":false,"hidden":false,"merged":[[8,0,8,1],[9,0,9,1],[4,0,4,4],[5,0,5,4],[6,0,6,1],[7,0,7,1],[10,0,10,1],[11,0,11,1],[16,0,16,1],[15,0,15,4],[13,0,13,1],[14,0,14,4],[12,0,12,1]]}
["Ministerio de Educación y Cultura"]
["Dirección de Educación"]
["Área de Investigación y Estadística"]
[]
["Cuadro I-3.1.3"]
["EDUCACIÓN FÍSICA ESCOLAR SEGÚN AÑO LECTIVO - (2005 - 2010)"]
["AÑO LECTIVO",null,"Escuelas","Profesores","Alumnos atendidos"]
[]
[2005,null,160,157,67462]
[2006,null,248,238,86473]
[2007,null,245,248,88023]
[2008,null,605,605,213858]
[2009,null,1004,973,325164]
[2010,null,1016,977,308260]
[]
["Fuente: Coordinación Técnica, Programa INFAMILIA / CEP INFAMILIA"]
["Nota: Todo el país (Año 2009)"]

{"sheet":"I-3.1.4","index":38,"n_rows":15,"n_cols":5,"rows_kept":15,"cut":false,"hidden":false,"merged":[[4,0,4,4],[5,0,5,4],[6,0,6,1],[7,0,7,1],[15,0,15,1],[13,0,13,4],[14,0,14,4],[8,0,8,1],[9,0,9,1],[10,0,10,1],[11,0,11,1],[12,0,12,1]]}
["Ministerio de Educación y Cultura"]
["Dirección de Educación"]
["Área de Investigación y Estadística"]
[]
["Cuadro I-3.1.4"]
["EDUCACIÓN FÍSICA ESCOLAR SEGÚN GRANDES ÁREAS – Año 2010"]
["AÑO LECTIVO",null,"Escuelas","Profesores","Alumnos atendidos"]
[]
["Todo el país ",null,{"$f":"SUM(C11:C12)","v":1016},{"$f":"SUM(D11:D12)","v":977},{"$f":"SUM(E11:E12)","v":308260}]
[]
["Montevideo ",null,283,308,94978]
["Resto del país ",null,733,669,213282]
[]
[]
["Fuente: Coordinación Técnica, Programa INFAMILIA / CEP INFAMILIA"]

{"sheet":"I-3.1.5","index":39,"n_rows":29,"n_cols":6,"rows_kept":29,"cut":false,"hidden":false,"merged":[[28,0,28,5],[3,0,3,5],[4,0,4,5],[27,0,27,5]]}
["Ministerio de Educación y Cultura"]
["Dirección de Educación"]
["Área de Investigación y Estadística"]
["Cuadro I-3.1.5"]
["CANTIDAD DE BECAS OTORGADAS POR MODALIDAD Y CICLO SEGÚN DEPARTAMENTO - 2010"]
["DEPARTAMENTO","TOTAL","EDUCACIÓN SECUNDARIA","EDUCACIÓN TÉCNICO PROFESIONAL","EDUCACIÓN PRIMARIA","OTROS"]
["TOTAL ",{"$f":"SUM(C7:F7)","v":1405},{"$f":"C8+C9","v":1027},{"$f":"D8+D9","v":336},{"$f":"E8+E9","v":27},{"$f":"F8+F9","v":15}]
["Montevideo ",464,370,80,0,14]
["Resto del país",941,657,256,27,1]
["Artigas",65,45,17,3,0]
["Canelones",145,119,26,0,0]
["Cerro Largo",59,40,17,2,0]
["Colonia",38,20,17,1,0]
["Durazno",42,33,9,0,0]
["Flores",24,13,11,0,0]
["Florida",36,16,20,0,0]
["Lavalleja",34,18,16,0,0]
["Maldonado",38,36,2,0,0]
["Paysandú",64,31,27,6,0]
["Río Negro",38,23,15,0,0]
["Rivera",64,42,15,7,0]
["Rocha",36,26,9,1,0]
["Salto",75,60,15,0,0]
["San José",40,28,10,1,1]
["Soriano",46,23,23,0,0]
["Tacuarembó",59,50,4,5,0]
["Treinta y Tres",38,34,3,1,0]
["Fuentes: Becas, Dirección de Educación, MEC"]
["Nota: Todo el país (Año 2010)"]

{"sheet":"I-3.1.6","index":40,"n_rows":43,"n_cols":11,"rows_kept":43,"cut":false,"hidden":false,"merged":[[12,0,12,1],[6,0,6,10],[7,0,7,10],[8,0,11,1],[8,2,8,10],[9,5,9,10],[10,5,10,6],[10,7,11,7],[10,8,10,9],[9,2,12,2],[9,3,12,3],[9,4,12,4],[11,10,12,10],[13,0,13,1],[14,0,14,1],[15,0,15,1],[16,0,16,1],[17,0,17,1],[24,0,24,1],[25,0,25,1],[26,0,26,1],[27,0,27,1],[18,0,18,1],[19,0,19,1],[20,0,20,1],[21,0,21,1],[22,0,22,1],[23,0,23,1],[39,1,39,10],[40,0,42,0],[40,1,40,10],[41,1,41,10],[42,1,42,10],[38,0,38,10],[33,0,33,1],[34,0,34,1],[35,0,35,1],[36,0,36,1],[37,0,37,1],[28,0,28,1],[29,0,29,1],[30,0,30,1],[31,0,31,1],[32,0,32,1]]}
["Ministerio de Educación y Cultura"]
["Dirección de Educación"]
["Área de Investigación y Estadística"]
[]
[]
[]
["Cuadro I-3.1.6"]
["CANTIDAD DE COMPUTADORAS PORTÁTILES ENTREGADAS POR AÑO LECTIVO Y DESTINATARIO SEGÚN DEPARTAMENTO"]
["DEPARTAMENTO",null,"AÑO LECTIVO"]
[null,null,2007,2008,2009,2010]
[null,null,null,null,null,"Pública",null,"Privada","Stock",null,"TOTAL"]
[null,null,null,null,null,"Primaria","Educación Media",null,"Público","Privado",2010]
[]
[]
["TOTAL",null,6853,166423,167983,325651,99497,15357,10499,4966,455970]
[]
["Florida (Urbano)",null,6853,"-","-","-","-","-","-","-","-"]
[]
["Artigas",null,"-",1759,1759,10605,3155,1,129,0,13890]
["Canelones",null,"-",44613,44613,51097,16011,2923,1318,1196,72545]
["Cerro Largo",null,"-",2130,2130,11268,3004,170,279,48,14769]
["Colonia",null,"-",2151,2151,12599,3727,40,376,106,16848]
["Durazno",null,"-",1209,1209,8035,1862,463,110,60,10530]
["Flores",null,"-",1440,1440,7888,2570,132,224,102,10916]
["Florida",null,"-",527,527,2568,803,21,39,0,3431]
["Lavalleja",null,"-",1132,1132,6159,2054,423,126,94,8856]
["Maldonado",null,"-",2986,2986,16539,4702,534,382,90,22247]
["Montevideo",null,"-",90664,90664,98612,32692,9831,5810,2786,149731]
["Paysandú",null,"-",2450,2450,14422,3524,40,214,0,18200]
["Rio Negro",null,"-",1161,1161,7262,2139,5,208,0,9614]
["Rivera",null,"-",2486,2486,13993,4304,64,99,212,18672]
["Rocha",null,"-",1432,1432,8193,2577,77,137,110,11094]
["Salto",null,"-",2827,2827,16375,4463,408,207,50,21503]
["San José",null,"-",2269,2269,11979,2788,154,356,0,15277]
["Soriano",null,"-",1702,1702,10231,2382,31,90,0,12734]
["Tacuarembó",null,"-",2082,2082,11755,3688,30,238,52,15763]
["Treinta y Tres",null,"-",2963,2963,6071,3052,10,157,60,9350]
[]
[]
["Fuentes:","Departamento de Evaluación Educativa, Plan Ceibal"]
["Nota:","Los datos 2007-2009 no incluyen entregas en Secundaria, no incluyen equipos suministrados en calidad de “stock” y tampoco los equipos de recambio. Tampoco incluyen los equipos entregados al sector privado."]
[null,"Para 2010 los equipos entregados en “stock” incluyen, para el sector privado los “Equipos en Aula Ceibal” (Laboratorios Móviles)."]
[null,"Entre los entregados se incluyen los averiados, pero no se incluyen los en “stock”."]

{"sheet":"I-3.1.7","index":41,"n_rows":21,"n_cols":4,"rows_kept":21,"cut":false,"hidden":false,"merged":[[19,0,19,2],[20,0,20,2],[18,0,18,3],[4,0,4,3],[5,0,5,3],[7,0,8,0],[7,1,8,1],[7,2,7,3]]}
["Ministerio de Educación y Cultura"]
["Dirección de Educación"]
["Área de Investigación y Estadística"]
[]
["Cuadro I-3.1.7"]
["PORCENTAJE DE HOGARES EN VIVIENDAS UBICADAS EN ASENTAMIENTOS IRREGULARES SEGÚN TENENCIA Y CANTIDAD DE XO"]
[]
["TENENCIA Y CANTIDAD DE XO","TOTAL","VIVIENDA UBICADA EN ASENTAMIENTO IRREGULAR"]
[null,null,"Sí","No"]
[]
["No tienen ",100,4,96]
["Tienen 1 ",100,8.1,91.9]
["Tienen 2 ",100,11.3,88.7]
["Tienen 3 ",100,13.3,86.7]
["Tienen 4 ",100,14.6,85.4]
["Tienen 5 ",100,25,75]
["Tienen 6 ",100,38.4,61.6]
[]
[]
["Fuentes: Elaboración propia en base a la ECH 2009."]
["Nota: Todo el país (Año 2009)"]

{"sheet":"I-3.3.1","index":42,"n_rows":31,"n_cols":8,"rows_kept":31,"cut":false,"hidden":false,"merged":[[4,0,4,6],[5,0,5,6],[6,0,7,0],[6,1,6,7],[30,0,30,5],[25,0,25,5],[26,0,26,4],[27,0,27,5],[29,0,29,5],[28,0,28,5]]}
["Ministerio de Educación y Cultura"]
["Dirección de Educación"]
["Área de Investigación y Estadística"]
[]
["Cuadro I-3.3.1"]
["GASTO EN MILLONES DE PESOS CONSTANTES DE 2006 POR AÑO LECTIVO SEGÚN ÁMBITO DEL GASTO (2004 - 2010)"]
["ÁMBITO DEL GASTO","AÑO LECTIVO"]
[null,2004,2005,2006,2007,2008,2009,2010]
[]
["TOTAL ",13806,14406,15866,18883,22388,{"$f":"G12+G15+G19+G20+G23+G24","v":25023},{"$f":"H12+H15+H19+H20+H23+H24","v":25608.201631370044}]
[]
["Inst. básicas del sist. educación formal ",12883,13314,14345,16157,19010,22020,22218.742914241426]
["ANEP ",10337,10702,11455,12881,15223,17662,17771.812404214783]
["UDELAR ",2546,2612,2890,3276,3787,4357,4446.9305100266438]
["Administración Central e Inciso 21 ",656,733,1079,1152,1327,1294,1523.0821154119599]
["Educación policial y militar ",391,436,482,569,608,628,694.24126367036013]
["Otros Administración Central1  ",69,91,185,159,257,164,263.16409612463804]
["Partidas del inciso 21 con destino a educación2  ",196,206,412,424,462,502,565.67675561696171]
["Educación no formal inicial (CAIF) y CENFORES  ",141,191,240,281,473,540,535.62586508544496]
["Ciencia y Tecnología ",126,168,202,299,291,206,229.97380050800547]
["MEC3 ",109,125,147,240,161,79,84.644022929806567]
["PEDECIBA, Instituto Pasteur, ANII4  ",17,43,55,59,129,127,145.3297775781989]
["Plan Ceibal ",0,0,0,497,1203,801,908.95567893742884]
["Incentivo a la demanda educativa en secundaria ",0,0,0,0,84,162,191.82125718577964]
[]
[]
["Fuentes: Elaborado en base a datos del MEF."]
["Nota:    1   Se incluyen gastos en Dirección de Educación del MEC, ISEF, capacitación laboral, Centro de Diseño Industrial, escuelas de formación artística y otros componentes considerados en MIDES-DINEM (2006), \"Identificación y análisis del Gasto Público Social en Uruguay. 2002-2005\". Además, se incluye el subsidio al boleto estudiantil que realiza el MTOP."]
["2   Incluye subsidios a escuelas para niños con capacidades especiales, rentas afectadas al Fondo de Solidaridad y al Fondo de Reconversión Laboral."]
["3   Se considera la Dirección Nacional de Ciencia y Tecnología (DINACYT) y el Clemente Estable. La baja de recursos se explica por la finalización del Programa de Desarrollo Tecnológico (PDT) y el traspaso de algunos programas a la ANII."]
["4   Del presupuesto de la ANII se toma en cuenta sólo el componente 2, de Fortalecimiento y orientación de la investigación."]

{"sheet":"I-4.4.1","index":43,"n_rows":33,"n_cols":7,"rows_kept":33,"cut":false,"hidden":false,"merged":[[29,0,29,1],[30,0,30,1],[31,0,31,1],[32,0,32,6],[23,0,23,1],[24,0,24,1],[25,0,25,1],[26,0,26,1],[27,0,27,1],[28,0,28,1],[22,0,22,1],[11,0,11,1],[12,0,12,1],[13,0,13,1],[14,0,14,1],[15,0,15,1],[16,0,16,1],[17,0,17,1],[18,0,18,1],[19,0,19,1],[20,0,20,1],[21,0,21,1],[10,0,10,1],[4,0,4,6],[5,0,5,6],[6,0,9,1],[6,2,6,3],[6,4,6,5]]}
["Ministerio de Educación y Cultura"]
["Dirección de Educación"]
["Área de Investigación y Estadística"]
[]
["Cuadro I-4.4.1"]
["SERCE (2008): PORCENTAJE DE ESTUDIANTES POR TIPO DE PRUEBA, GRADO Y NIVEL DE DESEMPEÑO SEGÚN PAÍS Y REGIÓN"]
["Países",null,"Porcentaje de estudiantes con nivel de desempeño IV en LECTURA  según grado por país",null,"Porcentaje de estudiantes con nivel de desempeño IV en MATEMÁTICA  según grado por país",null,"Porcentaje de estudiantes con nivel de desempeño IV en CIENCIAS por país"]
[null,null,"3º Grado","6º Grado","3º Grado","6º Grado","6º Grado"]
[null,null,"Nivel IV","Nivel IV","Nivel IV","Nivel IV","Nivel IV"]
[]
["TOTAL AL y C",null,8.4,20.3,11.2,11.4,"n/c"]
[]
["Argentina ",null,9.5,17.7,10.9,11.9,13.9]
["Brasil ",null,8.4,19.2,10.5,12.3,13.9]
["Chile ",null,7.1,22.5,12.1,8.8000000000000007,"n/c"]
["Colombia ",null,17.8,29.3,14,13.5,"n/c"]
["Costa Rica ",null,8.5,17.8,6.7,5.5,14.6]
["Cuba ",null,18.2,34.6,13.7,19,"n/c"]
["Ecuador ",null,44.3,50.7,54.4,51.1,65]
["El Salvador ",null,2.1,5.7,4.0999999999999996,4.3,"n/c"]
["Guatemala ",null,5.4,9.5,3.6,3.5,8.9]
["México ",null,1.9,5,2.1,2,"n/c"]
["Nicaragua ",null,12.1,24.4,15.6,19.600000000000001,"n/c"]
["Nuevo León ",null,1.7,5.2,2,1.8,"n/c"]
["Panamá ",null,0.6,1.4,0.1,0.2,18.7]
["Paraguay ",null,18.399999999999999,28.3,23.1,23.4,9.1999999999999993]
["Perú ",null,3.9,9.6,2.8,2.2999999999999998,8.5]
["R. Dominicana ",null,5.5,7.2,9.1999999999999993,4.7,6.7]
["Uruguay ",null,3.7,9.4600000000000009,4.8,9.3000000000000007,1.4]
[]
["Puesto Uruguay",null,"6to","3ro","3ro","2do","2do"]
[]
["Fuentes: Datos SERCE 2008."]

{"sheet":"I-4.4.2","index":44,"n_rows":21,"n_cols":10,"rows_kept":21,"cut":false,"hidden":false,"merged":[[8,2,8,3],[8,5,8,6],[8,8,8,9],[6,0,9,1],[4,0,4,9],[5,0,5,9],[6,2,6,9],[7,2,7,3],[7,5,7,6],[7,8,7,9],[18,0,19,0],[18,1,18,9],[19,1,19,9],[20,1,20,9],[11,0,11,1],[12,0,12,1],[13,0,13,1],[14,0,14,1],[15,0,15,1],[17,0,17,9],[16,0,16,1]]}
["Ministerio de Educación y Cultura"]
["Dirección de Educación"]
["Área de Investigación y Estadística"]
[]
["Cuadro I-4.4.2"]
["PORCENTAJE DE ESTUDIANTES EN EL MAYOR NIVEL DE RENDIMIENTO DE LAS PRUEBAS DE COMPETENCIAS DE PISA POR TIPO DE COMPETENCIA Y AÑOS DE LA PRUEBA SEGÚN PAISES DEL MERCOSUR Y PROMEDIO DE LA OCDE"]
["PAÍSES",null,"TIPO DE COMPETENCIA"]
[null,null,"MATEMÁTICAS",null,null,"CIENCIAS",null,null,"LECTURA"]
[null,null,"AÑO DE LA PRUEBA",null,null,"AÑO DE LA PRUEBA",null,null,"AÑO DE LA PRUEBA"]
[null,null,2006,2009,null,2006,2009,null,2006,2009]
[]
["TOTAL OCDE  ",null,10.8,12.7,null,8.8000000000000007,8.5,null,8.1,8]
["Argentina",null,1,0.9,null,0.4,0.6,null,0.9,1]
["Brasil",null,1,0.8,null,0.5,0.6,null,1.1000000000000001,1.3]
["Chile",null,1.4,1.3,null,1.9,1.1000000000000001,null,3.5,1.3]
["Uruguay",null,3.2,2.5,null,1.4,1.5,null,3.1,1.8]
[]
[]
["Fuentes:","Para PISA 2009: Uruguay en PISA 2009. Primeros resultados en Ciencias, Matemática y Lectura del Programa Internacional de Evaluación de Estudiantes. Informe Ejecutivo."]
[null,"Para PISA 2006: Uruguay en PISA 2006. Primeros resultados en Ciencias, Matemática y Lectura del Programa Internacional de Evaluación de Estudiantes. Informe Ejecutivo."]
["Nota:","En todos los casos se suman los Niveles 5 y 6, pero para PISA 2006 en Lectura se toma sólo el Nivel 5 (nivel máximo)."]

{"sheet":"I-4.4.3","index":45,"n_rows":22,"n_cols":10,"rows_kept":22,"cut":false,"hidden":false,"merged":[[15,0,15,1],[21,1,21,9],[4,0,4,9],[5,0,5,9],[6,2,6,9],[7,5,7,6],[7,8,7,9],[8,5,8,6],[8,8,8,9],[18,0,18,9],[19,1,19,9],[16,0,16,1],[17,0,17,1],[19,0,20,0],[20,1,20,9],[7,2,7,3],[8,2,8,3],[12,0,12,1],[13,0,13,1],[14,0,14,1],[11,0,11,1],[6,0,9,1]]}
["Ministerio de Educación y Cultura"]
["Dirección de Educación"]
["Área de Investigación y Estadística"]
[]
["Cuadro I-4.4.3"]
["PORCENTAJE DE ESTUDIANTES CON EL MENOR NIVEL DE RENDIMIENTO DE LAS PRUEBAS DE COMPETENCIAS DE PISA POR TIPO DE COMPETENCIA Y AÑOS DE LA PRUEBA SEGÚN PAISES DEL MERCOSUR Y PROMEDIO DE LA OCDE"]
["PAÍSES",null,"TIPO DE COMPETENCIA"]
[null,null,"MATEMÁTICAS",null,null,"CIENCIAS",null,null,"LECTURA"]
[null,null,"AÑO DE LA PRUEBA",null,null,"AÑO DE LA PRUEBA",null,null,"AÑO DE LA PRUEBA"]
[null,null,2006,2009,null,2006,2009,null,2006,2009]
[]
["TOTAL OCDE  ",null,26.4,22,null,19.3,18,null,23.1,19.7]
[]
["Argentina",null,64.099999999999994,63.6,null,56.2,52.4,null,57.9,51.6]
["Brasil",null,72.5,69.099999999999994,null,61,54.2,null,55.5,49.6]
["Chile",null,55.1,51.1,null,39.799999999999997,32.299999999999997,null,36.299999999999997,30.6]
["Uruguay",null,46.1,47,null,42.1,42.6,null,46.6,42.1]
[]
[]
["Fuentes:","Para PISA 2009: Uruguay en PISA 2009. Primeros resultados en Ciencias, Matemática y Lectura del Programa Internacional de Evaluación de Estudiantes. Informe Ejecutivo."]
[null,"Para PISA 2006: Uruguay en PISA 2006. Primeros resultados en Ciencias, Matemática y Lectura del Programa Internacional de Evaluación de Estudiantes. Informe Ejecutivo."]
["Nota:","En todos los casos se suman los Niveles <1 y 1."]

{"sheet":"I-4.5.1","index":46,"n_rows":14,"n_cols":5,"rows_kept":14,"cut":false,"hidden":false,"merged":[[7,0,7,1],[12,0,12,1],[11,0,11,1],[4,0,4,4],[5,0,5,4]]}
["Ministerio de Educación y Cultura"]
["Dirección de Educación"]
["Área de Investigación y Estadística"]
[]
["Cuadro I-4.5.1"]
["INDICADORES Y VALORES PARA LA META NACIONAL 3  (2008 - 2010)"]
[null,null,2008,2009,2010]
["Asistencia al sistema educativo del grupo 3 a 5 por edad simple:"]
[null,"3 años",0.53800000000000003,0.58499999999999996,0.61299999999999999]
[null,"4 años",0.83,0.86599999999999999,0.86099999999999999]
[null,"5 años",0.96899999999999997,0.97299999999999998,0.97299999999999998]
["Tasa neta de asistencia al primer ciclo de secundaria del grupo de 12 a 14 años ",null,0.69199999999999995,0.73099999999999998,0.73399999999999999]
["Tasa neta de asistencia al segundo ciclo de secundaria del grupo de 15 a 17 años ",null,0.53200000000000003,0.47599999999999998,0.432]
["Fuente: Procesamiento propio en base a la ECH 2008-2010."]

{"sheet":"G I-1.2.1","index":47,"n_rows":23,"n_cols":1,"rows_kept":23,"cut":false,"hidden":false,"merged":[[22,0,22,3]]}
["Ministerio de Educación y Cultura"]
["Dirección de Educación"]
["Área de Investigación y Estadística"]
[]
[]
["Gráfico I-1.2.1"]
[]
[]
[]
[]
[]
[]
[]
[]
[]
[]
[]
[]
[]
[]
[]
[]
["Fuente: Censos de Población 1963, 1975, 1985 y 1996, ENHA 2006 y ECH de 2007 a 2010 del INE."]

{"sheet":"G I-1.2.2","index":48,"n_rows":33,"n_cols":1,"rows_kept":33,"cut":false,"hidden":false,"merged":[[31,0,31,5],[32,0,32,5]]}
["Ministerio de Educación y Cultura"]
["Dirección de Educación"]
["Área de Investigación y Estadística"]
[]
["Gráfico I-1.2.2"]
[]
[]
[]
[]
[]
[]
[]
[]
[]
[]
[]
[]
[]
[]
[]
[]
[]
[]
[]
[]
[]
[]
[]
[]
[]
[]
["Fuente: Elaboración propia en base a la ECH del INE (2009)."]
["NOTA: Las categorías de nivel educativo denotan acceso al ciclo y no necesariamente culminación del mismo."]

{"sheet":"G I-1.2.3 ","index":49,"n_rows":34,"n_cols":1,"rows_kept":34,"cut":false,"hidden":false,"merged":[]}
["Ministerio de Educación y Cultura"]
["Dirección de Educación"]
["Área de Investigación y Estadística"]
[]
["Gráficos I-1.2.3 "]
[]
[]
[]
[]
[]
[]
[]
[]
[]
[]
[]
[]
[]
[]
[]
[]
[]
[]
[]
[]
[]
[]
[]
[]
[]
[]
[]
["Fuente: Elaboración propia en base a la ENHA 2006 y de las ECH 2007, 2008, 2009 y 2010 del INE."]
["NOTA: Las categorías de nivel educativo denotan acceso al ciclo y no necesariamente culminación del mismo."]

{"sheet":"G I-1.2.4","index":50,"n_rows":34,"n_cols":1,"rows_kept":34,"cut":false,"hidden":false,"merged":[]}
["Ministerio de Educación y Cultura"]
["Dirección de Educación"]
["Área de Investigación y Estadística"]
[]
["Gráfico I-1.2.4"]
[]
[]
[]
[]
[]
[]
[]
[]
[]
[]
[]
[]
[]
[]
[]
[]
[]
[]
[]
[]
[]
[]
[]
[]
[]
[]
[]
["Fuente: Elaboración propia en base a la ENHA 2006 y de las ECH 2007, 2008, 2009 y 2010 del INE."]
["NOTA: Las categorías de nivel educativo denotan acceso al ciclo y no necesariamente culminación del mismo."]

{"sheet":"G I-1.2.5","index":51,"n_rows":31,"n_cols":1,"rows_kept":31,"cut":false,"hidden":false,"merged":[]}
["Ministerio de Educación y Cultura"]
["Dirección de Educación"]
["Área de Investigación y Estadística"]
[]
["Gráfico I-1.2.5"]
[]
[]
[]
[]
[]
[]
[]
[]
[]
[]
[]
[]
[]
[]
[]
[]
[]
[]
[]
[]
[]
[]
[]
[]
[]
["Fuente: Elaboración propia en base a Encuesta Continua de Hogares 2010."]

{"sheet":"G I-1.2.6","index":52,"n_rows":33,"n_cols":1,"rows_kept":33,"cut":false,"hidden":false,"merged":[]}
["Ministerio de Educación y Cultura"]
["Dirección de Educación"]
["Área de Investigación y Estadística"]
[]
["Gráfico I-1.2.6"]
[]
[]
[]
[]
[]
[]
[]
[]
[]
[]
[]
[]
[]
[]
[]
[]
[]
[]
[]
[]
[]
[]
[]
[]
[]
[]
[]
["Fuente: Elaboración propia en base a Encuesta Continua de Hogares 2010."]

{"sheet":"G I-1.2.7","index":53,"n_rows":33,"n_cols":1,"rows_kept":33,"cut":false,"hidden":false,"merged":[]}
["Ministerio de Educación y Cultura"]
["Dirección de Educación"]
["Área de Investigación y Estadística"]
[]
["Gráfico I-1.2.7"]
[]
[]
[]
[]
[]
[]
[]
[]
[]
[]
[]
[]
[]
[]
[]
[]
[]
[]
[]
[]
[]
[]
[]
[]
[]
[]
[]
["Fuente: Elaboración propia en base a Encuesta Continua de Hogares 2010."]

{"sheet":"G I-1.2.8","index":54,"n_rows":34,"n_cols":1,"rows_kept":34,"cut":false,"hidden":false,"merged":[[33,0,33,7]]}
["Ministerio de Educación y Cultura"]
["Dirección de Educación"]
["Área de Investigación y Estadística"]
[]
["Gráfico I-1.2.8"]
[]
[]
[]
[]
[]
[]
[]
[]
[]
[]
[]
[]
[]
[]
[]
[]
[]
[]
[]
[]
[]
[]
[]
[]
[]
[]
[]
[]
["Fuentes: Departamentos de Estadística u oficinas productoras de información del CEP, CES, CETP, UdelaR, DFPD, INAU, y restantes instituciones públicas y privadas de educación terciaria."]

{"sheet":"G I-1.2.9 ","index":55,"n_rows":36,"n_cols":1,"rows_kept":36,"cut":false,"hidden":false,"merged":[[35,0,35,7]]}
["Ministerio de Educación y Cultura"]
["Dirección de Educación"]
["Área de Investigación y Estadística"]
[]
["Gráfico I-1.2.9"]
[]
[]
[]
[]
[]
[]
[]
[]
[]
[]
[]
[]
[]
[]
[]
[]
[]
[]
[]
[]
[]
[]
[]
[]
[]
[]
[]
[]
[]
[]
["Fuentes: Elaboración propia en base a datos del CEP, CES, CETP , UdelaR e instituciones privadas de educación terciaria."]

{"sheet":"G I-1.2.10","index":56,"n_rows":38,"n_cols":1,"rows_kept":38,"cut":false,"hidden":false,"merged":[[36,0,36,7],[42,0,42,6],[43,0,43,6],[39,0,39,6],[40,0,40,6],[41,0,41,6]]}
["Ministerio de Educación y Cultura"]
["Dirección de Educación"]
["Área de Investigación y Estadística"]
[]
["Gráfico I-1.2.10"]
[]
[]
[]
[]
[]
[]
[]
[]
[]
[]
[]
[]
[]
[]
[]
[]
[]
[]
[]
[]
[]
[]
[]
[]
[]
[]
[]
[]
[]
[]
[]
["Fuentes: Elaboración propia en base a datos del CEP, CES, CETP , UdelaR, DFPD e instituciones privadas de educación terciaria."]
["Notas: Ya que no se cuenta con el valor de matrícula de UdelaR, se toman en cuenta los valores de ingreso para Montevideo-Interior."]

{"sheet":"G I-1.2.11","index":57,"n_rows":35,"n_cols":1,"rows_kept":35,"cut":false,"hidden":false,"merged":[[34,0,34,6],[36,0,36,6],[37,0,37,6],[38,0,38,6]]}
["Ministerio de Educación y Cultura"]
["Dirección de Educación"]
["Área de Investigación y Estadística"]
[]
["Gráfico I-1.2.11"]
[]
[]
[]
[]
[]
[]
[]
[]
[]
[]
[]
[]
[]
[]
[]
[]
[]
[]
[]
[]
[]
[]
[]
[]
[]
[]
[]
[]
[]
["Fuentes: Elaboración propia en base a datos del CEP, CES, CETP , UdelaR, DFPD e instituciones privadas de educación terciaria."]

{"sheet":"G I-1.2.12","index":58,"n_rows":33,"n_cols":1,"rows_kept":33,"cut":false,"hidden":false,"merged":[]}
["Ministerio de Educación y Cultura"]
["Dirección de Educación"]
["Área de Investigación y Estadística"]
[]
["Gráfico I-1.2.12"]
[]
[]
[]
[]
[]
[]
[]
[]
[]
[]
[]
[]
[]
[]
[]
[]
[]
[]
[]
[]
[]
[]
[]
[]
[]
[]
[]
["Fuente: Elaboración propia en base a Encuesta Continua de Hogares 2010."]

{"sheet":"G I-1.2.13","index":59,"n_rows":32,"n_cols":1,"rows_kept":32,"cut":false,"hidden":false,"merged":[]}
["Ministerio de Educación y Cultura"]
["Dirección de Educación"]
["Área de Investigación y Estadística"]
[]
["Gráfico I-1.2.13"]
[]
[]
[]
[]
[]
[]
[]
[]
[]
[]
[]
[]
[]
[]
[]
[]
[]
[]
[]
[]
[]
[]
[]
[]
[]
[]
["Fuente: Elaboración propia en base a Encuesta Continua de Hogares 2010."]

{"sheet":"G I-1.2.14","index":60,"n_rows":32,"n_cols":1,"rows_kept":32,"cut":false,"hidden":false,"merged":[]}
["Ministerio de Educación y Cultura"]
["Dirección de Educación"]
["Área de Investigación y Estadística"]
[]
["Gráfico I-1.2.14"]
[]
[]
[]
[]
[]
[]
[]
[]
[]
[]
[]
[]
[]
[]
[]
[]
[]
[]
[]
[]
[]
[]
[]
[]
[]
[]
["Fuente: Elaboración propia en base a Encuesta Continua de Hogares 2010."]

{"sheet":"G I-1.2.15","index":61,"n_rows":32,"n_cols":1,"rows_kept":32,"cut":false,"hidden":false,"merged":[]}
["Ministerio de Educación y Cultura"]
["Dirección de Educación"]
["Área de Investigación y Estadística"]
[]
["Gráfico I-1.2.15"]
[]
[]
[]
[]
[]
[]
[]
[]
[]
[]
[]
[]
[]
[]
[]
[]
[]
[]
[]
[]
[]
[]
[]
[]
[]
[]
["Fuente: Elaboración propia en base a Encuesta Continua de Hogares 2010."]

{"sheet":"G I-1.2.16","index":62,"n_rows":31,"n_cols":1,"rows_kept":31,"cut":false,"hidden":false,"merged":[]}
["Ministerio de Educación y Cultura"]
["Dirección de Educación"]
["Área de Investigación y Estadística"]
[]
["Gráfico I-1.2.16"]
[]
[]
[]
[]
[]
[]
[]
[]
[]
[]
[]
[]
[]
[]
[]
[]
[]
[]
[]
[]
[]
[]
[]
[]
[]
["Fuente: Elaboración propia en base a Encuesta Continua de Hogares 2010."]

{"sheet":"G I-1.2.17","index":63,"n_rows":31,"n_cols":1,"rows_kept":31,"cut":false,"hidden":false,"merged":[]}
["Ministerio de Educación y Cultura"]
["Dirección de Educación"]
["Área de Investigación y Estadística"]
[]
["Gráfico I-1.2.17"]
[]
[]
[]
[]
[]
[]
[]
[]
[]
[]
[]
[]
[]
[]
[]
[]
[]
[]
[]
[]
[]
[]
[]
[]
[]
["Fuente: Elaboración propia en base a Encuesta Continua de Hogares 2010."]

{"sheet":"G I-1.2.18","index":64,"n_rows":33,"n_cols":1,"rows_kept":33,"cut":false,"hidden":false,"merged":[]}
["Ministerio de Educación y Cultura"]
["Dirección de Educación"]
["Área de Investigación y Estadística"]
[]
["Gráfico I-1.2.18"]
[]
[]
[]
[]
[]
[]
[]
[]
[]
[]
[]
[]
[]
[]
[]
[]
[]
[]
[]
[]
[]
[]
[]
[]
[]
[]
[]
["Fuente: Elaboración propia en base a la ENHA 2006 y las ECH 2007 a 2010."]

{"sheet":"G I-1.2.19","index":65,"n_rows":21,"n_cols":1,"rows_kept":21,"cut":false,"hidden":false,"merged":[]}
["Ministerio de Educación y Cultura"]
["Dirección de Educación"]
["Área de Investigación y Estadística"]
[]
["Gráfico I-1.2.19"]
[]
[]
[]
[]
[]
[]
[]
[]
[]
[]
[]
[]
[]
[]
[]
["Fuente: Elaboración propia en base a la ENHA 2006 y las ECH 2007, 2008, 2009 y 2010."]

{"sheet":"G I-1.3.1","index":66,"n_rows":20,"n_cols":1,"rows_kept":20,"cut":false,"hidden":false,"merged":[[30,0,30,6],[31,0,31,6]]}
["Ministerio de Educación y Cultura"]
["Dirección de Educación"]
["Área de Investigación y Estadística"]
[]
["Gráfico I-1.3.1"]
[]
[]
[]
[]
[]
[]
[]
[]
[]
[]
[]
[]
[]
[]
["Fuente: Elaboración propia en base a Encuesta Continua de Hogares 2010."]

{"sheet":"G I-1.3.2","index":67,"n_rows":20,"n_cols":1,"rows_kept":20,"cut":false,"hidden":false,"merged":[[30,0,30,6],[31,0,31,6]]}
["Ministerio de Educación y Cultura"]
["Dirección de Educación"]
["Área de Investigación y Estadística"]
[]
["Gráfico I-1.3.2"]
[]
[]
[]
[]
[]
[]
[]
[]
[]
[]
[]
[]
[]
[]
["Fuente: Elaboración propia en base a Encuesta Continua de Hogares 2010."]

{"sheet":"G I-1.3.3","index":68,"n_rows":25,"n_cols":1,"rows_kept":25,"cut":false,"hidden":false,"merged":[[30,0,30,6],[31,0,31,6]]}
["Ministerio de Educación y Cultura"]
["Dirección de Educación"]
["Área de Investigación y Estadística"]
[]
["Gráfico I-1.3.3"]
[]
[]
[]
[]
[]
[]
[]
[]
[]
[]
[]
[]
[]
[]
[]
[]
[]
[]
[]
["Fuente: Elaboración propia en base a Encuesta Continua de Hogares 2010."]

{"sheet":"G I-2.1.1","index":69,"n_rows":35,"n_cols":1,"rows_kept":35,"cut":false,"hidden":false,"merged":[]}
["Ministerio de Educación y Cultura"]
["Dirección de Educación"]
["Área de Investigación y Estadística"]
[]
["Gráfico I-2.1.1"]
[]
[]
[]
[]
[]
[]
[]
[]
[]
[]
[]
[]
[]
[]
[]
[]
[]
[]
[]
[]
[]
[]
[]
[]
[]
[]
[]
[]
["Fuente: Elaboración propia en base a datos del Departamento de Estadística del CEIP, Sistema de Información para la Infancia de INAU "]
["Programa Nuestros Niños de la IMM y Área de Investigación y Estadística, MEC (Centros CEIP)."]

{"sheet":"G I-2.1.2","index":70,"n_rows":31,"n_cols":1,"rows_kept":31,"cut":false,"hidden":false,"merged":[[30,0,30,5]]}
["Ministerio de Educación y Cultura"]
["Dirección de Educación"]
["Área de Investigación y Estadística"]
[]
["Gráfico I-2.1.2"]
[]
[]
[]
[]
[]
[]
[]
[]
[]
[]
[]
[]
[]
[]
[]
[]
[]
[]
[]
[]
[]
[]
[]
[]
[]
["Fuente: Elaboración propia en base a datos del Departamento de Estadística del CEP, Sistema de Información para la Infancia de INAU y Primera Infancia MEC"]

{"sheet":"G I-2.1.3","index":71,"n_rows":30,"n_cols":1,"rows_kept":30,"cut":false,"hidden":false,"merged":[]}
["Ministerio de Educación y Cultura"]
["Dirección de Educación"]
["Área de Investigación y Estadística"]
[]
["Gráfico I-2.1.3"]
[]
[]
[]
[]
[]
[]
[]
[]
[]
[]
[]
[]
[]
[]
[]
[]
[]
[]
[]
[]
[]
[]
[]
[]
["Fuente: Elaboración propia en base a información del Departamento de Estadística del CEP"]

{"sheet":"G I-2.1.4","index":72,"n_rows":29,"n_cols":1,"rows_kept":29,"cut":false,"hidden":false,"merged":[]}
["Ministerio de Educación y Cultura"]
["Dirección de Educación"]
["Área de Investigación y Estadística"]
[]
["Gráfico I-2.1.4"]
[]
[]
[]
[]
[]
[]
[]
[]
[]
[]
[]
[]
[]
[]
[]
[]
[]
[]
[]
[]
[]
[]
[]
["Fuente: Departamento de Estadística del CEP."]

{"sheet":"G I-2.2.1","index":73,"n_rows":30,"n_cols":1,"rows_kept":30,"cut":false,"hidden":false,"merged":[]}
["Ministerio de Educación y Cultura"]
["Dirección de Educación"]
["Área de Investigación y Estadística"]
[]
["Gráfico I-2.2.1"]
[]
[]
[]
[]
[]
[]
[]
[]
[]
[]
[]
[]
[]
[]
[]
[]
[]
[]
[]
[]
[]
[]
[]
[]
["Fuente: Elaboración propia en base a datos del Departamento de Estadística del CEP"]

{"sheet":"G I-2.2.2","index":74,"n_rows":29,"n_cols":1,"rows_kept":29,"cut":false,"hidden":false,"merged":[]}
["Ministerio de Educación y Cultura"]
["Dirección de Educación"]
["Área de Investigación y Estadística"]
[]
["Gráfico I-2.2.2"]
[]
[]
[]
[]
[]
[]
[]
[]
[]
[]
[]
[]
[]
[]
[]
[]
[]
[]
[]
[]
[]
[]
[]
["Fuente: Departamento de Estadística del CEIP"]

{"sheet":"G I-2.2.3","index":75,"n_rows":30,"n_cols":1,"rows_kept":30,"cut":false,"hidden":false,"merged":[]}
["Ministerio de Educación y Cultura"]
["Dirección de Educación"]
["Área de Investigación y Estadística"]
[]
["Gráfico I-2.2.3"]
[]
[]
[]
[]
[]
[]
[]
[]
[]
[]
[]
[]
[]
[]
[]
[]
[]
[]
[]
[]
[]
[]
[]
[]
["Fuente: Monitor Educativo de Enseñanza Primaria. ANEP"]

{"sheet":"G I-2.2.4","index":76,"n_rows":30,"n_cols":1,"rows_kept":30,"cut":false,"hidden":false,"merged":[]}
["Ministerio de Educación y Cultura"]
["Dirección de Educación"]
["Área de Investigación y Estadística"]
[]
["Gráfico I-2.2.4"]
[]
[]
[]
[]
[]
[]
[]
[]
[]
[]
[]
[]
[]
[]
[]
[]
[]
[]
[]
[]
[]
[]
[]
[]
["Fuente: Monitor Educativo de Enseñanza Primaria. ANEP"]

{"sheet":"G I-2.3.1","index":77,"n_rows":32,"n_cols":1,"rows_kept":32,"cut":false,"hidden":false,"merged":[]}
["Ministerio de Educación y Cultura"]
["Dirección de Educación"]
["Área de Investigación y Estadística"]
[]
["Gráfico I-2.3.1"]
[]
[]
[]
[]
[]
[]
[]
[]
[]
[]
[]
[]
[]
[]
[]
[]
[]
[]
[]
[]
[]
[]
[]
[]
["Fuente: Departamentos de Estadísticas del CEIP, CES y CETP"]
["Nota: Incluye Ciclo Básico Rural, Media General y Media Técnica."]
["         Enseñanza técnica incluye educación de Jóvenes y Adultos y excuye educación Terciaria"]

{"sheet":"G I-2.3.2","index":78,"n_rows":35,"n_cols":1,"rows_kept":35,"cut":false,"hidden":false,"merged":[]}
["Ministerio de Educación y Cultura"]
["Dirección de Educación"]
["Área de Investigación y Estadística"]
[]
["Gráfico I-2.3.2"]
[]
[]
[]
[]
[]
[]
[]
[]
[]
[]
[]
[]
[]
[]
[]
[]
[]
[]
[]
[]
[]
[]
[]
[]
["Fuente: Departamentos de Estadísticas del CEIP, CES y CETP"]
["Nota: Incluye Ciclo Básico Rural, enseñanza secundaria y enseñanza técnica"]
["         El cambio en la tendencia en Bachillerato se explica por el peso de la matrícula del CEPT en 2009."]
["         En dicho año se transformó la estructura de la Educación Superior con la subsiguiente incorporación de "]
["         Bachillerato Figari, Bachillerato Profesional, EMP Especialización y Articulación en tanto se eliminó"]
["         el Bachillerato Tecnológico."]

{"sheet":"G I-2.3.3","index":79,"n_rows":34,"n_cols":1,"rows_kept":34,"cut":false,"hidden":false,"merged":[]}
["Ministerio de Educación y Cultura"]
["Dirección de Educación"]
["Área de Investigación y Estadística"]
[]
["Gráfico I-2.3.3"]
[]
[]
[]
[]
[]
[]
[]
[]
[]
[]
[]
[]
[]
[]
[]
[]
[]
[]
[]
[]
[]
[]
[]
[]
[]
[]
[]
["Fuente: Departamentos de Estadística del CES y del CETP "]
["Nota: Media Básica General incluye Ciclo Básico Rural"]

{"sheet":"G I-2.3.4","index":80,"n_rows":35,"n_cols":1,"rows_kept":35,"cut":false,"hidden":false,"merged":[]}
["Ministerio de Educación y Cultura"]
["Dirección de Educación"]
["Área de Investigación y Estadística"]
[]
["Gráfico I-2.3.4"]
[]
[]
[]
[]
[]
[]
[]
[]
[]
[]
[]
[]
[]
[]
[]
[]
[]
[]
[]
[]
[]
[]
[]
[]
[]
[]
[]
[]
["Fuente: Departamento de Estadística del CES."]
["Nota: La matrícula de la oferta pública no incluye la correspondiente a enseñanza técnica."]

{"sheet":"G I-2.3.5","index":81,"n_rows":26,"n_cols":1,"rows_kept":26,"cut":false,"hidden":false,"merged":[[24,0,24,5],[25,0,25,5]]}
["Ministerio de Educación y Cultura"]
["Dirección de Educación"]
["Área de Investigación y Estadística"]
[]
["Gráfico I-2.3.5"]
[]
[]
[]
[]
[]
[]
[]
[]
[]
[]
[]
[]
[]
[]
[]
[]
[]
[]
[]
["Fuente: Departamento de Estadística del CES."]
["Nota: La matrícula de la oferta pública no incluye la correspondiente a enseñanza técnica, por no contarse con información sobre la oferta técnica privada."]

{"sheet":"G I-2.3.6","index":82,"n_rows":36,"n_cols":1,"rows_kept":36,"cut":false,"hidden":false,"merged":[]}
["Ministerio de Educación y Cultura"]
["Dirección de Educación"]
["Área de Investigación y Estadística"]
[]
["Gráfico I-2.3.6"]
[]
[]
[]
[]
[]
[]
[]
[]
[]
[]
[]
[]
[]
[]
[]
[]
[]
[]
[]
[]
[]
[]
[]
[]
[]
[]
[]
[]
["Fuente: Departamento de Estadística del CES."]
["Nota: La matrícula de la oferta pública no incluye la correspondiente a enseñanza técnica, ni liceos de extraedad y Plan 2003 "]
["         y Plan 2003 (TEMS)"]

{"sheet":"G I-2.3.7","index":83,"n_rows":36,"n_cols":1,"rows_kept":36,"cut":false,"hidden":false,"merged":[[35,0,38,6]]}
["Ministerio de Educación y Cultura"]
["Dirección de Educación"]
["Área de Investigación y Estadística"]
[]
["Gráfico I-2.3.7"]
[]
[]
[]
[]
[]
[]
[]
[]
[]
[]
[]
[]
[]
[]
[]
[]
[]
[]
[]
[]
[]
[]
[]
[]
[]
[]
[]
[]
["Fuente: CETP"]
["Nota:"]
["Def: CETP- \"Aprobado\" es la categoría que reúne a los alumnos con fallo final de aprobación (Total o Parcial) del curso realizado durante el año t y que lo habilita a cursar el grado (semestre/ módulo) siguiente en t + 1. / \"Desvinculado\" reúne a los alumnos que abandonaron durante el período interanual del año t y, no se encontraron en la matrícula del año t + 1. / \"Repite\" reúne a los alumnos que abandonar o no aprobaron el curso en el año t, y se encuentran en el mismo grado (módulo) y nivel  en el año t + 1 (esta categoría incluye los cambios de orientación)"]

{"sheet":"G I-2.3.8","index":84,"n_rows":35,"n_cols":1,"rows_kept":35,"cut":false,"hidden":false,"merged":[]}
["Ministerio de Educación y Cultura"]
["Dirección de Educación"]
["Área de Investigación y Estadística"]
[]
["Gráfico I-2.3.8"]
[]
[]
[]
[]
[]
[]
[]
[]
[]
[]
[]
[]
[]
[]
[]
[]
[]
[]
[]
[]
[]
[]
[]
[]
[]
[]
[]
[]
[]
["Fuente: Departamentos de Estadística del CES y del CETP."]

{"sheet":"G I-2.3.9","index":85,"n_rows":37,"n_cols":1,"rows_kept":37,"cut":false,"hidden":false,"merged":[[35,0,35,5]]}
["Ministerio de Educación y Cultura"]
["Dirección de Educación"]
["Área de Investigación y Estadística"]
[]
["Gráfico I-2.3.9"]
[]
[]
[]
[]
[]
[]
[]
[]
[]
[]
[]
[]
[]
[]
[]
[]
[]
[]
[]
[]
[]
[]
[]
[]
[]
[]
[]
[]
[]
["Fuente: Departamento de Estadística del CES."]
["Nota:   La matrícula de la oferta pública no incluye la correspondiente a enseñanza técnica"]
["         Matrícula de enseñanza privada incluye educación militar habilitada (Liceo Militar y Escuela Naval)"]

{"sheet":"G I-2.3.10","index":86,"n_rows":34,"n_cols":1,"rows_kept":34,"cut":false,"hidden":false,"merged":[]}
["Ministerio de Educación y Cultura"]
["Dirección de Educación"]
["Área de Investigación y Estadística"]
[]
["Gráfico I-2.3.10"]
[]
[]
[]
[]
[]
[]
[]
[]
[]
[]
[]
[]
[]
[]
[]
[]
[]
[]
[]
[]
[]
[]
[]
[]
[]
[]
[]
["Fuente: Elaboración propia en base a información del Departamento de Estadística del CETP. "]
["Nota: No incluye educación Terciaria."]

{"sheet":"G I-2.4.1","index":87,"n_rows":34,"n_cols":1,"rows_kept":34,"cut":false,"hidden":false,"merged":[]}
["Ministerio de Educación y Cultura"]
["Dirección de Educación"]
["Área de Investigación y Estadística"]
[]
["Gráfico I-1.4.1"]
[]
[]
[]
[]
[]
[]
[]
[]
[]
[]
[]
[]
[]
[]
[]
[]
[]
[]
[]
[]
[]
[]
[]
[]
[]
[]
[]
[]
["Fuente: Dirección de Formación y Perfeccionamiento Docente"]

{"sheet":"G I-2.4.2","index":88,"n_rows":32,"n_cols":1,"rows_kept":32,"cut":false,"hidden":false,"merged":[]}
["Ministerio de Educación y Cultura"]
["Dirección de Educación"]
["Área de Investigación y Estadística"]
[]
["Gráfico I-2.4.2"]
[]
[]
[]
[]
[]
[]
[]
[]
[]
[]
[]
[]
[]
[]
[]
[]
[]
[]
[]
[]
[]
[]
[]
[]
[]
[]
["Fuente: Dirección de Formación y Perfeccionamiento Docente"]

{"sheet":"G I-2.4.3","index":89,"n_rows":36,"n_cols":1,"rows_kept":36,"cut":false,"hidden":false,"merged":[]}
["Ministerio de Educación y Cultura"]
["Dirección de Educación"]
["Área de Investigación y Estadística"]
[]
["Gráfico I-2.4.3"]
[]
[]
[]
[]
[]
[]
[]
[]
[]
[]
[]
[]
[]
[]
[]
[]
[]
[]
[]
[]
[]
[]
[]
[]
[]
[]
[]
[]
["Fuente: Dirección de Formación y Perfeccionamiento Docente"]
["Nota: La serie presentada fue ajustada por la fuente, de manera que no coincide exactamente con la presentada "]
["         en años anteriores. "]

{"sheet":"G I-2.4.4","index":90,"n_rows":34,"n_cols":1,"rows_kept":34,"cut":false,"hidden":false,"merged":[[33,0,33,7]]}
["Ministerio de Educación y Cultura"]
["Dirección de Educación"]
["Área de Investigación y Estadística"]
[]
["Gráfico I-2.4.4"]
[]
[]
[]
[]
[]
[]
[]
[]
[]
[]
[]
[]
[]
[]
[]
[]
[]
[]
[]
[]
[]
[]
[]
[]
[]
[]
[]
[]
["Fuente:  Elaboración propia en base a información proporcionada por las oficinas productoras de estadísticas de cada una de las instituciones"]

{"sheet":"G I-2.4.5","index":91,"n_rows":34,"n_cols":1,"rows_kept":34,"cut":false,"hidden":false,"merged":[[33,0,33,7]]}
["Ministerio de Educación y Cultura"]
["Dirección de Educación"]
["Área de Investigación y Estadística"]
[]
["Gráfico I-2.4.5"]
[]
[]
[]
[]
[]
[]
[]
[]
[]
[]
[]
[]
[]
[]
[]
[]
[]
[]
[]
[]
[]
[]
[]
[]
[]
[]
[]
[]
["Fuente:  Elaboración propia en base a información proporcionada por las oficinas productoras de estadísticas de cada una de las instituciones"]

{"sheet":"G I-2.4.6","index":92,"n_rows":34,"n_cols":1,"rows_kept":34,"cut":false,"hidden":false,"merged":[[33,0,33,7]]}
["Ministerio de Educación y Cultura"]
["Dirección de Educación"]
["Área de Investigación y Estadística"]
[]
["Gráfico I-2.4.6"]
[]
[]
[]
[]
[]
[]
[]
[]
[]
[]
[]
[]
[]
[]
[]
[]
[]
[]
[]
[]
[]
[]
[]
[]
[]
[]
[]
[]
["Fuente:  Elaboración propia en base a información proporcionada por las oficinas productoras de estadísticas de cada una de las instituciones"]

{"sheet":"G I-2.5.1","index":93,"n_rows":33,"n_cols":1,"rows_kept":33,"cut":false,"hidden":false,"merged":[]}
["Ministerio de Educación y Cultura"]
["Dirección de Educación"]
["Área de Investigación y Estadística"]
[]
["Gráfico I-2.5.1"]
[]
[]
[]
[]
[]
[]
[]
[]
[]
[]
[]
[]
[]
[]
[]
[]
[]
[]
[]
[]
[]
[]
[]
[]
[]
[]
[]
["Fuente: Elaboración propia en base información de las oficinas productoras de las instituciones."]

{"sheet":"G I-2.5.2","index":94,"n_rows":34,"n_cols":1,"rows_kept":34,"cut":false,"hidden":false,"merged":[[33,0,33,7]]}
["Ministerio de Educación y Cultura"]
["Dirección de Educación"]
["Área de Investigación y Estadística"]
[]
["Gráfico I-2.5.2"]
[]
[]
[]
[]
[]
[]
[]
[]
[]
[]
[]
[]
[]
[]
[]
[]
[]
[]
[]
[]
[]
[]
[]
[]
[]
[]
[]
["Fuente: Elaboración propia en base información de las oficinas productoras de las instituciones."]
["Nota: Los ingresos  a cursos de grado para UdelaR correspondientes al período 2000-2010 son extraídos de Estadísticas Básicas 2010 - Dirección General de Planeamiento -UdelaR."]

{"sheet":"G I-2.5.3","index":95,"n_rows":35,"n_cols":1,"rows_kept":35,"cut":false,"hidden":false,"merged":[[34,0,34,7]]}
["Ministerio de Educación y Cultura"]
["Dirección de Educación"]
["Área de Investigación y Estadística"]
[]
["Gráfico I-2.5.3"]
[]
[]
[]
[]
[]
[]
[]
[]
[]
[]
[]
[]
[]
[]
[]
[]
[]
[]
[]
[]
[]
[]
[]
[]
[]
[]
[]
[]
["Fuente: Estadísticas Básicas 2009 - Dirección General de Planeamiento -UdelaR."]
["Nota: Los ingresos y egresos a cursos de grado para UdelaR correspondientes al período 2000-2010 son extraídos de Estadísticas Básicas 2010 - Dirección General de Planeamiento -UdelaR."]

{"sheet":"G I-2.5.4","index":96,"n_rows":35,"n_cols":1,"rows_kept":35,"cut":false,"hidden":false,"merged":[[34,0,34,7]]}
["Ministerio de Educación y Cultura"]
["Dirección de Educación"]
["Área de Investigación y Estadística"]
[]
["Gráfico I-2.5.4"]
[]
[]
[]
[]
[]
[]
[]
[]
[]
[]
[]
[]
[]
[]
[]
[]
[]
[]
[]
[]
[]
[]
[]
[]
[]
[]
[]
[]
["Fuente: Elaboración propia en base información de las oficinas productoras de las instituciones."]
["Nota: Los egresos  a cursos de grado para UdelaR correspondientes al período 2000-2010 son extraídos de Estadísticas Básicas 2010 - Dirección General de Planeamiento -UdelaR."]

{"sheet":"G I-2.5.5","index":97,"n_rows":34,"n_cols":1,"rows_kept":34,"cut":false,"hidden":false,"merged":[]}
["Ministerio de Educación y Cultura"]
["Dirección de Educación"]
["Área de Investigación y Estadística"]
[]
["Gráfico I-2.5.5"]
[]
[]
[]
[]
[]
[]
[]
[]
[]
[]
[]
[]
[]
[]
[]
[]
[]
[]
[]
[]
[]
[]
[]
[]
[]
[]
[]
[]
["Fuente: Elaboración propia en base información de las oficinas productoras de las instituciones."]

{"sheet":"G I-2.5.6","index":98,"n_rows":34,"n_cols":1,"rows_kept":34,"cut":false,"hidden":false,"merged":[]}
["Ministerio de Educación y Cultura"]
["Dirección de Educación"]
["Área de Investigación y Estadística"]
[]
["Gráfico I-2.5.6"]
[]
[]
[]
[]
[]
[]
[]
[]
[]
[]
[]
[]
[]
[]
[]
[]
[]
[]
[]
[]
[]
[]
[]
[]
[]
[]
[]
[]
["Fuente: Elaboración propia en base información de las oficinas productoras de las instituciones."]

{"sheet":"G I-2.5.7","index":99,"n_rows":30,"n_cols":1,"rows_kept":30,"cut":false,"hidden":false,"merged":[[29,0,29,6]]}
["Ministerio de Educación y Cultura"]
["Dirección de Educación"]
["Área de Investigación y Estadística"]
[]
["Gráfico I-2.5.7"]
[]
[]
[]
[]
[]
[]
[]
[]
[]
[]
[]
[]
[]
[]
[]
[]
[]
[]
[]
[]
[]
[]
[]
["Fuente: Elaboración propia en base información de las oficinas productoras de las instituciones."]
["Nota: Los ingresos a cursos de postgrado para el período 2001-2010 y para los egresos 2001-2009 son extraídos de Estadísticas Básicas 2010 - Dirección General de Planeamiento -UdelaR."]

{"sheet":"G I-2.5.8","index":100,"n_rows":29,"n_cols":1,"rows_kept":29,"cut":false,"hidden":false,"merged":[]}
["Ministerio de Educación y Cultura"]
["Dirección de Educación"]
["Área de Investigación y Estadística"]
[]
["Gráfico I-2.5.8"]
[]
[]
[]
[]
[]
[]
[]
[]
[]
[]
[]
[]
[]
[]
[]
[]
[]
[]
[]
[]
[]
[]
[]
["Fuente: Elaboración propia en base información de las oficinas productoras de las instituciones."]

{"sheet":"G I-3.2.1","index":101,"n_rows":31,"n_cols":1,"rows_kept":31,"cut":false,"hidden":false,"merged":[]}
["Ministerio de Educación y Cultura"]
["Dirección de Educación"]
["Área de Investigación y Estadística"]
[]
["Gráfico I-3.2.1"]
[]
[]
[]
[]
[]
[]
[]
[]
[]
[]
[]
[]
[]
[]
[]
[]
[]
[]
[]
[]
[]
[]
[]
[]
["Fuente: Banco Central del Uruguay"]
["Nota: 2006-2010 datos preliminares del BCU"]

{"sheet":"G I-3.2.2","index":102,"n_rows":32,"n_cols":1,"rows_kept":32,"cut":false,"hidden":false,"merged":[]}
["Ministerio de Educación y Cultura"]
["Dirección de Educación"]
["Área de Investigación y Estadística"]
[]
["Gráfico I-3.2.2"]
[]
[]
[]
[]
[]
[]
[]
[]
[]
[]
[]
[]
[]
[]
[]
[]
[]
[]
[]
[]
[]
[]
[]
[]
[]
["Nota: Los valores medios anuales fueron estimados por el Método del Ingreso de 2006 sobre los datos de las personas."]
["Fuente: Incidencia de la pobreza e indigencia, INE."]

{"sheet":"G I-3.3.1","index":103,"n_rows":33,"n_cols":1,"rows_kept":33,"cut":false,"hidden":false,"merged":[]}
["Ministerio de Educación y Cultura"]
["Dirección de Educación"]
["Área de Investigación y Estadística"]
[]
["Gráfico I-3.3.1"]
[]
[]
[]
[]
[]
[]
[]
[]
[]
[]
[]
[]
[]
[]
[]
[]
[]
[]
[]
[]
[]
[]
[]
[]
[]
[]
[]
["Fuente: Elaborado en base a datos del MEF en base a CGN.."]

{"sheet":"G I-3.3.2","index":104,"n_rows":36,"n_cols":1,"rows_kept":36,"cut":false,"hidden":false,"merged":[]}
["Ministerio de Educación y Cultura"]
["Dirección de Educación"]
["Área de Investigación y Estadística"]
[]
["Gráfico I-3.3.2"]
[]
[]
[]
[]
[]
[]
[]
[]
[]
[]
[]
[]
[]
[]
[]
[]
[]
[]
[]
[]
[]
[]
[]
[]
[]
[]
[]
[]
[]
[]
["Fuente: Elaborado en base a datos del MEF en base a CGN."]

{"sheet":"G I-3.3.3","index":105,"n_rows":35,"n_cols":1,"rows_kept":35,"cut":false,"hidden":false,"merged":[[30,0,30,5],[31,0,31,5],[33,0,33,6],[34,0,34,6]]}
["Ministerio de Educación y Cultura"]
["Dirección de Educación"]
["Área de Investigación y Estadística"]
[]
["Gráfico I-3.3.3"]
[]
[]
[]
[]
[]
[]
[]
[]
[]
[]
[]
[]
[]
[]
[]
[]
[]
[]
[]
[]
[]
[]
[]
[]
[]
["Fuente: Gerencia General de Programación y Presupuesto, Unidad de Programación y Control Presupuestal del CODICEN"]
["Nota: Datos al 1º de enero de cada año a valores constantes del 1º de enero de 1997. La información corresponde al salario nominal más la partida de alimentación"]
[]
["Fuente: Gerencia General de Programación y Presupuesto, Unidad de Programación y Control Presupuestal del CODICEN"]
["Nota: Datos al 1º de enero de cada año a valores constantes del 1º de enero de 1997. La información corresponde al salario nominal más la partida de alimentación."]

{"sheet":"G I-4.1.1 ","index":106,"n_rows":35,"n_cols":1,"rows_kept":35,"cut":false,"hidden":false,"merged":[[31,0,31,6],[32,0,32,6],[33,0,33,6]]}
["Ministerio de Educación y Cultura"]
["Dirección de Educación"]
["Área de Investigación y Estadística"]
[]
["Gráfico I-4.1.1"]
[]
[]
[]
[]
[]
[]
[]
[]
[]
[]
[]
[]
[]
[]
[]
[]
[]
[]
[]
[]
[]
[]
[]
[]
[]
[]
["Fuente: Indicadores Educativos del  Mercosur 20000-2008 y Unidades Productoras de Estadísticas Oficiales de los Países."]
["Nota: La Tasa de Analfabetismo se mide con base en personas con 15 y más años de edad, con excepción de Argentina, en que refiere a personas con 10 y más años de edad."]
["Los datos de Paraguay para 2010 fueron provistos por las oficinas de estadística nacional, a solicitud del Área de Investigación y Estadística de la Dirección de Educación del Ministerio de Educación y Cultura. Y el dato de Argentina del 2010 fue tomado del Censo Nacional de Población, Hogares y Viviendas 2010."]
["Brasil y Chile no actualizaron la información para el 2010, por lo que se replica el último dato disponible: año 2009."]

{"sheet":"G I-4.1.2","index":107,"n_rows":31,"n_cols":1,"rows_kept":31,"cut":false,"hidden":false,"merged":[[29,0,29,5],[30,0,30,5]]}
["Ministerio de Educación y Cultura"]
["Dirección de Educación"]
["Área de Investigación y Estadística"]
[]
["Gráfico I-4.1.2"]
[]
[]
[]
[]
[]
[]
[]
[]
[]
[]
[]
[]
[]
[]
[]
[]
[]
[]
[]
[]
[]
[]
[]
[]
["Fuente: Datos UNESCO"]
["Nota: Los porcentajes por región, son promedios ponderados, teniendo en cuenta el tamaño poblacional relativo de los países.  Los cálculos se realizaron con el último dato disponible de UNESCO (año 2000 en adelante)."]

{"sheet":"G I-4.1.3","index":108,"n_rows":31,"n_cols":1,"rows_kept":31,"cut":false,"hidden":false,"merged":[[29,0,29,5],[30,0,30,5]]}
["Ministerio de Educación y Cultura"]
["Dirección de Educación"]
["Área de Investigación y Estadística"]
[]
["Gráfico I-4.1.3"]
[]
[]
[]
[]
[]
[]
[]
[]
[]
[]
[]
[]
[]
[]
[]
[]
[]
[]
[]
[]
[]
[]
[]
[]
["Fuente: Datos UNESCO"]
["Nota: Los porcentajes por región son promedios ponderados, teniendo en cuenta el tamaño poblacional relativo de los países. Los cálculos se realizaron con el último dato disponible de UNESCO (año 2000 en adelante)."]

{"sheet":"G I 4.2.1","index":109,"n_rows":31,"n_cols":1,"rows_kept":31,"cut":false,"hidden":false,"merged":[]}
["Ministerio de Educación y Cultura"]
["Dirección de Educación"]
["Área de Investigación y Estadística"]
[]
["Gráfico I-4.2.1"]
[]
[]
[]
[]
[]
[]
[]
[]
[]
[]
[]
[]
[]
[]
[]
[]
[]
[]
[]
[]
[]
[]
[]
[]
[]
["Fuente: Indicadores Educativos del Mercosur 2000 - 2008."]

{"sheet":"G I 4.2.2","index":110,"n_rows":31,"n_cols":1,"rows_kept":31,"cut":false,"hidden":false,"merged":[]}
["Ministerio de Educación y Cultura"]
["Dirección de Educación"]
["Área de Investigación y Estadística"]
[]
["Gráfico I-4.2.2"]
[]
[]
[]
[]
[]
[]
[]
[]
[]
[]
[]
[]
[]
[]
[]
[]
[]
[]
[]
[]
[]
[]
[]
[]
[]
["Fuente: Indicadores Educativos del Mercosur 2000 - 2008."]

{"sheet":"G I-4.2.3","index":111,"n_rows":30,"n_cols":1,"rows_kept":30,"cut":false,"hidden":false,"merged":[]}
["Ministerio de Educación y Cultura"]
["Dirección de Educación"]
["Área de Investigación y Estadística"]
[]
["Gráfico I-4.2.3"]
[]
[]
[]
[]
[]
[]
[]
[]
[]
[]
[]
[]
[]
[]
[]
[]
[]
[]
[]
[]
[]
[]
[]
[]
["Fuente: Indicadores Educativos del Mercosur 2000 - 2008."]

{"sheet":"G I-4.3.1","index":112,"n_rows":31,"n_cols":1,"rows_kept":31,"cut":false,"hidden":false,"merged":[[30,0,30,6]]}
["Ministerio de Educación y Cultura"]
["Dirección de Educación"]
["Área de Investigación y Estadística"]
[]
["Gráfico I-4.3.1"]
[]
[]
[]
[]
[]
[]
[]
[]
[]
[]
[]
[]
[]
[]
[]
[]
[]
[]
[]
[]
[]
[]
[]
[]
[]
["Fuente: Instituto de Estadística de la Organización de las Naciones Unidas para la Educación, la Ciencia y la Cultura (UNESCO) y, para Uruguay, Área de Investigación y Estadística de la Dirección de Educación del MEC, en base a datos del MEF, en base a CGN."]

{"sheet":"G I-4.3.2","index":113,"n_rows":32,"n_cols":1,"rows_kept":32,"cut":false,"hidden":false,"merged":[[30,0,30,6],[31,0,31,6]]}
["Ministerio de Educación y Cultura"]
["Dirección de Educación"]
["Área de Investigación y Estadística"]
[]
["Gráfico I-4.3.2"]
[]
[]
[]
[]
[]
[]
[]
[]
[]
[]
[]
[]
[]
[]
[]
[]
[]
[]
[]
[]
[]
[]
[]
[]
[]
["Fuente: Instituto de Estadística de la Organización de las Naciones Unidas para la Educación, la Ciencia y la Cultura (UNESCO) y, para Uruguay, Área de Investigación y Estadística de la Dirección de Educación del MEC, en base a datos del MEF, en base a CGN."]
["Nota: Los porcentajes por región, son promedios ponderados. Los cálculos se realizaron con base en el último dato disponible en la fuente (año 2000 en adelante)."]

{"sheet":"G I-4.4.1","index":114,"n_rows":31,"n_cols":1,"rows_kept":31,"cut":false,"hidden":false,"merged":[[30,0,30,6],[31,0,31,6]]}
["Ministerio de Educación y Cultura"]
["Dirección de Educación"]
["Área de Investigación y Estadística"]
[]
["Gráfico I-4.4.1"]
[]
[]
[]
[]
[]
[]
[]
[]
[]
[]
[]
[]
[]
[]
[]
[]
[]
[]
[]
[]
[]
[]
[]
[]
[]
["Fuente: Elaboración propia con base en Uruguay en PISA 2009. Primeros resultados en Ciencias, Matemática y Lectura del Programa Internacional de Evaluación de Estudiantes. Informe Ejecutivo."]

{"sheet":"PRIMERA INFANCIA E INICIAL","index":115,"n_rows":42,"n_cols":1,"rows_kept":42,"cut":false,"hidden":false,"merged":[[10,0,10,4],[17,0,17,4],[36,0,36,4],[38,0,38,4],[12,0,12,4],[15,0,15,4],[19,0,19,4],[41,0,41,4],[22,0,22,4],[25,0,25,4],[28,0,28,4],[31,0,31,4],[34,0,34,4]]}
[]
[]
[]
[]
[]
[]
[]
[]
[]
[]
["CANTIDAD DE ESTABLECIMIENTOS DE EDUCACIÓN INICIAL Y PRIMERA INFANCIA"]
["Cuadro Nº II-1.1.1"]
[{"$f":"' II-1.1.1'!A5:H5","v":"CANTIDAD DE ESTABLECIMIENTOS DE EDUCACIÓN INICIAL POR FORMA DE ADMINISTRACIÓN Y MODALIDAD SEGÚN DEPARTAMENTO. AÑO 2010."}]
[]
["Cuadro Nº  II-1.1.2"]
[{"$f":"'II-1.1.2'!A6:G6","v":"CANTIDAD DE ESTABLECIMIENTOS DE PRIMERA INFANCIA POR FORMA DE ADMINISTRACIÓN SEGÚN DEPARTAMENTO. AÑO 2010."}]
[]
["ALUMNOS MATRICULADOS EN EDUCACIÓN INICIAL Y PRIMERA INFANCIA"]
["Cuadro Nº II-1.2.1"]
[{"$f":"'II-1.2.1'!A5:S5","v":"ALUMNOS MATRICULADOS EN EDUCACIÓN INICIAL POR FORMA DE ADMINISTRACIÓN, MODALIDAD Y SEXO SEGÚN DEPARTAMENTO. AÑO 2010."}]
[]
["Cuadro Nº II-1.2.2"]
[{"$f":"'II-1.2.2'!A6:I6","v":"ALUMNOS MATRICULADOS EN PRIMERA INFANCIA POR FORMA DE ADMINISTRACIÓN Y SEXO SEGÚN DEPARTAMENTO. AÑO 2010."}]
[]
["Cuadro Nº II-1.2.3"]
[{"$f":"'II-1.2.3 '!A7:I7","v":"ALUMNOS MATRICULADOS EN PRIMERA INFANCIA POR FORMA DE ADMINISTRACIÓN SEGÚN EDAD. AÑO 2010."}]
[]
["Cuadro Nº II-1.2.4"]
[{"$f":"'II-1.2.4'!A5:D5","v":"ALUMNOS MATRICULADOS EN EDUCACIÓN INICIAL PÚBLICA EN CLASE JARDINERA POR ÁREA DEMOGRÁFICA SEGÚN DEPARTAMENTO. AÑO 2010."}]
[]
["Cuadro Nº II-1.2.5"]
[{"$f":"'II-1.2.5'!A5:P5","v":"ALUMNOS MATRICULADOS EN EDUCACIÓN INICIAL PRIVADA POR MODALIDAD Y NIVEL SEGÚN DEPARTAMENTO. AÑO 2010."}]
[]
["Cuadro Nº II-1.2.6"]
[{"$f":"'II-1.2.6'!A6:I6","v":"ALUMNOS MATRICULADOS EN  PRIMERA INFANCIA POR EDAD SEGÚN DEPARTAMENTO. AÑO 2010."}]
[]
["PERSONAL DOCENTE EN EDUCACIÓN INICIAL "]
["Cuadro Nº II-1.3.1"]
[{"$f":"'II-1.3.1'!A5:F5","v":"PERSONAL DOCENTE DE EDUCACIÓN INICIAL PÚBLICA SEGÚN DEPARTAMENTO. AÑO 2010."}]
[]
["Cuadro Nº II-1.3.2"]
[{"$f":"'II-1.3.2'!A5:E5","v":"PERSONAL DOCENTE DE EDUCACIÓN INICIAL PRIVADA SEGÚN DEPARTAMENTO. AÑO 2010."}]

{"sheet":" II-1.1.1","index":116,"n_rows":34,"n_cols":8,"rows_kept":34,"cut":false,"hidden":false,"merged":[[0,6,1,7],[4,0,4,7],[5,0,9,0],[5,2,9,2],[7,3,9,3],[5,3,5,7],[7,4,9,4],[7,7,9,7],[7,5,9,5],[7,6,9,6],[6,3,6,6]]}
["CONSEJO DE EDUCACIÓN PRIMARIA",null,null,null,null,null,"ESTABLECIMIENTOS"]
[]
["Cuadro Nº II-1.1.1"]
[]
["CANTIDAD DE ESTABLECIMIENTOS DE EDUCACIÓN INICIAL POR FORMA DE ADMINISTRACIÓN Y MODALIDAD SEGÚN DEPARTAMENTO. AÑO 2010."]
["DEPARTAMENTO",null,"TOTAL","FORMA DE ADMINISTRACIÓN"]
[null,null,null,"PÚBLICA",null,null,null,"PRIVADA"]
[null,null,null,"Total","Jardines de Infantes","JICI","Guarderías","Jardines de Infantes"]
[]
[]
["TOTAL.........................."," ",{"$f":"+C13+C14","v":218},{"$f":"+D13+D14","v":155},{"$f":"SUM(E13:E14)","v":139},{"$f":"SUM(F13:F14)","v":14},{"$f":"SUM(G13:G14)","v":2},{"$f":"SUM(H13:H14)","v":63}]
[]
["MONTEVIDEO..................."," ",{"$f":"+D13+H13","v":86},{"$f":"+E13+F13+G13","v":48},44,3,1,38]
["RESTO DEL PAÍS.........................."," ",{"$f":"+D14+H14","v":132},{"$f":"+E14+F14+G14","v":107},{"$f":"SUM(E16:E33)","v":95},{"$f":"SUM(F16:F33)","v":11},{"$f":"SUM(G16:G33)","v":1},{"$f":"SUM(H16:H33)","v":25}]
[null," "]
["Artigas........................."," ",{"$f":"+D16+H16","v":3},{"$f":"+E16+F16+G16","v":3},3,0,0,0]
["Canelones....................."," ",40,33,30,2,1,7]
["Cerro Largo.................."," ",7,6,5,1,0,1]
["Colonia........................."," ",7,6,5,1,0,1]
["Durazno........................"," ",4,4,3,1,0,0]
["Flores..........................."," ",1,1,1,0,0,0]
["Florida........................"," ",4,2,2,0,0,2]
["Lavalleja......................."," ",6,5,4,1,0,1]
["Maldonado....................."," ",11,7,7,0,0,4]
["Paysandú......................"," ",3,2,1,1,0,1]
["Río Negro....................."," ",4,4,3,1,0,0]
["Rivera......................."," ",5,5,4,1,0,0]
["Rocha........................."," ",7,7,7,0,0,0]
["Salto........................"," ",9,4,4,0,0,5]
["San José......................"," ",6,6,5,1,0,0]
["Soriano......................"," ",5,4,4,0,0,1]
["Tacuarembó...................."," ",7,6,6,0,0,1]
["Treinta y Tres.............."," ",3,2,1,1,0,1]
["Fuente: D.E.E. - C.E.P."]

{"sheet":"II-1.1.2","index":117,"n_rows":37,"n_cols":7,"rows_kept":37,"cut":false,"hidden":false,"merged":[[1,0,1,3],[5,0,5,6],[7,3,9,3],[7,2,9,2],[6,3,6,6],[6,0,9,0],[0,6,1,7],[7,5,9,5],[7,4,9,4],[7,6,9,6]]}
["MINISTERIO DE EDUCACIÓN Y CULTURA",null,null,null,null,null,"Establecimientos"]
["Dirección de Educación – Área de Educación en la Primera Infancia"]
[]
["Cuadro Nº  II-1.1.2"]
[]
["CANTIDAD DE ESTABLECIMIENTOS DE PRIMERA INFANCIA POR FORMA DE ADMINISTRACIÓN SEGÚN DEPARTAMENTO. AÑO 2010."]
["DEPARTAMENTO"]
[null,null,"TOTAL","CAIF","NUESTROS NIÑOS","DIURNOS-INAU","PRIVADOS"]
[]
[]
["TOTAL.........................."," ",{"$f":"+C13+C14","v":909},{"$f":"SUM(D13:D14)","v":324},{"$f":"SUM(E13:E14)","v":18},40,{"$f":"SUM(G13:G14)","v":527}]
[]
["MONTEVIDEO....................."," ",{"$f":"+D13++E13+F13+G13","v":402},75,18,10,299]
["RESTO DEL PAÍS.........................."," ",{"$f":"+D14++E14+F14+G14","v":507},{"$f":"SUM(D16:D33)","v":249},{"$f":"SUM(E16:E33)","v":0},30,228]
[]
["Artigas........................."," ",{"$f":"+D16++E16+F16+G16","v":18},14,0,2,2]
["Canelones...................."," ",{"$f":"+D17++E17+F17+G17","v":130},45,0,2,83]
["Cerro Largo..................."," ",26,19,0,1,6]
["Colonia......................"," ",36,13,0,2,21]
["Durazno........................"," ",22,14,0,3,5]
["Flores........................."," ",8,5,0,1,2]
["Florida......................"," ",18,9,0,2,7]
["Lavalleja...................."," ",14,5,0,1,8]
["Maldonado......................"," ",31,7,0,3,21]
["Paysandú......................"," ",47,22,0,2,23]
["Río Negro......................"," ",18,11,0,2,5]
["Rivera......................."," ",22,14,0,1,7]
["Rocha........................."," ",16,9,0,1,6]
["Salto..........................."," ",31,20,0,1,10]
["San José......................."," ",17,9,0,2,6]
["Soriano........................."," ",24,12,0,1,11]
["Tacuarembó......................"," ",18,12,0,2,4]
["Treinta y Tres.................."," ",11,9,0,1,1]
["Fuente: Procesamiento propio en base a datos proporcionados por:"]
["        Registro Nacional de Centros Educativos en la Primera Infancia. MEC"]
["        Para CAIF Y CENTROS DIURNOS: SIPI de INAU."]
["        Para Programa Nuestros Niños: IMM."]

{"sheet":"II-1.2.1","index":118,"n_rows":36,"n_cols":19,"rows_kept":36,"cut":false,"hidden":false,"merged":[[6,14,6,18],[7,5,9,5],[6,1,7,3],[8,12,8,13],[7,12,7,13],[7,10,7,11],[6,5,6,13],[0,16,1,18],[7,15,7,16],[4,0,4,18],[7,14,9,14],[7,8,7,9],[8,6,8,7],[8,10,8,11],[5,0,8,0],[5,1,5,18],[8,17,8,18],[8,1,9,1],[8,2,8,3],[7,6,7,7],[7,17,7,18],[8,15,8,16],[8,8,8,9]]}
["CONSEJO DE EDUCACIÓN PRIMARIA",null,null,null,null,null,null,null,null,null,null,null,null,null,null,null,"ALUMNOS MATRICULADOS"]
[]
["Cuadro Nº II-1.2.1"]
[]
["ALUMNOS MATRICULADOS EN EDUCACIÓN INICIAL POR FORMA DE ADMINISTRACIÓN, MODALIDAD Y SEXO SEGÚN DEPARTAMENTO. AÑO 2010."]
["CANTIDAD DE ESTABLECIMIENTOS DE PRIMERA INFANCIA POR FORMA DE ADMINISTRACIÓN SEGÚN DEPARTAMENTO. AÑO 2010.","FORMA DE ADMINISTRACIÓN"]
[null,"TOTAL",null,null,null,"PÚBLICA",null,null,null,null,null,null,null,null,"PRIVADA"]
[null,null,null,null,null,"Total Público","Clases Jardineras",null,"Jardines de Infantes",null,"JICI",null,"Guarderías",null,"Total Privada","Jardines de Infantes",null,"Clases Jardineras"]
[null,"TOTAL","SEXO",null,null,null,"SEXO",null,"SEXO",null,"SEXO",null,"SEXO",null,null,"SEXO",null,"SEXO"]
[null,null,"M","F",null,null,"M","F","M","F","M","F","M","F",null,"M","F","M","F"]
["TOTAL..........................",{"$f":"+B13+B14","v":109819},{"$f":"+C13+C14","v":55988},{"$f":"+D13+D14","v":53830.999999999993},null,{"$f":"+F13+F14","v":81875},{"$f":"G13+G14","v":25195.000000000004},{"$f":"H13+H14","v":23719.999999999993},{"$f":"+I13+I14","v":15290},{"$f":"J13+J14","v":14842},{"$f":"K13+K14","v":1307},{"$f":"L13+L14","v":1290},{"$f":"+M13+M14","v":111},{"$f":"N13+N14","v":120},{"$f":"+O13+O14","v":27944},{"$f":"+P13+P14","v":2977},{"$f":"+Q13+Q14","v":2800},{"$f":"+R13+R14","v":11108},{"$f":"+S13+S14","v":11059}]
[]
["MONTEVIDEO.....................",{"$f":"+C13+D13","v":40760},{"$f":"+G13+I13+K13+M13+P13+R13","v":20700.000000000004},{"$f":"+H13+J13+L13+N13+Q13+S13","v":20059.999999999993},null,{"$f":"+G13+H13+I13+J13+K13+L13+M13+N13","v":24014},6206.0000000000045,5949.9999999999945,5494,5364,402,404,93,101,{"$f":"+P13+Q13+R13+S13","v":16746},2048,1904,6457,6337]
["RESTO DEL PAÍS..........................",{"$f":"SUM(B16:B33)","v":69059},{"$f":"SUM(C16:C33)","v":35288},{"$f":"SUM(D16:D33)","v":33771},null,{"$f":"SUM(F16:F33)","v":57861},18989,17770,9796,9478,905,886,18,19,11198,{"$f":"SUM(P16:P33)","v":929},896,4651,4722]
[]
["Artigas.........................",{"$f":"+C16+D16","v":2580.0000000000005},{"$f":"+G16+I16+K16+M16+P16+R16","v":1334.0000000000005},{"$f":"+H16+J16+L16+N16+Q16+S16","v":1246},null,{"$f":"+G16+H16+I16+J16+K16+L16+M16+N16","v":2505.0000000000005},1020.0000000000005,958,275,252,0,0,0,0,{"$f":"+P16+Q16+R16+S16","v":75},0,0,39,36]
["Canelones......................",16803,8559,8244,null,13027,3625,3389.0000000000005,2896,2792,147,141,18,19,3776,287,295,1586,1608]
["Cerro Largo.....................",2964.0000000000005,1467.0000000000002,1497.0000000000002,null,2656.0000000000005,889.00000000000023,889.00000000000023,324,342,101,111,0,0,308,55,51,98,104]
["Colonia...........................",4144,2073,2071,null,3559,1253.9999999999998,1229.0000000000002,481,480,51,64,0,0,585,15,21,272,277]
["Durazno.......................",1911,944,967,null,1722,547,540,256,273,53,53,0,0,189,0,0,88,101]
["Flores.........................",866,402,464,null,677,222,235,108,112,0,0,0,0,189,0,0,72,117]
["Florida.........................",2293.9999999999995,1182,1111.9999999999995,null,2056.9999999999995,699.99999999999989,674.99999999999966,356,326,0,0,0,0,237,70,60,56,51]
["Lavalleja........................",2164,1107,1057,null,1779,445.99999999999994,430.99999999999994,405,389,57,51,0,0,385,41,32,158,154]
["Maldonado........................",6086,3137,2949,null,4046,1320.9999999999998,1238.0000000000002,742,745,0,0,0,0,2040,148,116,926,850]
["Paysandú..........................",4082,2103,1978.9999999999998,null,3571,1399,1280.9999999999998,333,330,122,106,0,0,511,64,62,185,200]
["Río Negro........................",2177,1096.0000000000002,1081,null,1891.0000000000005,558.00000000000023,540.00000000000011,345,294,67,87,0,0,286,0,0,126,160]
["Rivera..........................",4127,2148,1979.0000000000002,null,3678.0000000000005,1215.0000000000002,1096.0000000000002,634,560,80,93,0,0,449,0,0,219,230]
["Rocha..........................",2444,1274.9999999999998,1169,null,2189,605.99999999999977,555,546,482,0,0,0,0,255,0,0,123,132]
["Salto............................",4959,2547,2412.0000000000005,null,4169,1640.9999999999998,1470.0000000000005,523,535,0,0,0,0,790,154,159,229,248]
["San José.......................",3329,1694.0000000000002,1635,null,3054,1039.0000000000002,951,429,468,97,70,0,0,275,0,0,129,146]
["Soriano........................",3038,1572.0000000000005,1465.9999999999998,null,2717,1052.0000000000005,971.99999999999977,350,343,0,0,0,0,321,18,30,152,121]
["Tacuarembó.....................",3404,1780.0000000000002,1624,null,2961,932.00000000000023,830,623,576,0,0,0,0,443,32,31,193,187]
["Treinta y Tres................",1687,867.99999999999989,819,null,1603,522.99999999999989,491.00000000000006,170,179,130,110,0,0,84,45,39,0,0]
["Fuente: Procesamiento propio en base a datos proporcionados por el D.E.E. — C.E.I.P."]
["Nota: Jardines de Infantes incluye Jardines de Tiempo Completo. "]
["      Educación pública y privada no incluye educación Inicial Especial. "]

{"sheet":"II-1.2.2","index":119,"n_rows":41,"n_cols":10,"rows_kept":41,"cut":false,"hidden":false,"merged":[[38,0,38,8],[0,9,1,10],[7,5,8,6],[7,7,8,8],[5,0,5,8],[6,0,10,1],[7,2,8,4],[9,2,9,4],[9,5,9,8],[6,5,6,8]]}
["MINISTERIO DE EDUCACIÓN Y CULTURA",null,null,null,null,null,null,null,null,"Alumnos Matriculados "]
["Dirección de Educación – Área de Educación en la Primera Infancia"]
[]
["Cuadro Nº II-1.2.2"]
[]
["ALUMNOS MATRICULADOS EN PRIMERA INFANCIA POR FORMA DE ADMINISTRACIÓN Y SEXO SEGÚN DEPARTAMENTO. AÑO 2010."]
["  DEPARTAMENTO",null,null,null,null,"FORMA DE ADMINISTRACIÓN"]
[null,null,"TOTAL",null,null,"Privados Subvencionados",null,"Centros Privados"]
[]
[null,null,"SEXO",null,null,"SEXO"]
[null,null,"TOTAL","MASCULINO","FEMENINO","M","F","M","F"]
["TOTAL.........................."," ",{"$f":"+C14+C15","v":49180},{"$f":"+F12+H12","v":25212},{"$f":"+G12+I12","v":23968},{"$f":"F14+F15","v":14131},{"$f":"G14+G15","v":13605},{"$f":"+H14+H15","v":11081},{"$f":"I14+I15","v":10363}]
[null," "]
["MONTEVIDEO....................."," ",{"$f":"+D14+E14","v":21657},{"$f":"+F14+H14","v":11222},{"$f":"+G14+I14","v":10435},{"$f":"3387+618","v":4005},{"$f":"3133+604","v":3737},7217,6698]
["RESTO DEL PAÍS.........................."," ",{"$f":"SUM(C17:C34)","v":27523},13990,13533,10126,9868,3864,3665]
[null," "]
["Artigas........................."," ",{"$f":"+D17+E17","v":1162},{"$f":"+F17+H17","v":616},{"$f":"+G17+I17","v":546},567,493,49,53]
["Canelones......................"," ",6320,3194,3126,1814,1836,1380,1290]
["Cerro Largo....................."," ",1743,889,854,798,740,91,114]
["Colonia..........................."," ",1646,846,800,525,510,321,290]
["Durazno......................."," ",1497,771,726,625,617,146,109]
["Flores........................."," ",483,253,230,217,198,36,32]
["Florida........................."," ",938,468,470,363,351,105,119]
["Lavalleja........................"," ",616,311,305,195,198,116,107]
["Maldonado........................"," ",1481,769,712,348,316,421,396]
["Paysandú.........................."," ",2562,1309,1253,1003,983,306,270]
["Río Negro........................"," ",978,468,510,347,383,121,127]
["Rivera.........................."," ",1393,714,679,603,576,111,103]
["Rocha.........................."," ",783,402,381,367,358,35,23]
["Salto............................"," ",2160,1085,1075,784,773,301,302]
["San José......................."," ",980,508,472,396,380,112,92]
["Soriano........................"," ",1184,595,589,443,421,152,168]
["Tacuarembó....................."," ",1002,496,506,445,450,51,56]
["Treinta y Tres................"," ",595,296,299,286,285,10,14]
["Fuente: Procesamiento propio en base a datos proporcionados por:","Fuente: Procesamiento propio en base a datos proporcionados por:"]
[null,"        Registro Nacional de Centros Educativos en la Primera Infancia. MEC"]
[null,"        Para CAIF: SIPI de INAU. IMM."]
[null,"        Para Programa Nuestros Niños: IMM."]
["Nota: Privados Subvencionados incluye CAIF (régimen de Educación Inicial), y sólo en Montevideo agrega además el Proyecto  Nuestros Niños de la IMM. "]
["El presente cuadro no incluye la matrícula de Centros Diurnos de INAU, por no "]
["contarse con la desagregación por sexo. "]

{"sheet":"II-1.2.3 ","index":120,"n_rows":31,"n_cols":9,"rows_kept":31,"cut":false,"hidden":false,"merged":[[15,6,17,6],[18,6,20,6],[0,10,1,11],[10,5,11,5],[10,7,11,7],[10,8,11,8],[8,5,9,7],[0,8,1,9],[7,5,7,8],[1,0,1,7],[7,0,11,1],[9,2,11,2],[9,4,11,4],[6,0,6,8],[28,0,28,8],[29,0,29,8],[30,0,30,8],[26,0,26,9],[27,0,27,9]]}
["MINISTERIO DE EDUCACIÓN Y CULTURA",null,null,null,null,null,null,null,"ALUMNOS MATRICULADOS"]
["Dirección de Educación – Área de Educación en la Primera Infancia"]
[]
["Cuadro Nº II-1.2.3"]
[]
[]
["ALUMNOS MATRICULADOS EN PRIMERA INFANCIA POR FORMA DE ADMINISTRACIÓN SEGÚN EDAD. AÑO 2010."]
["EDAD",null,null,null,null,"FORMA DE ADMINISTRACIÓN"]
[null,null,null,null,null,"Privados Subvencionados"]
[null,null,"TOTAL (1)",null,"TOTAL"]
[null,null,null,null,null,"CAIF",null,"Proyecto \"Nuestros Niños\"","Privados"]
[null,null,null,null,null,null,"INAU Centros Diurnos"]
[]
["TOTAL.........................."," ",{"$f":"SUM(C16:C21)+G16+G19","v":50685},null,{"$f":"SUM(E16:E21)","v":66453},{"$f":"SUM(F16:F21)","v":43787},{"$f":"G16+G19","v":1505},{"$f":"SUM(H16:H21)","v":1222},{"$f":"SUM(I16:I21)","v":21444}]
[null," "]
["0 a 11 meses........................."," ",{"$f":"H16+I16","v":857},null,{"$f":"F16+H16+I16","v":6815},5958,627,31,826]
["1 año......................"," ",{"$f":"H17+I17","v":3434},null,{"$f":"F17+H17+I17","v":14749},11315,null,122,3312]
["2 años......................"," ",{"$f":"+F18+H18+I18","v":18889},null,{"$f":"F18+H18+I18","v":18889},12157,null,517,6215]
["3 años......................"," ",{"$f":"+F19+H19+I19","v":18662},null,18662,11695,878,520,6447]
["4 años......................","  ",{"$f":"+F20+H20+I20","v":5665},null,5665,2546,null,24,3095]
["5 años......................"," ",{"$f":"+F21+H21+I21","v":1673},null,1673,116,null,8,1549]
[]
["Fuente: Procesamiento propio en base a datos proporcionados por:"]
["        Registro Nacional de Centros Educativos en la Primera Infancia. MEC"]
["        Para CAIF Y CENTROS DIURNOS: SIPI de INAU."]
["        Para Programa Nuestros Niños: IMM."]
["(1). Refiere al total sin considerar experiencia oportuna de los centros CAIF (0 y 1 año)                            "]
[" Nota: La categoría 5 años de CAIF incluye 13 niños/as de 6 años y más."]
["Los datos pertenecientes a INAU Centros Diurnos debido a que los mismos no presentan una "]
["desagregación por edades simples, sino que se consolidan en rangos de edades de 0 a 2 y 3 a 4 años "]
["solo se suman para el total de matrícula. "]

{"sheet":"II-1.2.4","index":121,"n_rows":37,"n_cols":4,"rows_kept":37,"cut":false,"hidden":false,"merged":[[0,2,1,3],[5,0,6,0],[34,0,34,3],[5,1,6,1],[4,0,4,3],[5,2,5,3]]}
["CONSEJO DE EDUCACIÓN PRIMARIA",null,"ALUMNOS MATRICULADOS"]
[]
["Cuadro Nº II-1.2.4"]
[]
["ALUMNOS MATRICULADOS EN EDUCACIÓN INICIAL PÚBLICA EN CLASE JARDINERA POR ÁREA DEMOGRÁFICA SEGÚN DEPARTAMENTO. AÑO 2010."]
["CANTIDAD DE ESTABLECIMIENTOS DE PRIMERA INFANCIA POR FORMA DE ADMINISTRACIÓN SEGÚN DEPARTAMENTO. AÑO 2010.","TOTAL","ÁREA DEMOGRÁFICA"]
[null,null,"URBANA","RURAL"]
[]
["TOTAL ...............................",{"$f":"+C9+D9","v":48915},{"$f":"C11+C12","v":44266},{"$f":"SUM(D11:D12)","v":4649}]
[]
["MONTEVIDEO.....................",{"$f":"+C11+D11","v":12156},12156,0]
["RESTO DEL PAÍS..........................",{"$f":"+C12+D12","v":36759},{"$f":"SUM(C14:C31)","v":32110},{"$f":"SUM(D14:D31)","v":4649}]
[]
["Artigas............................",{"$f":"+C14+D14","v":1978},1754,224]
["Canelones.......................",7014,6280,734]
["Cerro Largo.....................",1778,1556,222]
["Colonia.........................",2483,2109,374]
["Durazno.......................",1087,934,153]
["Flores..........................",457,387,70]
["Florida........................",1375,1158,217]
["Lavalleja.......................",877,744,133]
["Maldonado.......................",2559,2381,178]
["Paysandú......................",2680,2383,297]
["Río Negro.......................",1098,930,168]
["Rivera.........................",2311,1969,342]
["Rocha..........................",1161,1067,94]
["Salto.........................",3111,2703,408]
["San José........................",1990,1641,349]
["Soriano........................",2024,1826,198]
["Tacuarembó......................",1762,1403,359]
["Treinta y Tres.................",1014,885,129]
[]
["Fuente: Procesamiento propio en base a datos proporcionados "]
["        por el D.E.E. — C.E.I.P."]
["Nota: No se presentan datos por Área Demográfica para las Modalidades Privadas, (Clases Jardineras y Jardines de Infantes en Colegios) porque no se registran establecimientos de dichas modalidades en áreas rurales."]
["        "]
["        "]

{"sheet":"II-1.2.5","index":122,"n_rows":36,"n_cols":16,"rows_kept":36,"cut":false,"hidden":false,"merged":[[7,11,7,15],[7,5,7,9],[8,8,9,8],[8,5,9,5],[0,13,1,15],[5,5,5,15],[4,0,4,15],[6,5,6,9],[6,11,6,15],[5,0,9,0],[8,10,9,10],[8,14,9,14],[8,15,9,15],[7,2,9,2],[8,4,9,4],[8,7,9,7],[8,9,9,9],[8,13,9,13],[8,12,9,12],[8,11,9,11],[8,6,9,6]]}
["CONSEJO DE EDUCACIÓN PRIMARIA",null,null,null,null,null,null,null,null,null,null,null,null,"ALUMNOS MATRICULADOS"]
[]
["Cuadro Nº II-1.2.5"]
[]
["ALUMNOS MATRICULADOS EN EDUCACIÓN INICIAL PRIVADA POR MODALIDAD Y NIVEL SEGÚN DEPARTAMENTO. AÑO 2010."]
["DEPARTAMENTO",null,null,null,null,"MODALIDAD"]
[null,null,null,null,null,"JARDINES DE INFANTES",null,null,null,null,null,"CLASES JARDINERAS"]
[null,null,"TOTAL",null,null,"NIVEL",null,null,null,null,null,"NIVEL"]
[null,null,null,null,"Total","Nursery","2 años","3 años","4 años","5 años","Total","Nursery","2 años","3 años","4 años","5 años"]
[]
[]
["TOTAL........................."," ",{"$f":"+C14+C15","v":27944},null,{"$f":"+E14+E15","v":5777},{"$f":"SUM(F14:F15)","v":752},{"$f":"SUM(G14:G15)","v":1438},{"$f":"SUM(H14:H15)","v":1483},{"$f":"SUM(I14:I15)","v":1241},{"$f":"SUM(J14:J15)","v":863},{"$f":"+K14+K15","v":22167},{"$f":"SUM(L14:L15)","v":934},{"$f":"SUM(M14:M15)","v":2795},{"$f":"SUM(N14:N15)","v":4563},{"$f":"SUM(O14:O15)","v":6302},{"$f":"SUM(P14:P15)","v":7573}]
[]
["MONTEVIDEO...................."," ",{"$f":"+E14+K14","v":16746},null,{"$f":"SUM(F14:J14)","v":3952},552,991,966,830,613,{"$f":"+L14+M14+N14+O14+P14","v":12794},582,1484,2555,3708,4465]
["RESTO DEL PAÍS.........................."," ",{"$f":"SUM(C17:C34)","v":11198},null,{"$f":"SUM(E17:E34)","v":1825},200,447,517,411,250,{"$f":"SUM(K17:K34)","v":9373},352,1311,2008,2594,3108]
[]
["Artigas......................."," ",{"$f":"+E17+K17","v":75},null,{"$f":"SUM(F17:J17)","v":0},0,0,0,0,0,{"$f":"+L17+M17+N17+O17+P17","v":75},0,19,27,14,15]
["Canelones....................."," ",3776,null,582,13,126,152,166,125,3194,121,384,668,914,1107]
["Cerro Largo..................."," ",308,null,106,22,23,37,24,0,202,0,41,30,51,80]
["Colonia......................."," ",585,null,36,13,0,9,8,6,549,83,83,124,134,125]
["Durazno......................."," ",189,null,0,0,0,0,0,0,189,0,0,52,56,81]
["Flores........................."," ",189,null,0,0,0,0,0,0,189,0,29,42,63,55]
["Florida........................"," ",237,null,130,27,39,35,28,1,107,0,6,23,31,47]
["Lavalleja......................"," ",385,null,73,31,22,20,0,0,312,0,45,52,96,119]
["Maldonado....................."," ",2040,null,264,18,61,82,65,38,1776,38,248,388,485,617]
["Paysandú......................."," ",511,null,126,14,24,33,24,31,385,3,31,49,136,166]
["Río Negro...................."," ",286,null,0,0,0,0,0,0,286,0,57,59,76,94]
["Rivera........................"," ",449,null,0,0,0,0,0,0,449,22,85,110,118,114]
["Rocha........................."," ",255,null,0,0,0,0,0,0,255,31,37,47,56,84]
["Salto........................"," ",790,null,313,38,96,97,59,23,477,46,58,92,127,154]
["San José......................"," ",275,null,0,0,0,0,0,0,275,0,60,61,85,69]
["Soriano......................."," ",321,null,48,13,22,10,3,0,273,0,52,78,63,80]
["Tacuarembó...................."," ",443,null,63,11,17,18,9,8,380,8,76,106,89,101]
["Treinta y Tres................"," ",84,null,84,0,17,24,25,18,0,0,0,0,0,0]
[]
["Fuente: Procesamiento propio en base a datos proporcionados por el D.E.E. — C.E.I.P."]

{"sheet":"II-1.2.6","index":123,"n_rows":38,"n_cols":11,"rows_kept":38,"cut":false,"hidden":false,"merged":[[37,0,37,8],[0,10,1,11],[7,3,8,3],[7,2,8,2],[6,3,6,8],[7,4,8,4],[7,5,8,5],[7,6,8,6],[7,7,8,7],[7,8,8,8],[6,0,8,0],[11,10,12,12],[5,0,5,8]]}
["MINISTERIO DE EDUCACIÓN Y CULTURA",null,null,null,null,null,null,null,null,null,"ALUMNOS MATRICULADOS"]
["Dirección de Educación – Área de Educación en la Primera Infancia"]
[]
["Cuadro Nº II-1.2.6"]
[]
["ALUMNOS MATRICULADOS EN  PRIMERA INFANCIA POR EDAD SEGÚN DEPARTAMENTO. AÑO 2010."]
["DEPARTAMENTO",null,null,"E D A D"]
[null,null,"TOTAL","0 a 11 meses","1 año","2 años","3 años","4 años","5 años"]
[]
["TOTAL.........................."," ",{"$f":"+C12+C13","v":66453},6815,14749,18889,18662,5665,1673]
[null," "]
["MONTEVIDEO....................."," ",{"$f":"+D12+E12+F12+G12+H12+I12","v":25757},1971,5062,7433,7629,2638,1024]
["RESTO DEL PAÍS.........................."," ",{"$f":"SUM(C15:C32)","v":40696},4844,9687,11456,11033,3027,649]
[null," "]
["Artigas........................."," ",{"$f":"+D15+E15+F15+G15+H15+I15","v":1902},251,509,513,520,106,3]
["Canelones...................."," ",8784,898,1985,2371,2479,798,253]
["Cerro Largo..................."," ",2706,338,645,762,755,178,28]
["Colonia......................"," ",2367,269,584,697,672,143,2]
["Durazno........................"," ",2264,285,528,580,605,238,28]
["Flores........................."," ",729,75,177,185,194,77,21]
["Florida......................"," ",1362,151,318,446,362,81,4]
["Lavalleja...................."," ",914,131,230,258,240,49,6]
["Maldonado......................"," ",1893,141,374,560,507,213,98]
["Paysandú......................"," ",3765,487,853,1038,1009,323,55]
["Río Negro......................"," ",1473,185,381,440,377,72,18]
["Rivera......................."," ",2191,307,548,602,568,152,14]
["Rocha........................."," ",1290,186,343,369,335,56,1]
["Salto..........................."," ",3241,386,801,941,866,169,78]
["San José......................."," ",1492,193,354,459,415,62,9]
["Soriano........................."," ",1703,181,380,500,465,156,21]
["Tacuarembó......................"," ",1640,246,423,458,397,110,6]
["Treinta y Tres.................."," ",980,134,254,277,267,44,4]
["Fuente: Procesamiento propio en base a datos proporcionados por:"]
["        Registro Nacional de Centros Educativos en la Primera Infancia. MEC"]
["        Para CAIF Y CENTROS DIURNOS: SIPI de INAU"]
["        Para Programa Nuestros Niños: IMM."]
["Nota: No se presentan los datos pertenecientes a INAU Centros Diurnos por no "]
["contarse con la desagregación por edades simples."]

{"sheet":"II-1.3.1","index":124,"n_rows":36,"n_cols":5,"rows_kept":36,"cut":false,"hidden":false,"merged":[[0,3,1,5],[5,0,6,1],[5,4,6,5],[33,0,33,5],[4,0,4,5]]}
["CONSEJO DE EDUCACIÓN PRIMARIA",null,null,"PERSONAL DOCENTE"]
[]
["Cuadro Nº II-1.3.1"]
[]
["PERSONAL DOCENTE DE EDUCACIÓN INICIAL PÚBLICA SEGÚN DEPARTAMENTO. AÑO 2010."]
["CANTIDAD DE ESTABLECIMIENTOS DE PRIMERA INFANCIA POR FORMA DE ADMINISTRACIÓN SEGÚN DEPARTAMENTO. AÑO 2010.",null,null,null,"DOCENTES"]
[]
[]
["TOTAL...........................",null," ",null,{"$f":"SUM(E11:E12)","v":2946}]
[null,null," "]
["MONTEVIDEO......................",null," ",null,1015]
["RESTO DEL PAÍS.......................",null," ",null,{"$f":"SUM(E14:E31)","v":1931}]
[null,null," "]
["Artigas.........................",null," ",null,83]
["Canelones.......................",null," ",null,448]
["Cerro Largo.....................",null," ",null,93]
["Colonia.........................",null," ",null,104]
["Durazno.........................",null," ",null,54]
["Flores..........................",null," ",null,28]
["Florida..........................",null," ",null,76]
["Lavalleja........................",null," ",null,66]
["Maldonado........................",null," ",null,155]
["Paysandú........................",null," ",null,99]
["Río Negro........................",null," ",null,67]
["Rivera..........................",null," ",null,115]
["Rocha.............................",null," ",null,77]
["Salto...........................…",null," ",null,129]
["San José.........................",null," ",null,94]
["Soriano.........................",null," ",null,89]
["Tacuarembó.......................",null," ",null,89]
["Treinta y Tres..................",null," ",null,65]
[]
["Fuente: D.E.E. - C.E.P."]
["Nota: Listado de Cargos de la División Planeamiento Administrativo. Departamento de Cómputos. Julio de 2010. "]
["        "]
["        "]

{"sheet":"II-1.3.2","index":125,"n_rows":37,"n_cols":5,"rows_kept":37,"cut":false,"hidden":false,"merged":[[0,4,1,5],[5,3,6,4],[5,0,8,0],[34,0,34,4],[4,0,4,4],[7,3,8,3],[7,4,8,4],[7,2,8,2]]}
["CONSEJO DE EDUCACIÓN PRIMARIA",null,null,null,"PERSONAL DOCENTE"]
[]
["Cuadro Nº II-1.3.2"]
[]
["PERSONAL DOCENTE DE EDUCACIÓN INICIAL PRIVADA SEGÚN DEPARTAMENTO. AÑO 2010."]
["CANTIDAD DE ESTABLECIMIENTOS DE PRIMERA INFANCIA POR FORMA DE ADMINISTRACIÓN SEGÚN DEPARTAMENTO. AÑO 2010.",null,null,"DOCENTES"]
[]
[null,null,"TOTAL","Colegios Habilitados","Colegios Autorizados"]
[]
["TOTAL.........................."," ",{"$f":"SUM(C12:C13)","v":825},{"$f":"SUM(D12:D13)","v":781},{"$f":"SUM(E12:E13)","v":44}]
[]
["MONTEVIDEO....................."," ",{"$f":"+D12+E12","v":495},465,30]
["RESTO DEL PAÍS.........................."," ",{"$f":"SUM(C15:C32)","v":330},{"$f":"SUM(D15:D32)","v":316},{"$f":"SUM(E15:E32)","v":14}]
[]
["Artigas........................"," ",{"$f":"+D15+E15","v":2},2,0]
["Canelones................."," ",128,118,10]
["Cerro Largo..................."," ",7,7,0]
["Colonia......................."," ",21,21,0]
["Durazno........................"," ",5,5,0]
["Flores........................."," ",6,6,0]
["Florida......................."," ",4,4,0]
["Lavalleja......................"," ",8,8,0]
["Maldonado...................."," ",54,54,0]
["Paysandú....................."," ",18,18,0]
["Río Negro....................."," ",13,10,3]
["Rivera.........................."," ",11,11,0]
["Rocha..........................."," ",8,8,0]
["Salto..........................."," ",14,14,0]
["San José........................"," ",9,8,1]
["Soriano........................"," ",10,10,0]
["Tacuarembó....................."," ",12,12,0]
["Treinta y Tres.................."," ",0,0,0]
[]
["Fuente: D.E.E. — C.E.P."]
["Nota: Incluye información de las Clases Jardineras Privadas. No incluye información de Jardines de Infantes Privados. "]
["        "]
["        "]

{"sheet":"PRIMARIA","index":126,"n_rows":84,"n_cols":1,"rows_kept":84,"cut":false,"hidden":false,"merged":[[10,0,10,4],[23,0,23,4],[78,0,78,4],[73,0,73,4],[76,0,76,4],[37,0,37,4],[40,0,40,4],[43,0,43,4],[46,0,46,4],[31,0,31,4],[34,0,34,4],[12,0,12,4],[15,0,15,4],[18,0,18,4],[21,0,21,4],[25,0,25,4],[28,0,28,4],[80,0,80,4],[83,0,83,4],[49,0,49,4],[52,0,52,4],[55,0,55,4],[58,0,58,4],[61,0,61,4],[64,0,64,4],[67,0,67,4],[70,0,70,4]]}
[]
[]
[]
[]
[]
[]
[]
[]
[]
[]
["ESTABLECIMIENTOS DE EDUCACIÓN PRIMARIA"]
["Cuadro Nº II-2.1.1"]
[{"$f":"'II-2.1.1'!A5:G5","v":"ESTABLECIMIENTOS DE EDUCACIÓN PRIMARIA POR FORMA DE ADMINISTRACIÓN Y TIPO DE EDUCACIÓN SEGÚN DEPARTAMENTO. AÑO 2010."}]
[]
["Cuadro Nº II-2.1.2"]
[{"$f":"' II-2.1.2 '!A5:L5","v":"ESTABLECIMIENTOS DE EDUCACIÓN PRIMARIA PÚBLICA COMÚN POR ÁREA DEMOGRÁFICA Y CATEGORÍA SEGÚN DEPARTAMENTO. AÑO 2010."}]
[]
["Cuadro Nº II-2.1.3"]
[{"$f":"'II-2.1.3'!A5:F5","v":"ESTABLECIMIENTOS DE EDUCACIÓN PRIMARIA PÚBLICA ESPECIAL POR TIPO DE DISCAPACIDAD SEGÚN DEPARTAMENTO. AÑO 2010."}]
[]
["Cuadro Nº II-2.1.4"]
[{"$f":"'II-2.1.4'!A5:H5","v":"ESTABLECIMIENTOS DE EDUCACIÓN PRIMARIA PRIVADA POR TIPO DE EDUCACIÓN SEGÚN DEPARTAMENTO. AÑO 2010."}]
[]
["ALUMNOS MATRICULADOS EN EDUCACIÓN PRIMARIA"]
["Cuadro Nº II-2.2.1"]
[{"$f":"'II-2.2.1'!A5:L5","v":"ALUMNOS MATRICULADOS EN EDUCACIÓN PRIMARIA COMÚN POR FORMA DE ADMINISTRACIÓN Y SEXO SEGÚN DEPARTAMENTO. AÑO 2010."}]
[]
["Cuadro Nº II-2.2.2"]
[{"$f":"'II-2.2.2'!A5:J5","v":"ALUMNOS MATRICULADOS EN EDUCACIÓN PRIMARIA PÚBLICA POR TIPO DE EDUCACIÓN Y SEXO SEGÚN DEPARTAMENTO. AÑO 2010."}]
[]
["Cuadro Nº II-2.2.3"]
[{"$f":"'II-2.2.3'!A5:L5","v":"ALUMNOS MATRICULADOS EN EDUCACIÓN PRIMARIA PÚBLICA COMÚN POR ÁREA DEMOGRÁFICA Y CATEGORÍA SEGÚN DEPARTAMENTO. AÑO 2010."}]
[]
["Cuadro Nº II-2.2.4"]
[{"$f":"'II-2.2.4'!A5:G5","v":"ALUMNOS MATRICULADOS EN EDUCACIÓN PRIMARIA PÚBLICA ESPECIAL POR TIPO DE DISCAPACIDAD SEGÚN DEPARTAMENTO. AÑO 2010."}]
[]
["Cuadro Nº II-2.2.5"]
[{"$f":"'II-2.2.5'!A5:G5","v":"ALUMNOS MATRICULADOS EN EDUCACIÓN PRIMARIA PRIVADA POR TIPO DE EDUCACIÓN SEGÚN DEPARTAMENTO. AÑO 2010."}]
[]
["Cuadro Nº II-2.2.6"]
[{"$f":"'II-2.2.6'!A5:R5","v":"ALUMNOS MATRICULADOS EN EDUCACIÓN PRIMARIA POR FORMA DE ADMINISTRACIÓN, TIPO DE EDUCACIÓN Y SEXO SEGÚN EDAD. AÑO 2010."}]
[]
["Cuadro Nº II-2.2.7"]
[{"$f":"'II-2.2.7'!A5:Q5","v":"ALUMNOS MATRICULADOS EN EDUCACIÓN PRIMARIA POR GRADO Y FORMA DE ADMINISTRACIÓN SEGÚN EDAD. AÑO 2010."}]
[]
["Cuadro Nº II-2.2.8"]
[{"$f":"'II-2.2.8'!A5:R5","v":"ALUMNOS MATRICULADOS EN EDUCACIÓN PRIMARIA COMÚN PÚBLICA POR GRADO Y SEXO SEGÚN EDAD. AÑO 2010."}]
[]
["Cuadro Nº II-2.2.9"]
[{"$f":"'II-2.2.9'!A5:R5","v":"ALUMNOS MATRICULADOS EN EDUCACIÓN PRIMARIA COMÚN PRIVADA POR GRADO Y SEXO SEGÚN EDAD. AÑO 2010."}]
[]
["Cuadro Nº II-2.2.10"]
[{"$f":"'II-2.2.10'!A5:O5","v":"ALUMNOS MATRICULADOS EN EDUCACIÓN PRIMARIA COMÚN POR GRADO Y FORMA DE ADMINISTRACIÓN SEGÚN DEPARTAMENTO. AÑO 2010."}]
[]
["Cuadro Nº II-2.2.11"]
[{"$f":"'II-2.2.11'!A5:G5","v":"ALUMNOS MATRICULADOS EN EDUCACIÓN PRIMARIA COMÚN PÚBLICA POR RENDIMIENTO ESCOLAR Y ÁREA DEMOGRÁFICA SEGÚN DEPARTAMENTO. AÑO 2010."}]
[]
["Cuadro Nº II-2.2.12"]
[{"$f":"'II-2.2.12'!A5:G5","v":"ALUMNOS MATRICULADOS EN EDUCACIÓN PRIMARIA COMÚN PÚBLICA POR RENDIMIENTO ESCOLAR Y ÁREA DEMOGRÁFICA SEGÚN GRADO. AÑO 2010."}]
[]
["Cuadro Nº II-2.2.13"]
[{"$f":"'II-2.2.13 '!A5:G5","v":"ALUMNOS MATRICULADOS EN EDUCACIÓN PRIMARIA COMÚN PÚBLICA POR RENDIMIENTO ESCOLAR Y SEXO SEGÚN DEPARTAMENTO. AÑO 2010."}]
[]
["Cuadro Nº II-2.2.14"]
[{"$f":"'II-2.2.14'!A5:G5","v":"ALUMNOS MATRICULADOS EN EDUCACIÓN PRIMARIA COMÚN PRIVADA POR RENDIMIENTO ESCOLAR Y SEXO SEGÚN DEPARTAMENTO. AÑO 2010."}]
[]
["Cuadro Nº II-2.2.15"]
[{"$f":"'II-2.2.15 '!A5:D5","v":"ALUMNOS MATRICULADOS EGRESADOS DE EDUCACIÓN PRIMARIA COMÚN PÚBLICA POR ÁREA DEMOGRÁFICA SEGÚN DEPARTAMENTO. AÑO 2010."}]
[]
["Cuadro Nº II-2.2.16"]
[{"$f":"'II-2.2.16 '!A5:I5","v":"ALUMNOS MATRICULADOS Y EGRESADOS DE EDUCACIÓN PRIMARIA COMÚN POR FORMA DE ADMINISTRACIÓN SEGÚN DEPARTAMENTO. AÑO 2010."}]
[]
["Cuadro Nº II-2.2.17"]
[{"$f":"'II-2.2.17 '!A5:G5","v":"ASISTENCIA INSUFICIENTE Y ABANDONO INTERMITENTE DE 1º GRADO Y 1º A 6º GRADO EN EDUCACIÓN COMÚN PÚBLICA SEGÚN DEPARTAMENTO. AÑO 2010."}]
[]
["Cuadro Nº II-2.2.18"]
[{"$f":"'II-2.2.18'!A5:I5","v":"ALUMNOS MATRICULADOS EN EDUCACIÓN PRIMARIA ESPECIAL PÚBLICA POR TIPO DE ESTABLECIMIENTO Y SEXO SEGÚN DEPARTAMENTO. AÑO 2010."}]
[]
["PERSONAL DOCENTE EN EDUCACIÓN PRIMARIA"]
["Cuadro Nº II-2.3.1"]
[{"$f":"'II-2.3.1'!A5:K5","v":"PERSONAL DOCENTE DE EDUCACIÓN PRIMARIA PÚBLICA POR TIPO DE DESEMPEÑO DOCENTE SEGÚN DEPARTAMENTO. AÑO 2010."}]
[]
["Cuadro Nº II-2.3.2"]
[{"$f":"'II-2.3.2'!A5:L5","v":"PERSONAL DOCENTE DE EDUCACIÓN PRIMARIA PRIVADA POR TIPO DE ESTABLECIMIENTO Y TIPO DE DESEMPEÑO DOCENTE SEGÚN DEPARTAMENTO. AÑO 2010."}]

{"sheet":"II-2.1.1","index":127,"n_rows":36,"n_cols":7,"rows_kept":36,"cut":false,"hidden":false,"merged":[[0,5,1,7],[4,0,4,6],[6,2,9,2],[5,0,9,0],[5,3,5,6],[6,3,6,6],[8,3,9,3],[8,4,9,4],[8,5,9,5],[8,6,9,6],[7,3,7,4],[7,5,7,6]]}
["CONSEJO DE EDUCACIÓN PRIMARIA",null,null,null,null,"ESTABLECIMIENTOS"]
[]
["Cuadro Nº II-2.1.1"]
[]
["ESTABLECIMIENTOS DE EDUCACIÓN PRIMARIA POR FORMA DE ADMINISTRACIÓN Y TIPO DE EDUCACIÓN SEGÚN DEPARTAMENTO. AÑO 2010."]
["DEPARTAMENTO",null,null,"FORMA DE ADMINISTRACIÓN"]
[null,null,"TOTAL","TIPO DE EDUCACIÓN"]
[null,null,null,"PÚBLICA",null,"PRIVADA"]
[null,null,null,"Común","Especial","Común","Especial"]
[]
[]
["TOTAL.............................."," ",{"$f":"+C14+C15","v":2548},{"$f":"SUM(D14:D15)","v":2067},{"$f":"SUM(E14:E15)","v":78},{"$f":"SUM(F14:F15)","v":339},{"$f":"SUM(G14:G15)","v":64}]
[]
["MONTEVIDEO.........................."," ",{"$f":"+D14+E14+F14+G14","v":493},256,25,169,43]
["RESTO DEL PAÍS........................."," ",{"$f":"SUM(D15:G15)","v":2055},{"$f":"SUM(D17:D34)","v":1811},{"$f":"SUM(E17:E34)","v":53},{"$f":"SUM(F17:F34)","v":170},{"$f":"SUM(G17:G34)","v":21}]
[]
["Artigas............................"," ",{"$f":"+D17+E17+F17+G17","v":79},74,2,1,2]
["Canelones......................"," ",303,230,10,62,1]
["Cerro Largo........................."," ",127,118,3,6,0]
["Colonia............................"," ",140,127,4,9,0]
["Durazno.............................."," ",85,80,2,3,0]
["Flores............................."," ",40,36,1,3,0]
["Florida............................"," ",108,101,2,4,1]
["Lavalleja........................"," ",97,89,2,6,0]
["Maldonado......................"," ",108,77,4,24,3]
["Paysandú........................."," ",118,104,2,8,4]
["Río Negro......................."," ",70,61,2,6,1]
["Rivera............................"," ",136,124,4,8,0]
["Rocha............................."," ",80,71,3,4,2]
["Salto............................"," ",115,102,3,8,2]
["San José............................"," ",117,107,3,7,0]
["Soriano............................"," ",112,101,3,3,5]
["Tacuarembó........................."," ",143,135,2,6,0]
["Treinta y Tres....................."," ",77,74,1,2,0]
[]
["Fuente: Procesamiento propio en base a datos proporcionados por el D.E.E. — C.E.I.P."]

{"sheet":" II-2.1.2 ","index":128,"n_rows":36,"n_cols":12,"rows_kept":36,"cut":false,"hidden":false,"merged":[[8,7,9,7],[8,8,9,8],[0,10,1,11],[7,10,7,11],[8,4,9,4],[8,5,9,5],[8,6,9,6],[4,0,4,11],[5,3,5,11],[6,4,6,8],[6,10,6,11],[5,1,9,1],[5,0,9,0],[8,10,9,10],[8,11,9,11],[7,4,7,8],[7,9,9,9],[7,3,9,3]]}
["CONSEJO DE EDUCACIÓN PRIMARIA",null,null,null,null,null,null,null,null,null,"ESTABLECIMIENTOS"]
[]
["Cuadro Nº II-2.1.2"]
[]
["ESTABLECIMIENTOS DE EDUCACIÓN PRIMARIA PÚBLICA COMÚN POR ÁREA DEMOGRÁFICA Y CATEGORÍA SEGÚN DEPARTAMENTO. AÑO 2010."]
["DEPARTAMENTO","TOTAL",null,"ÁREA DEMOGRÁFICA"]
[null,null,null,null,"URBANA",null,null,null,null,null,"RURAL"]
[null,null,null,"Total Urbana","CATEGORÍA",null,null,null,null,"Total Rural","CATEGORÍA"]
[null,null,null,null,"Común","De Práctica","C.S.C.C.","Tiempo Completo","JICI",null,"Común","Internado Rural"]
[]
[]
["TOTAL........................",{"$f":"+D12+J12","v":2081},null,{"$f":"+D14+D15","v":948},{"$f":"+E14+E15","v":400},{"$f":"SUM(F14:F15)","v":115},{"$f":"SUM(G14:G15)","v":285},{"$f":"SUM(H14:H15)","v":134},{"$f":"SUM(I14:I15)","v":14},{"$f":"+K12+L12","v":1133},{"$f":"SUM(K14:K15)","v":1127},{"$f":"SUM(L14:L15)","v":6}]
[]
["MONTEVIDEO....................",{"$f":"+D14+J14","v":259},null,{"$f":"+E14+F14+G14+H14+I14","v":259},114,23,86,33,3,"N/C","N/C","N/C"]
["RESTO DEL PAÍS.........................",{"$f":"SUM(B17:B34)","v":1822},null,{"$f":"SUM(D17:D34)","v":689},286,92,199,101,11,{"$f":"+K15+L15","v":1133},{"$f":"SUM(K17:K34)","v":1127},{"$f":"SUM(L17:L34)","v":6}]
[]
["Artigas........................",{"$f":"+D17+J17","v":74},null,{"$f":"+E17+F17+G17+H17+I17","v":29},7,4,12,6,0,{"$f":"+K17+L17","v":45},44,1]
["Canelones................",232,null,134,59,15,43,15,2,98,98,0]
["Cerro Largo.....................",119,null,30,7,6,11,5,1,89,89,0]
["Colonia........................",128,null,44,28,5,5,5,1,84,84,0]
["Durazno.......................",81,null,25,8,3,9,4,1,56,56,0]
["Flores..........................",36,null,10,5,2,1,2,0,26,25,1]
["Florida........................",101,null,31,14,4,7,6,0,70,70,0]
["Lavalleja.....................",90,null,26,13,4,3,5,1,64,64,0]
["Maldonado......................",77,null,39,23,4,4,8,0,38,37,1]
["Paysandú......................",105,null,48,18,7,17,5,1,57,55,2]
["Río Negro.....................",62,null,23,10,3,5,4,1,39,38,1]
["Rivera.........................",125,null,40,8,5,22,4,1,85,85,0]
["Rocha.........................",71,null,31,14,4,7,6,0,40,40,0]
["Salto........................",102,null,41,16,5,12,8,0,61,61,0]
["San José.......................",108,null,37,17,5,9,5,1,71,71,0]
["Soriano.......................",101,null,36,18,4,10,4,0,65,65,0]
["Tacuarembó.....................",135,null,42,12,6,18,6,0,93,93,0]
["Treinta y Tres..................",75,null,23,9,6,4,3,1,52,52,0]
[]
["Fuente: Procesamiento propio en base a datos proporcionados por el D.E.E. — C.E.I.P."]

{"sheet":"II-2.1.3","index":129,"n_rows":39,"n_cols":6,"rows_kept":39,"cut":false,"hidden":false,"merged":[[34,0,34,5],[0,4,1,5],[4,0,4,5],[6,3,7,3],[6,4,7,4],[6,5,7,5],[5,3,5,5],[5,0,7,0],[5,2,7,2]]}
["CONSEJO DE EDUCACIÓN PRIMARIA",null,null,null,"Establecimientos"]
[]
["Cuadro Nº II-2.1.3"]
[]
["ESTABLECIMIENTOS DE EDUCACIÓN PRIMARIA PÚBLICA ESPECIAL POR TIPO DE DISCAPACIDAD SEGÚN DEPARTAMENTO. AÑO 2010."]
["DEPARTAMENTO",null,"TOTAL","DISCAPACIDAD"]
[null,null,null,"Intelectual","Auditiva","Visual"]
[]
[]
["TOTAL.........................."," ",{"$f":"+C12+C13","v":82},{"$f":"SUM(D12:D13)","v":74},{"$f":"SUM(E12:E13)","v":4},{"$f":"SUM(F12:F13)","v":4}]
[]
["MONTEVIDEO........................"," ",{"$f":"+D12+E12+F12","v":27},22,1,4]
["RESTO DEL PAÍS........................."," ",{"$f":"SUM(C15:C32)","v":55},{"$f":"SUM(D15:D32)","v":52},{"$f":"SUM(E15:E32)","v":3},{"$f":"SUM(F15:F32)","v":0}]
[]
["Artigas........................"," ",{"$f":"+D15+E15+F15","v":2},2,0,0]
["Canelones................."," ",10,10,0,0]
["Cerro Largo...................."," ",3,3,0,0]
["Colonia......................."," ",4,4,0,0]
["Durazno......................."," ",2,2,0,0]
["Flores........................"," ",1,1,0,0]
["Florida......................."," ",2,2,0,0]
["Lavalleja......................"," ",2,2,0,0]
["Maldonado......................"," ",4,3,1,0]
["Paysandú......................."," ",2,2,0,0]
["Río Negro......................"," ",2,2,0,0]
["Rivera........................."," ",4,3,1,0]
["Rocha........................."," ",3,3,0,0]
["Salto..........................."," ",3,2,1,0]
["San José......................."," ",5,5,0,0]
["Soriano........................"," ",3,3,0,0]
["Tacuarembó....................."," ",2,2,0,0]
["Treinta y Tres................"," ",1,1,0,0]
[]
["Fuente: D.E.E. — C.E.P."]
["Nota: Los establecimientos que atienden discapacidades intelectuales, además de atender niños con disfunciones clásicamente tipificadas como “Intelectuales”, atienden a los niños con discapacidades de orden motriz o de carácter, lo que implica que la matrícula correspondiente los agrupa."]
["        "]
["        "]
["       "]
["        "]

{"sheet":"II-2.1.4","index":130,"n_rows":35,"n_cols":8,"rows_kept":35,"cut":false,"hidden":false,"merged":[[6,7,8,7],[0,6,1,7],[5,5,5,7],[7,6,8,6],[4,0,4,7],[7,5,8,5],[5,2,8,2],[6,4,8,4],[5,0,8,0],[6,5,6,6]]}
["CONSEJO DE EDUCACIÓN PRIMARIA",null,null,null,null,null,"ESTABLECIMIENTOS"]
[]
["Cuadro Nº II-2.1.4"]
[]
["ESTABLECIMIENTOS DE EDUCACIÓN PRIMARIA PRIVADA POR TIPO DE EDUCACIÓN SEGÚN DEPARTAMENTO. AÑO 2010."]
["DEPARTAMENTO",null,"TOTAL",null,null,"TIPO DE EDUCACIÓN"]
[null,null,null,null,"Total","EDUCACIÓN COMÚN",null,"EDUCACIÓN ESPECIAL"]
[null,null,null,null,null,"Habilitados","Autorizados"]
[]
[]
["TOTAL DEL PAÍS............."," ",{"$f":"+C13+C14","v":403},null,{"$f":"+E13+E14","v":339},{"$f":"+F13+F14","v":21},{"$f":"+G13+G14","v":318},{"$f":"+H13+H14","v":64}]
[]
["MONTEVIDEO........................"," ",{"$f":"+E13+H13","v":211},null,{"$f":"+F13+G13","v":168},11,157,{"$f":"'II-2.1.1'!G14","v":43}]
["RESTO DEL PAÍS........................."," ",{"$f":"SUM(C16:C33)","v":192},null,{"$f":"SUM(E16:E33)","v":171},{"$f":"SUM(F16:F33)","v":10},{"$f":"SUM(G16:G33)","v":161},{"$f":"SUM(H16:H33)","v":21}]
[null," "]
["Artigas........................"," ",{"$f":"+E16+H16","v":3},null,{"$f":"+F16+G16","v":1},0,1,{"$f":"'II-2.1.1'!G17","v":2}]
["Canelones................."," ",63,null,62,5,57,{"$f":"'II-2.1.1'!G18","v":1}]
["Cerro Largo...................."," ",6,null,6,1,5,{"$f":"'II-2.1.1'!G19","v":0}]
["Colonia......................."," ",9,null,9,0,9,{"$f":"'II-2.1.1'!G20","v":0}]
["Durazno......................."," ",3,null,3,0,3,{"$f":"'II-2.1.1'!G21","v":0}]
["Flores........................"," ",3,null,3,0,3,{"$f":"'II-2.1.1'!G22","v":0}]
["Florida......................."," ",5,null,4,0,4,{"$f":"'II-2.1.1'!G23","v":1}]
["Lavalleja......................"," ",6,null,6,0,6,{"$f":"'II-2.1.1'!G24","v":0}]
["Maldonado......................"," ",27,null,24,0,24,{"$f":"'II-2.1.1'!G25","v":3}]
["Paysandú......................."," ",13,null,9,1,8,{"$f":"'II-2.1.1'!G26","v":4}]
["Río Negro......................"," ",7,null,6,2,4,{"$f":"'II-2.1.1'!G27","v":1}]
["Rivera........................."," ",8,null,8,0,8,{"$f":"'II-2.1.1'!G28","v":0}]
["Rocha........................."," ",6,null,4,0,4,{"$f":"'II-2.1.1'!G29","v":2}]
["Salto..........................."," ",10,null,8,0,8,{"$f":"'II-2.1.1'!G30","v":2}]
["San José......................."," ",7,null,7,1,6,{"$f":"'II-2.1.1'!G31","v":0}]
["Soriano........................"," ",8,null,3,0,3,{"$f":"'II-2.1.1'!G32","v":5}]
["Tacuarembó....................."," ",6,null,6,0,6,{"$f":"'II-2.1.1'!G33","v":0}]
["Treinta y Tres................"," ",2,null,2,0,2,{"$f":"'II-2.1.1'!G34","v":0}]
[]
["Fuente: Procesamiento propio en base a datos proporcionados por el D.E.E. — C.E.I.P."]

{"sheet":"II-2.2.1","index":131,"n_rows":37,"n_cols":12,"rows_kept":37,"cut":false,"hidden":false,"merged":[[8,11,9,11],[8,7,9,7],[8,8,9,8],[36,0,36,11],[4,0,4,11],[0,9,1,11],[5,0,9,0],[8,3,9,3],[8,4,9,4],[6,3,7,4],[5,1,9,1],[6,6,6,8],[6,9,6,11],[5,3,5,11],[7,6,9,6],[7,9,9,9],[7,7,7,8],[7,10,7,11],[8,10,9,10]]}
["CONSEJO DE EDUCACIÓN PRIMARIA",null,null,null,null,null,null,null,null,"ALUMNOS MATRICULADOS"]
[]
["Cuadro Nº II-2.2.1"]
[]
["ALUMNOS MATRICULADOS EN EDUCACIÓN PRIMARIA COMÚN POR FORMA DE ADMINISTRACIÓN Y SEXO SEGÚN DEPARTAMENTO. AÑO 2010."]
["DEPARTAMENTO","TOTAL",null,"FORMA DE ADMINISTRACIÓN"]
[null,null,null,"TOTAL",null,null,"PÚBLICA",null,null,"PRIVADA"]
[null,null,null,null,null,null,"TOTAL","SEXO",null,"TOTAL","SEXO"]
[null,null,null,"M","F",null,null,"M","F",null,"M","F"]
[]
[]
["TOTAL...........................",{"$f":"+B14+B15","v":329772},null,{"$f":"D14+D15","v":169914},{"$f":"E14+E15","v":159858}," ",{"$f":"+G14+G15","v":278669},{"$f":"+H14+H15","v":144001},{"$f":"I14+I15","v":134668},{"$f":"+J14+J15","v":51103},{"$f":"K14+K15","v":25913},{"$f":"L14+L15","v":25190}]
[]
["MONTEVIDEO...................",{"$f":"+D14+E14","v":116278},null,{"$f":"+H14+K14","v":59532},{"$f":"+I14+L14","v":56746}," ",{"$f":"+H14+I14","v":85218},43799,41419,{"$f":"SUM(K14:L14)","v":31060},15733,15327]
["RESTO DEL PAÍS.........................",{"$f":"SUM(D15:E15)","v":213494},null,{"$f":"SUM(D17:D34)","v":110382},{"$f":"SUM(E17:E34)","v":103112}," ",{"$f":"+H15+I15","v":193451},{"$f":"SUM(H17:H34)","v":100202},{"$f":"SUM(I17:I34)","v":93249},{"$f":"+K15+L15","v":20043},{"$f":"SUM(K17:K34)","v":10180},{"$f":"SUM(L17:L34)","v":9863}]
[]
["Artigas......................",{"$f":"+D17+E17","v":9295},null,{"$f":"+H17+K17","v":4803},{"$f":"+I17+L17","v":4492}," ",{"$f":"+H17+I17","v":9208},4761,4447,{"$f":"SUM(K17,L17)","v":87},42,45]
["Canelones....................",52916,null,27481,25435," ",45753,23793,21960,7163,3688,3475]
["Cerro Largo....................",9959,null,5119,4840," ",9373,4821,4552,586,298,288]
["Colonia.......................",11356,null,5829,5527," ",10629,5482,5147,727,347,380]
["Durazno........................",6514,null,3414,3100," ",5946,3144,2802,568,270,298]
["Flores.........................",2625,null,1304,1321," ",2262,1120,1142,363,184,179]
["Florida.........................",6732,null,3458,3274," ",6435,3312,3123,297,146,151]
["Lavalleja....................",5883,null,3023,2860," ",5234,2711,2523,649,312,337]
["Maldonado.....................",17566,null,9054,8512," ",13697,7087,6610,3869,1967,1902]
["Paysandú.....................",13413,null,6914,6499," ",12227,6324,5903,1186,590,596]
["Río Negro....................",6399,null,3338,3061," ",5965,3103,2862,434,235,199]
["Rivera..........................",12480,null,6543,5937," ",11815,6190,5625,665,353,312]
["Rocha.........................",7341,null,3807,3534," ",6936,3601,3335,405,206,199]
["Salto..........................",15045,null,7842,7203,"  ",13933,7283,6650,1112,559,553]
["San José.....................",10653,null,5517,5136," ",10043,5204,4839,610,313,297]
["Soriano......................",9191,null,4691,4500," ",8724,4466,4258,467,225,242]
["Tacuarembó.....................",10774,null,5466,5308," ",10113,5128,4985,661,338,323]
["Treinta y Tres..............",5352,null,2779,2573," ",5158,2672,2486,194,107,87]
[null,null,null,null,null," "]
["Fuente: Procesamiento propio en base a datos proporcionados por el D.E.E. — C.E.I.P."]
["Nota: No incluye JICI"]

{"sheet":"II-2.2.2","index":132,"n_rows":36,"n_cols":149,"rows_kept":36,"cut":false,"hidden":false,"merged":[[34,0,34,9],[8,141,8,142],[8,143,8,144],[8,147,8,148],[8,145,8,146],[8,139,8,140],[7,4,7,9],[4,0,4,9],[0,7,1,9],[32,0,32,9],[5,0,8,0],[6,2,7,3],[5,1,8,1],[5,4,5,9],[6,4,6,6],[6,7,6,9]]}
["CONSEJO DE EDUCACIÓN PRIMARIA",null,null,null,null,null,null,"ALUMNOS MATRICULADOS"]
[]
["Cuadro Nº II-2.2.2"]
[]
["ALUMNOS MATRICULADOS EN EDUCACIÓN PRIMARIA PÚBLICA POR TIPO DE EDUCACIÓN Y SEXO SEGÚN DEPARTAMENTO. AÑO 2010."]
["DEPARTAMENTO","TOTAL",null,null,"TIPO DE EDUCACIÓN"]
[null,null,"TOTAL SEXO",null,"COMÚN",null,null,"ESPECIAL"]
[null,null,null,null,"SEXO"]
[null,null,"M","F","Total","M","F","Total","M","F",null,null,null,null,null,null,null,null,null,null,null,null,null,null,null,null,null,null,null,null,null,null,null,null,null,null,null,null,null,null,null,null,null,null,null,null,null,null,null,null,null,null,null,null,null,null,null,null,null,null,null,null,null,null,null,null,null,null,null,null,null,null,null,null,null,null,null,null,null,null,null,null,null,null,null,null,null,null,null,null,null,null,null,null,null,null,null,null,null,null,null,null,null,null,null,null,null,null,null,null,null,null,null,null,null,null,null,null,null,null,null,null,null,null,null,null,null,null,null,null,null,null,null,null,null,null,null,null,null,"COMPARABLE CON ANTERIOR",null,"BASE DE ESPECIAL 1 a 6",null,"Clases Especiales ",null,"TOTAL 1a6 esc y clases",null,"TOTAL inic; 1a6 esc y clases"]
["TOTAL...........................",{"$f":"+E10+H10","v":286861},{"$f":"C11+C12","v":148979},{"$f":"D11+D12","v":137882},{"$f":"+E11+E12","v":279445},{"$f":"+F11+F12","v":144404},{"$f":"G11+G12","v":135041},{"$f":"+H11+H12","v":7416},{"$f":"I11+I12","v":4575},{"$f":"J11+J12","v":2841},null,null,null,null,null,null,null,null,null,null,null,null,null,null,null,null,null,null,null,null,null,null,null,null,null,null,null,null,null,null,null,null,null,null,null,null,null,null,null,null,null,null,null,null,null,null,null,null,null,null,null,null,null,null,null,null,null,null,null,null,null,null,null,null,null,null,null,null,null,null,null,null,null,null,null,null,null,null,null,null,null,null,null,null,null,null,null,null,null,null,null,null,null,null,null,null,null,null,null,null,null,null,null,null,null,null,null,null,null,null,null,null,null,null,null,null,null,null,null,null,null,null,null,null,null,null,null,null,"Montveo",1825,1155,1169,729,0,0,{"$f":"EL10+EN10","v":1169},{"$f":"EM10+EO10","v":729},{"$f":"EJ10+EN10","v":1825},{"$f":"EK10+EO10","v":1155}]
["MONTEVIDEO...................",{"$f":"+C11+D11","v":88439},{"$f":"+F11+I11","v":45750},{"$f":"+G11+J11","v":42689},{"$f":"+F11+G11","v":85459},43925,41534,{"$f":"+I11+J11","v":2980},1825,1155]
["RESTO DEL PAÍS.........................",{"$f":"+C12+D12","v":198422},{"$f":"SUM(C14:C31)","v":103229},{"$f":"SUM(D14:D31)","v":95193},{"$f":"+F12+G12","v":193986},{"$f":"SUM(F14:F31)","v":100479},{"$f":"SUM(G14:G31)","v":93507},{"$f":"+I12+J12","v":4436},{"$f":"SUM(I14:I31)","v":2750},{"$f":"SUM(J14:J31)","v":1686}]
[]
["Artigas......................",{"$f":"+C14+D14","v":9429},{"$f":"+F14+I14","v":4891},{"$f":"+G14+J14","v":4538},{"$f":"+F14+G14","v":9208},4761,4447,{"$f":"+I14+J14","v":221},130,91,null,null,null,null,null,null,null,null,null,null,null,null,null,null,null,null,null,null,null,null,null,null,null,null,null,null,null,null,null,null,null,null,null,null,null,null,null,null,null,null,null,null,null,null,null,null,null,null,null,null,null,null,null,null,null,null,null,null,null,null,null,null,null,null,null,null,null,null,null,null,null,null,null,null,null,null,null,null,null,null,null,null,null,null,null,null,null,null,null,null,null,null,null,null,null,null,null,null,null,null,null,null,null,null,null,null,null,null,null,null,null,null,null,null,null,null,null,null,null,null,null,null,null,null,null,null,null,null,null,119,87,81,52,11,4,{"$f":"EL14+EN14","v":92},{"$f":"EM14+EO14","v":56},{"$f":"EJ14+EN14","v":130},{"$f":"EK14+EO14","v":91}]
["Canelones....................",46620,24335,22285,45847,23851,21996,{"$f":"+I15+J15","v":773},484,289,null,null,null,null,null,null,null,null,null,null,null,null,null,null,null,null,null,null,null,null,null,null,null,null,null,null,null,null,null,null,null,null,null,null,null,null,null,null,null,null,null,null,null,null,null,null,null,null,null,null,null,null,null,null,null,null,null,null,null,null,null,null,null,null,null,null,null,null,null,null,null,null,null,null,null,null,null,null,null,null,null,null,null,null,null,null,null,null,null,null,null,null,null,null,null,null,null,null,null,null,null,null,null,null,null,null,null,null,null,null,null,null,null,null,null,null,null,null,null,null,null,null,null,null,null,null,null,null,null,449,275,377,206,35,14,{"$f":"EL15+EN15","v":412},220,{"$f":"EJ15+EN15","v":484},{"$f":"EK15+EO15","v":289}]
["Cerro Largo....................",9678,5004,4674,9424,4846,4578,254,158,96,null,null,null,null,null,null,null,null,null,null,null,null,null,null,null,null,null,null,null,null,null,null,null,null,null,null,null,null,null,null,null,null,null,null,null,null,null,null,null,null,null,null,null,null,null,null,null,null,null,null,null,null,null,null,null,null,null,null,null,null,null,null,null,null,null,null,null,null,null,null,null,null,null,null,null,null,null,null,null,null,null,null,null,null,null,null,null,null,null,null,null,null,null,null,null,null,null,null,null,null,null,null,null,null,null,null,null,null,null,null,null,null,null,null,null,null,null,null,null,null,null,null,null,null,null,null,null,null,null,149,91,120,78,9,5,129,83,158,96]
["Colonia.......................",10921,5664,5257,10664,5499,5165,257,165,92,null,null,null,null,null,null,null,null,null,null,null,null,null,null,null,null,null,null,null,null,null,null,null,null,null,null,null,null,null,null,null,null,null,null,null,null,null,null,null,null,null,null,null,null,null,null,null,null,null,null,null,null,null,null,null,null,null,null,null,null,null,null,null,null,null,null,null,null,null,null,null,null,null,null,null,null,null,null,null,null,null,null,null,null,null,null,null,null,null,null,null,null,null,null,null,null,null,null,null,null,null,null,null,null,null,null,null,null,null,null,null,null,null,null,null,null,null,null,null,null,null,null,null,null,null,null,null,null,null,155,90,104,67,10,2,114,69,165,92]
["Durazno........................",6217,3302,2915,5991,3168,2823,226,134,92,null,null,null,null,null,null,null,null,null,null,null,null,null,null,null,null,null,null,null,null,null,null,null,null,null,null,null,null,null,null,null,null,null,null,null,null,null,null,null,null,null,null,null,null,null,null,null,null,null,null,null,null,null,null,null,null,null,null,null,null,null,null,null,null,null,null,null,null,null,null,null,null,null,null,null,null,null,null,null,null,null,null,null,null,null,null,null,null,null,null,null,null,null,null,null,null,null,null,null,null,null,null,null,null,null,null,null,null,null,null,null,null,null,null,null,null,null,null,null,null,null,null,null,null,null,null,null,null,null,118,82,77,53,16,10,93,63,134,92]
["Flores.........................",2323,1156,1167,2262,1120,1142,61,36,25,null,null,null,null,null,null,null,null,null,null,null,null,null,null,null,null,null,null,null,null,null,null,null,null,null,null,null,null,null,null,null,null,null,null,null,null,null,null,null,null,null,null,null,null,null,null,null,null,null,null,null,null,null,null,null,null,null,null,null,null,null,null,null,null,null,null,null,null,null,null,null,null,null,null,null,null,null,null,null,null,null,null,null,null,null,null,null,null,null,null,null,null,null,null,null,null,null,null,null,null,null,null,null,null,null,null,null,null,null,null,null,null,null,null,null,null,null,null,null,null,null,null,null,null,null,null,null,null,null,36,25,31,16,0,0,31,16,36,25]
["Florida.........................",6599,3418,3181,6435,3312,3123,164,106,58,null,null,null,null,null,null,null,null,null,null,null,null,null,null,null,null,null,null,null,null,null,null,null,null,null,null,null,null,null,null,null,null,null,null,null,null,null,null,null,null,null,null,null,null,null,null,null,null,null,null,null,null,null,null,null,null,null,null,null,null,null,null,null,null,null,null,null,null,null,null,null,null,null,null,null,null,null,null,null,null,null,null,null,null,null,null,null,null,null,null,null,null,null,null,null,null,null,null,null,null,null,null,null,null,null,null,null,null,null,null,null,null,null,null,null,null,null,null,null,null,null,null,null,null,null,null,null,null,null,103,55,80,44,3,3,83,47,106,58]
["Lavalleja....................",5404,2814,2590,5255,2720,2535,149,94,55,null,null,null,null,null,null,null,null,null,null,null,null,null,null,null,null,null,null,null,null,null,null,null,null,null,null,null,null,null,null,null,null,null,null,null,null,null,null,null,null,null,null,null,null,null,null,null,null,null,null,null,null,null,null,null,null,null,null,null,null,null,null,null,null,null,null,null,null,null,null,null,null,null,null,null,null,null,null,null,null,null,null,null,null,null,null,null,null,null,null,null,null,null,null,null,null,null,null,null,null,null,null,null,null,null,null,null,null,null,null,null,null,null,null,null,null,null,null,null,null,null,null,null,null,null,null,null,null,null,88,54,47,26,6,1,53,27,94,55]
["Maldonado.....................",13985,7256,6729,13697,7087,6610,288,169,119,null,null,null,null,null,null,null,null,null,null,null,null,null,null,null,null,null,null,null,null,null,null,null,null,null,null,null,null,null,null,null,null,null,null,null,null,null,null,null,null,null,null,null,null,null,null,null,null,null,null,null,null,null,null,null,null,null,null,null,null,null,null,null,null,null,null,null,null,null,null,null,null,null,null,null,null,null,null,null,null,null,null,null,null,null,null,null,null,null,null,null,null,null,null,null,null,null,null,null,null,null,null,null,null,null,null,null,null,null,null,null,null,null,null,null,null,null,null,null,null,null,null,null,null,null,null,null,null,null,169,119,129,83,0,0,129,83,169,119]
["Paysandú.....................",12457,6464,5993,12246,6333,5913,211,131,80,null,null,null,null,null,null,null,null,null,null,null,null,null,null,null,null,null,null,null,null,null,null,null,null,null,null,null,null,null,null,null,null,null,null,null,null,null,null,null,null,null,null,null,null,null,null,null,null,null,null,null,null,null,null,null,null,null,null,null,null,null,null,null,null,null,null,null,null,null,null,null,null,null,null,null,null,null,null,null,null,null,null,null,null,null,null,null,null,null,null,null,null,null,null,null,null,null,null,null,null,null,null,null,null,null,null,null,null,null,null,null,null,null,null,null,null,null,null,null,null,null,null,null,null,null,null,null,null,null,117,74,96,57,14,6,110,63,131,80]
["Río Negro....................",6181,3214,2967,6003,3124,2879,178,90,88,null,null,null,null,null,null,null,null,null,null,null,null,null,null,null,null,null,null,null,null,null,null,null,null,null,null,null,null,null,null,null,null,null,null,null,null,null,null,null,null,null,null,null,null,null,null,null,null,null,null,null,null,null,null,null,null,null,null,null,null,null,null,null,null,null,null,null,null,null,null,null,null,null,null,null,null,null,null,null,null,null,null,null,null,null,null,null,null,null,null,null,null,null,null,null,null,null,null,null,null,null,null,null,null,null,null,null,null,null,null,null,null,null,null,null,null,null,null,null,null,null,null,null,null,null,null,null,null,null,89,85,60,60,1,3,61,63,90,88]
["Rivera..........................",12152,6401,5751,11894,6233,5661,258,168,90,null,null,null,null,null,null,null,null,null,null,null,null,null,null,null,null,null,null,null,null,null,null,null,null,null,null,null,null,null,null,null,null,null,null,null,null,null,null,null,null,null,null,null,null,null,null,null,null,null,null,null,null,null,null,null,null,null,null,null,null,null,null,null,null,null,null,null,null,null,null,null,null,null,null,null,null,null,null,null,null,null,null,null,null,null,null,null,null,null,null,null,null,null,null,null,null,null,null,null,null,null,null,null,null,null,null,null,null,null,null,null,null,null,null,null,null,null,null,null,null,null,null,null,null,null,null,null,null,null,168,90,134,79,0,0,134,79,168,90]
["Rocha.........................",7185,3754,3431,6936,3601,3335,249,153,96,null,null,null,null,null,null,null,null,null,null,null,null,null,null,null,null,null,null,null,null,null,null,null,null,null,null,null,null,null,null,null,null,null,null,null,null,null,null,null,null,null,null,null,null,null,null,null,null,null,null,null,null,null,null,null,null,null,null,null,null,null,null,null,null,null,null,null,null,null,null,null,null,null,null,null,null,null,null,null,null,null,null,null,null,null,null,null,null,null,null,null,null,null,null,null,null,null,null,null,null,null,null,null,null,null,null,null,null,null,null,null,null,null,null,null,null,null,null,null,null,null,null,null,null,null,null,null,null,null,151,88,126,64,2,8,128,72,153,96]
["Salto..........................",14275,7500,6775,13933,7283,6650,342,217,125,null,null,null,null,null,null,null,null,null,null,null,null,null,null,null,null,null,null,null,null,null,null,null,null,null,null,null,null,null,null,null,null,null,null,null,null,null,null,null,null,null,null,null,null,null,null,null,null,null,null,null,null,null,null,null,null,null,null,null,null,null,null,null,null,null,null,null,null,null,null,null,null,null,null,null,null,null,null,null,null,null,null,null,null,null,null,null,null,null,null,null,null,null,null,null,null,null,null,null,null,null,null,null,null,null,null,null,null,null,null,null,null,null,null,null,null,null,null,null,null,null,null,null,null,null,null,null,null,null,212,122,119,72,5,3,124,75,217,125]
["San José.....................",10402,5420,4982,10144,5251,4893,258,169,89,null,null,null,null,null,null,null,null,null,null,null,null,null,null,null,null,null,null,null,null,null,null,null,null,null,null,null,null,null,null,null,null,null,null,null,null,null,null,null,null,null,null,null,null,null,null,null,null,null,null,null,null,null,null,null,null,null,null,null,null,null,null,null,null,null,null,null,null,null,null,null,null,null,null,null,null,null,null,null,null,null,null,null,null,null,null,null,null,null,null,null,null,null,null,null,null,null,null,null,null,null,null,null,null,null,null,null,null,null,null,null,null,null,null,null,null,null,null,null,null,null,null,null,null,null,null,null,null,null,164,88,132,74,5,1,137,75,169,89]
["Soriano......................",8950,4608,4342,8724,4466,4258,226,142,84,null,null,null,null,null,null,null,null,null,null,null,null,null,null,null,null,null,null,null,null,null,null,null,null,null,null,null,null,null,null,null,null,null,null,null,null,null,null,null,null,null,null,null,null,null,null,null,null,null,null,null,null,null,null,null,null,null,null,null,null,null,null,null,null,null,null,null,null,null,null,null,null,null,null,null,null,null,null,null,null,null,null,null,null,null,null,null,null,null,null,null,null,null,null,null,null,null,null,null,null,null,null,null,null,null,null,null,null,null,null,null,null,null,null,null,null,null,null,null,null,null,null,null,null,null,null,null,null,null,139,83,105,61,3,1,108,62,142,84]
["Tacuarembó.....................",10308,5251,5057,10113,5128,4985,195,123,72,null,null,null,null,null,null,null,null,null,null,null,null,null,null,null,null,null,null,null,null,null,null,null,null,null,null,null,null,null,null,null,null,null,null,null,null,null,null,null,null,null,null,null,null,null,null,null,null,null,null,null,null,null,null,null,null,null,null,null,null,null,null,null,null,null,null,null,null,null,null,null,null,null,null,null,null,null,null,null,null,null,null,null,null,null,null,null,null,null,null,null,null,null,null,null,null,null,null,null,null,null,null,null,null,null,null,null,null,null,null,null,null,null,null,null,null,null,null,null,null,null,null,null,null,null,null,null,null,null,115,63,90,48,8,9,98,57,123,72]
["Treinta y Tres..............",5336,2777,2559,5210,2696,2514,126,81,45,null,null,null,null,null,null,null,null,null,null,null,null,null,null,null,null,null,null,null,null,null,null,null,null,null,null,null,null,null,null,null,null,null,null,null,null,null,null,null,null,null,null,null,null,null,null,null,null,null,null,null,null,null,null,null,null,null,null,null,null,null,null,null,null,null,null,null,null,null,null,null,null,null,null,null,null,null,null,null,null,null,null,null,null,null,null,null,null,null,null,null,null,null,null,null,null,null,null,null,null,null,null,null,null,null,null,null,null,null,null,null,null,null,null,null,null,null,null,null,null,null,null,null,null,null,null,null,null,null,78,43,72,38,3,2,75,40,81,45]
["Fuente: Procesamiento propio en base a datos proporcionados por el D.E.E. — C.E.I.P."]
["Nota: Educación Especial incluye  Escuelas Especiales y Clases Especiales en Escuelas "]
["      Comunes. "]
["      Educación Especial Pública  incluye Instrucción Temprana (29 alumnos); Inicial (184 alumnos); Preparatorio   "]
["      (432 alumnos); y Talleres (1512 alumnos)"]

{"sheet":"II-2.2.3","index":133,"n_rows":36,"n_cols":12,"rows_kept":36,"cut":false,"hidden":false,"merged":[[8,7,9,7],[8,8,9,8],[0,10,1,11],[7,10,7,11],[8,4,9,4],[8,5,9,5],[8,6,9,6],[4,0,4,11],[5,3,5,11],[5,1,9,1],[5,0,9,0],[8,10,9,10],[6,9,6,11],[6,3,6,8],[8,11,9,11],[7,4,7,8],[7,9,9,9],[7,3,9,3]]}
["CONSEJO DE EDUCACIÓN PRIMARIA",null,null,null,null,null,null,null,null,null,"ALUMNOS MATRICULADOS"]
[]
["Cuadro Nº II-2.2.3"]
[]
["ALUMNOS MATRICULADOS EN EDUCACIÓN PRIMARIA PÚBLICA COMÚN POR ÁREA DEMOGRÁFICA Y CATEGORÍA SEGÚN DEPARTAMENTO. AÑO 2010."]
["DEPARTAMENTO","TOTAL",null,"ÁREA DEMOGRÁFICA"]
[null,null,null,"URBANA",null,null,null,null,null,"RURAL"]
[null,null,null,"Total Urbana","CATEGORÍA",null,null,null,null,"Total Rural","CATEGORÍA"]
[null,null,null,null,"Común","De Práctica","C.S.C.C.","Tiempo Completo","JICI",null,"Común","Internado Rural"]
[]
[]
["TOTAL........................",{"$f":"+B14+B15","v":279445},null,{"$f":"+D14+D15","v":262192},{"$f":"+E14+E15","v":111705},{"$f":"SUM(F14:F15)","v":40279},{"$f":"SUM(G14:G15)","v":83772},{"$f":"SUM(H14:H15)","v":25660},{"$f":"SUM(I14:I15)","v":776},{"$f":"+K12+L12","v":17253},{"$f":"SUM(K14:K15)","v":17121},{"$f":"SUM(L14:L15)","v":132}]
[]
["MONTEVIDEO....................",{"$f":"+D14+J14","v":85459},null,{"$f":"+E14+F14+G14+H14+I14","v":85459},37611,6748,32971,7888,241,"N/C","N/C","N/C"]
["RESTO DEL PAÍS.........................",{"$f":"+D15+J15","v":193986},null,{"$f":"SUM(D17:D34)","v":176733},74094,33531,50801,17772,535,{"$f":"SUM(J17:J34)","v":17253},{"$f":"SUM(K17:K34)","v":17121},{"$f":"SUM(L17:L34)","v":132}]
[]
["Artigas........................",{"$f":"+D17+J17","v":9208},null,{"$f":"+E17+F17+G17+H17+I17","v":8374},2415,1633,3143,1183,0,{"$f":"+K17+L17","v":834},795,39]
["Canelones................",45847,null,43084,19994,6176,13938,2882,94,2763,2763,0]
["Cerro Largo.....................",9424,null,8389,2457,2361,2741,779,51,1035,1035,0]
["Colonia........................",10664,null,9518,6440,1570,637,836,35,1146,1146,0]
["Durazno.......................",5991,null,5480,1544,1197,1998,696,45,511,511,0]
["Flores..........................",2262,null,1983,921,569,224,269,0,279,256,23]
["Florida........................",6435,null,5666,2583,1246,1053,784,0,769,769,0]
["Lavalleja.....................",5255,null,4761,2279,1406,257,798,21,494,494,0]
["Maldonado......................",13697,null,13010,8186,2002,1758,1064,0,687,668,19]
["Paysandú......................",12246,null,11106,3291,2406,4178,1212,19,1140,1105,35]
["Río Negro.....................",6003,null,5384,2705,918,1199,524,38,619,603,16]
["Rivera.........................",11894,null,10655,2142,1439,6117,878,79,1239,1239,0]
["Rocha.........................",6936,null,6604,4021,1112,661,810,0,332,332,0]
["Salto........................",13933,null,12419,4118,2273,4098,1930,0,1514,1514,0]
["San José.......................",10144,null,8919,3448,1564,2614,1192,101,1225,1225,0]
["Soriano.......................",8724,null,7993,3486,1789,2230,488,0,731,731,0]
["Tacuarembó.....................",10113,null,8622,2439,1733,3408,1042,0,1491,1491,0]
["Treinta y Tres..................",5210,null,4766,1625,2137,547,405,52,444,444,0]
[]
["Fuente: Procesamiento propio en base a datos proporcionados por el D.E.E. — C.E.I.P."]

{"sheet":"II-2.2.4","index":134,"n_rows":38,"n_cols":7,"rows_kept":38,"cut":false,"hidden":false,"merged":[[0,5,1,6],[4,0,4,6],[6,4,7,4],[6,5,7,5],[6,6,7,6],[5,4,5,6],[5,0,7,1],[5,3,7,3]]}
["CONSEJO DE EDUCACIÓN PRIMARIA",null,null,null,null,"Alumnos matriculados"]
[]
["Cuadro Nº II-2.2.4"]
[]
["ALUMNOS MATRICULADOS EN EDUCACIÓN PRIMARIA PÚBLICA ESPECIAL POR TIPO DE DISCAPACIDAD SEGÚN DEPARTAMENTO. AÑO 2010."]
["DEPARTAMENTO",null,null,"TOTAL","DISCAPACIDAD"]
[null,null,null,null,"Intelectual","Auditiva","Visual"]
[]
[]
["TOTAL..........................",null," ",{"$f":"+D12+D13","v":7416},{"$f":"SUM(E12:E13)","v":6965},{"$f":"SUM(F12:F13)","v":355},{"$f":"SUM(G12:G13)","v":96}]
[]
["MONTEVIDEO........................",null," ",{"$f":"+E12+F12+G12","v":2980},2792,113,75]
["RESTO DEL PAÍS.........................",null," ",{"$f":"SUM(D15:D32)","v":4436},{"$f":"SUM(E15:E32)","v":4173},{"$f":"SUM(F15:F32)","v":242},{"$f":"SUM(G15:G32)","v":21}]
[]
["Artigas........................",null," ",{"$f":"+E15+F15+G15","v":221},206,15,0]
["Canelones.................",null," ",773,744,29,0]
["Cerro Largo....................",null," ",254,247,7,0]
["Colonia.......................",null," ",257,245,12,0]
["Durazno.......................",null," ",226,211,14,1]
["Flores........................",null," ",61,61,0,0]
["Florida.......................",null," ",164,158,6,0]
["Lavalleja......................",null," ",149,142,7,0]
["Maldonado......................",null," ",288,260,28,0]
["Paysandú.......................",null," ",211,191,14,6]
["Río Negro......................",null," ",178,174,4,0]
["Rivera.........................",null," ",258,241,17,0]
["Rocha.........................",null," ",249,239,10,0]
["Salto...........................",null," ",342,281,53,8]
["San José.......................",null," ",258,252,6,0]
["Soriano........................",null," ",226,222,4,0]
["Tacuarembó.....................",null," ",195,178,11,6]
["Treinta y Tres................",null," ",126,121,5,0]
[]
["Fuente: D.E.E. — C.E.P."]
["Nota:  Incluyen Escuelas Especiales y Clases Especiales en Escuelas Comunes."]
["       En el Interior son clases de Discapacitados Visuales en Escuelas Comunes."]
["       En Interior son clases de Fonoaudiología en Escuelas Comunes, excepto en Maldonado,"]
["       Rivera y Salto donde funcionan Escuelas de Fonoaudiología."]

{"sheet":"II-2.2.5","index":135,"n_rows":39,"n_cols":55,"rows_kept":39,"cut":false,"hidden":false,"merged":[[0,5,1,6],[7,5,8,5],[4,0,4,6],[6,1,8,1],[7,3,8,3],[7,4,8,4],[6,3,6,5],[5,1,5,6],[6,6,8,6],[6,0,8,0]]}
["CONSEJO DE EDUCACIÓN PRIMARIA",null,null,null,null,"ALUMNOS MATRICULADOS"]
[]
["Cuadro Nº II-2.2.5"]
[]
["ALUMNOS MATRICULADOS EN EDUCACIÓN PRIMARIA PRIVADA POR TIPO DE EDUCACIÓN SEGÚN DEPARTAMENTO. AÑO 2010."]
[null,"TIPO DE EDUCACIÓN"]
["DEPARTAMENTO","TOTAL",null,"EDUCACIÓN COMÚN",null,null,"EDUCACIÓN ESPECIAL"]
[null,null,null,"Total","Habilitados","Autorizados"]
[]
[]
["TOTAL DEL PAÍS.............",{"$f":"+B13+B14","v":55495},null,{"$f":"+D13+D14","v":51103},{"$f":"+E13+E14","v":48441},{"$f":"+F13+F14","v":2662},{"$f":"+G13+G14","v":4392},null,null,null,null,null,null,null,null,null,null,null,null,null,null,null,null,null,null,null,null,null,null,null,null,null,null,null,null,null,null,null,null,null,null,null,null,null,null,null,null,null,"TOTAL 16 Cesp","Especial 1º6º","Clases Especiales",null,"TOTAL DE BASE ESPECIAL (incluye instrucción temprana, inicial, preparatorio y talleres) "]
[]
["MONTEVIDEO........................",{"$f":"+D13+G13","v":33623},null,{"$f":"+E13+F13","v":31060},28916,2144,2563,null,null,null,null,null,null,null,null,null,null,null,null,null,null,null,null,null,null,null,null,null,null,null,null,null,null,null,null,null,null,null,null,null,null,null,null,null,null,null,"MONTEVIDEO",null,{"$f":"AX13+AY13","v":779},760,19,null,2544,null,{"$f":"AY13+BA13","v":2563}]
["RESTO DEL PAÍS.........................",{"$f":"SUM(B16:B33)","v":21872},null,{"$f":"SUM(D16:D33)","v":20043},{"$f":"SUM(E16:E33)","v":19525},{"$f":"SUM(F16:F33)","v":518},{"$f":"SUM(G16:G33)","v":1829},null,null,null,null,null,null,null,null,null,null,null,null,null,null,null,null,null,null,null,null,null,null,null,null,null,null,null,null,null,null,null,null,null,null,null,null,null,null,null,"RESTO DEL PAÍS"]
[]
["Artigas........................",{"$f":"+D16+G16","v":237},null,{"$f":"+E16+F16","v":87},87,0,150,null,null,null,null,null,null,null,null,null,null,null,null,null,null,null,null,null,null,null,null,null,null,null,null,null,null,null,null,null,null,null,null,null,null,null,null,null,null,null,"Artigas",null,{"$f":"AX16+AY16","v":39},39,0,null,150,null,{"$f":"AY16+BA16","v":150}]
["Canelones.................",{"$f":"+D17+G17","v":7223},null,7163,6800,363,60,null,null,null,null,null,null,null,null,null,null,null,null,null,null,null,null,null,null,null,null,null,null,null,null,null,null,null,null,null,null,null,null,null,null,null,null,null,null,null,"Canelones",null,21,21,0,null,60,null,{"$f":"AY17+BA17","v":60}]
["Cerro Largo....................",586,null,586,475,111,0,null,null,null,null,null,null,null,null,null,null,null,null,null,null,null,null,null,null,null,null,null,null,null,null,null,null,null,null,null,null,null,null,null,null,null,null,null,null,null,"Cerro Largo",null,0,0,0,null,0,null,0]
["Colonia.......................",727,null,727,727,0,0,null,null,null,null,null,null,null,null,null,null,null,null,null,null,null,null,null,null,null,null,null,null,null,null,null,null,null,null,null,null,null,null,null,null,null,null,null,null,null,"Colonia",null,0,0,0,null,0,null,0]
["Durazno.......................",568,null,568,568,0,0,null,null,null,null,null,null,null,null,null,null,null,null,null,null,null,null,null,null,null,null,null,null,null,null,null,null,null,null,null,null,null,null,null,null,null,null,null,null,null,"Durazno",null,0,0,0,null,0,null,0]
["Flores........................",384,null,363,363,0,21,null,null,null,null,null,null,null,null,null,null,null,null,null,null,null,null,null,null,null,null,null,null,null,null,null,null,null,null,null,null,null,null,null,null,null,null,null,null,null,"Flores",null,21,0,21,null,0,null,21]
["Florida.......................",387,null,297,297,0,90,null,null,null,null,null,null,null,null,null,null,null,null,null,null,null,null,null,null,null,null,null,null,null,null,null,null,null,null,null,null,null,null,null,null,null,null,null,null,null,"Florida",null,0,0,0,null,90,null,90]
["Lavalleja......................",649,null,649,649,0,0,null,null,null,null,null,null,null,null,null,null,null,null,null,null,null,null,null,null,null,null,null,null,null,null,null,null,null,null,null,null,null,null,null,null,null,null,null,null,null,"Lavalleja",null,0,0,0,null,0,null,0]
["Maldonado......................",4020,null,3869,3869,0,151,null,null,null,null,null,null,null,null,null,null,null,null,null,null,null,null,null,null,null,null,null,null,null,null,null,null,null,null,null,null,null,null,null,null,null,null,null,null,null,"Maldonado",null,70,70,0,null,151,null,151]
["Paysandú.......................",1464,null,1186,1186,0,278,null,null,null,null,null,null,null,null,null,null,null,null,null,null,null,null,null,null,null,null,null,null,null,null,null,null,null,null,null,null,null,null,null,null,null,null,null,null,null,"Paysandú",null,100,100,0,null,278,null,278]
["Río Negro......................",579,null,434,408,26,145,null,null,null,null,null,null,null,null,null,null,null,null,null,null,null,null,null,null,null,null,null,null,null,null,null,null,null,null,null,null,null,null,null,null,null,null,null,null,null,"Río Negro",null,92,62,30,null,115,null,145]
["Rivera.........................",665,null,665,665,0,0,null,null,null,null,null,null,null,null,null,null,null,null,null,null,null,null,null,null,null,null,null,null,null,null,null,null,null,null,null,null,null,null,null,null,null,null,null,null,null,"Rivera",null,0,0,0,null,0,null,0]
["Rocha.........................",494,null,405,405,0,89,null,null,null,null,null,null,null,null,null,null,null,null,null,null,null,null,null,null,null,null,null,null,null,null,null,null,null,null,null,null,null,null,null,null,null,null,null,null,null,"Rocha",null,14,14,0,null,89,null,89]
["Salto...........................",1334,null,1112,1112,0,222,null,null,null,null,null,null,null,null,null,null,null,null,null,null,null,null,null,null,null,null,null,null,null,null,null,null,null,null,null,null,null,null,null,null,null,null,null,null,null,"Salto",null,168,168,0,null,222,null,222]
["San José.......................",610,null,610,592,18,0,null,null,null,null,null,null,null,null,null,null,null,null,null,null,null,null,null,null,null,null,null,null,null,null,null,null,null,null,null,null,null,null,null,null,null,null,null,null,null,"San José",null,0,0,0,null,0,null,0]
["Soriano........................",1090,null,467,467,0,623,null,null,null,null,null,null,null,null,null,null,null,null,null,null,null,null,null,null,null,null,null,null,null,null,null,null,null,null,null,null,null,null,null,null,null,null,null,null,null,"Soriano",null,196,196,0,null,623,null,623]
["Tacuarembó.....................",661,null,661,661,0,0,null,null,null,null,null,null,null,null,null,null,null,null,null,null,null,null,null,null,null,null,null,null,null,null,null,null,null,null,null,null,null,null,null,null,null,null,null,null,null,"Tacuarembó",null,0,0,0,null,0,null,0]
["Treinta y Tres................",194,null,194,194,0,0,null,null,null,null,null,null,null,null,null,null,null,null,null,null,null,null,null,null,null,null,null,null,null,null,null,null,null,null,null,null,null,null,null,null,null,null,null,null,null,"Treinta y Tres",null,0,0,0,null,0,null,0]
[]
["Fuente: Procesamiento propio en base a datos proporcionados por el D.E.E. — C.E.I.P."]
["Nota: Especial incluye la matrícula de clases especiales en escuelas comunes, "]
["      Instrucción Temprana, Educación Inicial, Preparatorio y Talleres."]
["      En este sentido, se agregó un boton que permite al lector excluir estas "]
["      categorías de los totales. "]

{"sheet":"II-2.2.6","index":136,"n_rows":31,"n_cols":21,"rows_kept":31,"cut":false,"hidden":false,"merged":[[7,3,11,3],[7,15,7,20],[9,9,9,10],[9,8,11,8],[9,11,11,11],[9,12,9,13],[9,15,11,15],[9,16,9,17],[9,18,11,18],[9,19,9,20],[10,19,11,19],[10,20,11,20],[9,5,9,6],[8,11,8,13],[8,15,8,17],[10,9,11,9],[10,10,11,10],[8,18,8,20],[7,8,7,13],[0,15,1,17],[6,8,6,13],[4,0,4,17],[5,0,11,1],[10,5,11,5],[10,6,11,6],[10,16,11,16],[10,17,11,17],[8,8,8,10],[10,12,11,12],[10,13,11,13],[6,15,6,20],[5,8,5,20]]}
["CONSEJO DE EDUCACIÓN PRIMARIA",null,null,null,null,null,null,null,null,null,null,null,null,null,null,"ALUMNOS MATRICULADOS"]
[]
["Cuadro Nº II-2.2.6"]
[]
["ALUMNOS MATRICULADOS EN EDUCACIÓN PRIMARIA POR FORMA DE ADMINISTRACIÓN, TIPO DE EDUCACIÓN Y SEXO SEGÚN EDAD. AÑO 2010."]
["EDAD",null,null,null,null,null,null,null,"FORMA DE ADMINISTRACIÓN"]
[null,null,null,null,null,null,null,null,"PÚBLICA",null,null,null,null,null,null,"PRIVADA"]
[null,null,null,"Total",null,null,null,null,"TIPO DE EDUCACIÓN",null,null,null,null,null,null,"TIPO DE EDUCACIÓN"]
[null,null,null,null,null,null,null,null,"Común",null,null,"Especial",null,null,null,"Común ",null,null,"Especial"]
[null,null,null,null,null,"SEXO",null,null,"Total","SEXO",null,"Total","SEXO",null,null,"Total","SEXO",null,"Total","SEXO"]
[null,null,null,null,null,"M","F",null,null,"M","F",null,"M","F",null,null,"M","F",null,"M","F"]
[]
[]
["TOTAL...............................",null," ",{"$f":"+F14+G14","v":339150},null,{"$f":"SUM(F16:F25)","v":175632},163518,null,278669,144001,134668,5056,3149,1907,null,51103,25913,25190,{"$f":"SUM(S16:S25)","v":4322},{"$f":"SUM(T16:T25)","v":2569},{"$f":"SUM(U16:U25)","v":1753}]
[null,null," "]
["Menos de 6 años.............................",null," ",{"$f":"+I16+L16+P16+S16","v":308},null,{"$f":"+J16+Q16+M16+T16","v":172},{"$f":"+K16+R16+N16+U16","v":136},null,"N/C","N/C","N/C",{"$f":"+M16+N16","v":0},0,0,null,"N/C","N/C","N/C",{"$f":"+T16+U16","v":308},172,136]
["6  años.............................",null," ",{"$f":"+I17+L17+P17+S17","v":42722},null,{"$f":"+J17+Q17+M17+T17","v":21779},{"$f":"+K17+R17+N17+U17","v":20943},null,{"$f":"+J17+K17","v":35004},{"$f":"SUM('II-2.2.8'!G15+'II-2.2.8'!I15+'II-2.2.8'!K15+'II-2.2.8'!M15+'II-2.2.8'!O15+'II-2.2.8'!Q15)","v":17868},{"$f":"SUM('II-2.2.8'!H15+'II-2.2.8'!J15+'II-2.2.8'!L15+'II-2.2.8'!N15+'II-2.2.8'!P15+'II-2.2.8'!R15)","v":17136},{"$f":"+M17+N17","v":63},35,28,null,{"$f":"+Q17+R17","v":7473},{"$f":"'II-2.2.9'!G15+'II-2.2.9'!I15+'II-2.2.9'!K15+'II-2.2.9'!M15+'II-2.2.9'!O15+'II-2.2.9'!Q15","v":3764},{"$f":"'II-2.2.9'!H15+'II-2.2.9'!J15+'II-2.2.9'!L15+'II-2.2.9'!N15+'II-2.2.9'!P15+'II-2.2.9'!R15","v":3709},{"$f":"+T17+U17","v":182},112,70]
["7  años............................",null," ",51482,null,{"$f":"+J18+Q18+M18+T18","v":26178},25304,null,{"$f":"+J18+K18","v":42138},{"$f":"SUM('II-2.2.8'!G16+'II-2.2.8'!I16+'II-2.2.8'!K16+'II-2.2.8'!M16+'II-2.2.8'!O16+'II-2.2.8'!Q16)","v":21440},{"$f":"SUM('II-2.2.8'!H16+'II-2.2.8'!J16+'II-2.2.8'!L16+'II-2.2.8'!N16+'II-2.2.8'!P16+'II-2.2.8'!R16)","v":20698},201,117,84,null,{"$f":"+Q18+R18","v":8904},{"$f":"'II-2.2.9'!G16+'II-2.2.9'!I16+'II-2.2.9'!K16+'II-2.2.9'!M16+'II-2.2.9'!O16+'II-2.2.9'!Q16","v":4462},{"$f":"'II-2.2.9'!H16+'II-2.2.9'!J16+'II-2.2.9'!L16+'II-2.2.9'!N16+'II-2.2.9'!P16+'II-2.2.9'!R16","v":4442},239,159,80]
["8  años.............................",null," ",51515,null,26447,25068,null,42308,{"$f":"SUM('II-2.2.8'!G17+'II-2.2.8'!I17+'II-2.2.8'!K17+'II-2.2.8'!M17+'II-2.2.8'!O17+'II-2.2.8'!Q17)","v":21714},{"$f":"SUM('II-2.2.8'!H17+'II-2.2.8'!J17+'II-2.2.8'!L17+'II-2.2.8'!N17+'II-2.2.8'!P17+'II-2.2.8'!R17)","v":20594},437,257,180,null,8496,{"$f":"'II-2.2.9'!G17+'II-2.2.9'!I17+'II-2.2.9'!K17+'II-2.2.9'!M17+'II-2.2.9'!O17+'II-2.2.9'!Q17","v":4310},{"$f":"'II-2.2.9'!H17+'II-2.2.9'!J17+'II-2.2.9'!L17+'II-2.2.9'!N17+'II-2.2.9'!P17+'II-2.2.9'!R17","v":4186},274,166,108]
["9  años.............................",null," ",52454,null,26866,25588,null,43312,{"$f":"SUM('II-2.2.8'!G18+'II-2.2.8'!I18+'II-2.2.8'!K18+'II-2.2.8'!M18+'II-2.2.8'!O18+'II-2.2.8'!Q18)","v":22104},{"$f":"SUM('II-2.2.8'!H18+'II-2.2.8'!J18+'II-2.2.8'!L18+'II-2.2.8'!N18+'II-2.2.8'!P18+'II-2.2.8'!R18)","v":21208},633,396,237,null,8231,{"$f":"'II-2.2.9'!G18+'II-2.2.9'!I18+'II-2.2.9'!K18+'II-2.2.9'!M18+'II-2.2.9'!O18+'II-2.2.9'!Q18","v":4200},{"$f":"'II-2.2.9'!H18+'II-2.2.9'!J18+'II-2.2.9'!L18+'II-2.2.9'!N18+'II-2.2.9'!P18+'II-2.2.9'!R18","v":4031},278,166,112]
["10 años.............................",null," ",52947,null,26954,25993,null,43849,{"$f":"SUM('II-2.2.8'!G19+'II-2.2.8'!I19+'II-2.2.8'!K19+'II-2.2.8'!M19+'II-2.2.8'!O19+'II-2.2.8'!Q19)","v":22252},{"$f":"SUM('II-2.2.8'!H19+'II-2.2.8'!J19+'II-2.2.8'!L19+'II-2.2.8'!N19+'II-2.2.8'!P19+'II-2.2.8'!R19)","v":21597},680,436,244,null,8140,{"$f":"'II-2.2.9'!G19+'II-2.2.9'!I19+'II-2.2.9'!K19+'II-2.2.9'!M19+'II-2.2.9'!O19+'II-2.2.9'!Q19","v":4086},{"$f":"'II-2.2.9'!H19+'II-2.2.9'!J19+'II-2.2.9'!L19+'II-2.2.9'!N19+'II-2.2.9'!P19+'II-2.2.9'!R19","v":4054},278,180,98]
["11 años............................",null," ",52287,null,26741,25546,null,43513,{"$f":"SUM('II-2.2.8'!G20+'II-2.2.8'!I20+'II-2.2.8'!K20+'II-2.2.8'!M20+'II-2.2.8'!O20+'II-2.2.8'!Q20)","v":22197},{"$f":"SUM('II-2.2.8'!H20+'II-2.2.8'!J20+'II-2.2.8'!L20+'II-2.2.8'!N20+'II-2.2.8'!P20+'II-2.2.8'!R20)","v":21316},687,424,263,null,7842,{"$f":"'II-2.2.9'!G20+'II-2.2.9'!I20+'II-2.2.9'!K20+'II-2.2.9'!M20+'II-2.2.9'!O20+'II-2.2.9'!Q20","v":3965},{"$f":"'II-2.2.9'!H20+'II-2.2.9'!J20+'II-2.2.9'!L20+'II-2.2.9'!N20+'II-2.2.9'!P20+'II-2.2.9'!R20","v":3877},245,155,90]
["12 años..........................",null," ",22512,null,12658,9854,null,19685,{"$f":"SUM('II-2.2.8'!G21+'II-2.2.8'!I21+'II-2.2.8'!K21+'II-2.2.8'!M21+'II-2.2.8'!O21+'II-2.2.8'!Q21)","v":11026},{"$f":"SUM('II-2.2.8'!H21+'II-2.2.8'!J21+'II-2.2.8'!L21+'II-2.2.8'!N21+'II-2.2.8'!P21+'II-2.2.8'!R21)","v":8659},789,495,294,null,1804,{"$f":"'II-2.2.9'!G21+'II-2.2.9'!I21+'II-2.2.9'!K21+'II-2.2.9'!M21+'II-2.2.9'!O21+'II-2.2.9'!Q21","v":996},{"$f":"'II-2.2.9'!H21+'II-2.2.9'!J21+'II-2.2.9'!L21+'II-2.2.9'!N21+'II-2.2.9'!P21+'II-2.2.9'!R21","v":808},234,141,93]
["13 años..........................",null," ",8181,null,4956,3225,null,7101,{"$f":"SUM('II-2.2.8'!G22+'II-2.2.8'!I22+'II-2.2.8'!K22+'II-2.2.8'!M22+'II-2.2.8'!O22+'II-2.2.8'!Q22)","v":4279},{"$f":"SUM('II-2.2.8'!H22+'II-2.2.8'!J22+'II-2.2.8'!L22+'II-2.2.8'!N22+'II-2.2.8'!P22+'II-2.2.8'!R22)","v":2822},714,451,263,null,169,{"$f":"'II-2.2.9'!G22+'II-2.2.9'!I22+'II-2.2.9'!K22+'II-2.2.9'!M22+'II-2.2.9'!O22+'II-2.2.9'!Q22","v":99},{"$f":"'II-2.2.9'!H22+'II-2.2.9'!J22+'II-2.2.9'!L22+'II-2.2.9'!N22+'II-2.2.9'!P22+'II-2.2.9'!R22","v":70},197,127,70]
["14 años y más.....................",null," ",4742,null,2881,1861,null,1759,{"$f":"SUM('II-2.2.8'!G23+'II-2.2.8'!I23+'II-2.2.8'!K23+'II-2.2.8'!M23+'II-2.2.8'!O23+'II-2.2.8'!Q23)","v":1121},{"$f":"SUM('II-2.2.8'!H23+'II-2.2.8'!J23+'II-2.2.8'!L23+'II-2.2.8'!N23+'II-2.2.8'!P23+'II-2.2.8'!R23)","v":638},852,538,314,null,44,{"$f":"'II-2.2.9'!G23+'II-2.2.9'!I23+'II-2.2.9'!K23+'II-2.2.9'!M23+'II-2.2.9'!O23+'II-2.2.9'!Q23","v":31},{"$f":"'II-2.2.9'!H23+'II-2.2.9'!J23+'II-2.2.9'!L23+'II-2.2.9'!N23+'II-2.2.9'!P23+'II-2.2.9'!R23","v":13},2087,1191,896]
[]
["Fuente: Procesamiento propio en base a datos proporcionados por el D.E.E. — C.E.I.P."]
["Nota:   Educación privada especial no incluye los 70 alumnos inscriptos en clases especiales en establecimientos comunes. "]
["        Educación Común Pública no  incluye JICI. (776 alumnos), lo que explica la diferencia con el total del cuadro II-2.2.2"]
["        Educación Especial Pública no incluye Clases Especiales en Escuelas comunes (203 alumnos). "]
["        Educación Especial Pública  no incluye Instrucción Temprana (29 alumnos); Inicial (184 alumnos); Preparatorio (432 alumnos); y Talleres (1512 alumnos). "]

{"sheet":"II-2.2.7","index":137,"n_rows":26,"n_cols":17,"rows_kept":26,"cut":false,"hidden":false,"merged":[[0,14,1,16],[4,0,4,16],[5,5,5,16],[8,5,8,16],[6,5,7,6],[6,7,7,8],[6,9,7,10],[6,11,7,12],[6,13,7,14],[6,15,7,16],[9,16,10,16],[9,9,10,9],[9,10,10,10],[9,11,10,11],[9,12,10,12],[9,13,10,13],[9,14,10,14],[9,15,10,15],[9,7,10,7],[9,8,10,8],[5,0,10,1],[6,3,8,4],[9,3,10,3],[9,4,10,4],[9,5,10,5],[9,6,10,6]]}
["CONSEJO DE EDUCACIÓN PRIMARIA",null,null,null,null,null,null,null,null,null,null,null,null,null,"ALUMNOS MATRICULADOS"]
[]
["Cuadro Nº II-2.2.7"]
[]
["ALUMNOS MATRICULADOS EN EDUCACIÓN PRIMARIA POR GRADO Y FORMA DE ADMINISTRACIÓN SEGÚN EDAD. AÑO 2010."]
["EDAD",null,null,null,null,"GRADO"]
[null,null,null,"TOTAL",null,"Primero",null,"Segundo",null,"Tercero",null,"Cuarto",null,"Quinto",null,"Sexto"]
[]
[null,null,null,null,null,"FORMA DE ADMINISTRACIÓN"]
[null,null,null,"Pública","Privada","Pública","Privada","Pública","Privada","Pública","Privada","Pública","Privada","Pública","Privada","Pública","Privada"]
[]
[]
["TOTAL...............................",null," ",{"$f":"SUM(D15:D23)","v":278669},51103,47163,9169,46299,8770,46216,8532,45645,8503,46435,8211,46911,7918]
[]
["6  años.............................",null," ",{"$f":"+F15+H15+J15+L15+N15+P15","v":35004},{"$f":"+G15+I15+K15+M15+O15+Q15","v":7473},{"$f":"'II-2.2.8'!G15+'II-2.2.8'!H15","v":35004},{"$f":"'II-2.2.9'!G15+'II-2.2.9'!H15","v":7473},{"$f":"'II-2.2.8'!I15+'II-2.2.8'!J15","v":0},{"$f":"'II-2.2.9'!I15+'II-2.2.9'!J15","v":0},{"$f":"'II-2.2.8'!K15+'II-2.2.8'!L15","v":0},{"$f":"'II-2.2.9'!K15+'II-2.2.9'!L15","v":0},{"$f":"'II-2.2.8'!M15+'II-2.2.8'!N15","v":0},{"$f":"'II-2.2.9'!M15+'II-2.2.9'!N15","v":0},{"$f":"'II-2.2.8'!O15+'II-2.2.8'!P15","v":0},{"$f":"'II-2.2.9'!O15+'II-2.2.9'!P15","v":0},{"$f":"'II-2.2.8'!Q15+'II-2.2.8'!R15","v":0},{"$f":"'II-2.2.9'!Q15+'II-2.2.9'!R15","v":0}]
["7  años............................",null," ",42138,8904,{"$f":"'II-2.2.8'!G16+'II-2.2.8'!H16","v":10859},{"$f":"'II-2.2.9'!G16+'II-2.2.9'!H16","v":1642},{"$f":"'II-2.2.8'!I16+'II-2.2.8'!J16","v":31279},{"$f":"'II-2.2.9'!I16+'II-2.2.9'!J16","v":7262},{"$f":"'II-2.2.8'!K16+'II-2.2.8'!L16","v":0},{"$f":"'II-2.2.9'!K16+'II-2.2.9'!L16","v":0},{"$f":"'II-2.2.8'!M16+'II-2.2.8'!N16","v":0},{"$f":"'II-2.2.9'!M16+'II-2.2.9'!N16","v":0},{"$f":"'II-2.2.8'!O16+'II-2.2.8'!P16","v":0},{"$f":"'II-2.2.9'!O16+'II-2.2.9'!P16","v":0},{"$f":"'II-2.2.8'!Q16+'II-2.2.8'!R16","v":0},{"$f":"'II-2.2.9'!Q16+'II-2.2.9'!R16","v":0}]
["8  años.............................",null," ",42308,8496,{"$f":"'II-2.2.8'!G17+'II-2.2.8'!H17","v":1198},{"$f":"'II-2.2.9'!G17+'II-2.2.9'!H17","v":41},{"$f":"'II-2.2.8'!I17+'II-2.2.8'!J17","v":12281},{"$f":"'II-2.2.9'!I17+'II-2.2.9'!J17","v":1443},{"$f":"'II-2.2.8'!K17+'II-2.2.8'!L17","v":28829},{"$f":"'II-2.2.9'!K17+'II-2.2.9'!L17","v":7012},{"$f":"'II-2.2.8'!M17+'II-2.2.8'!N17","v":0},{"$f":"'II-2.2.9'!M17+'II-2.2.9'!N17","v":0},{"$f":"'II-2.2.8'!O17+'II-2.2.8'!P17","v":0},{"$f":"'II-2.2.9'!O17+'II-2.2.9'!P17","v":0},{"$f":"'II-2.2.8'!Q17+'II-2.2.8'!R17","v":0},{"$f":"'II-2.2.9'!Q17+'II-2.2.9'!R17","v":0}]
["9  años.............................",null," ",43312,8231,{"$f":"'II-2.2.8'!G18+'II-2.2.8'!H18","v":91},{"$f":"'II-2.2.9'!G18+'II-2.2.9'!H18","v":9},{"$f":"'II-2.2.8'!I18+'II-2.2.8'!J18","v":2402},{"$f":"'II-2.2.9'!I18+'II-2.2.9'!J18","v":54},{"$f":"'II-2.2.8'!K18+'II-2.2.8'!L18","v":13040},{"$f":"'II-2.2.9'!K18+'II-2.2.9'!L18","v":1431},{"$f":"'II-2.2.8'!M18+'II-2.2.8'!N18","v":27779},{"$f":"'II-2.2.9'!M18+'II-2.2.9'!N18","v":6737},{"$f":"'II-2.2.8'!O18+'II-2.2.8'!P18","v":0},{"$f":"'II-2.2.9'!O18+'II-2.2.9'!P18","v":0},{"$f":"'II-2.2.8'!Q18+'II-2.2.8'!R18","v":0},{"$f":"'II-2.2.9'!Q18+'II-2.2.9'!R18","v":0}]
["10 años.............................",null," ",43849,8140,{"$f":"'II-2.2.8'!G19+'II-2.2.8'!H19","v":8},{"$f":"'II-2.2.9'!G19+'II-2.2.9'!H19","v":1},{"$f":"'II-2.2.8'!I19+'II-2.2.8'!J19","v":306},{"$f":"'II-2.2.9'!I19+'II-2.2.9'!J19","v":6},{"$f":"'II-2.2.8'!K19+'II-2.2.8'!L19","v":3640},{"$f":"'II-2.2.9'!K19+'II-2.2.9'!L19","v":76},{"$f":"'II-2.2.8'!M19+'II-2.2.8'!N19","v":12891},{"$f":"'II-2.2.9'!M19+'II-2.2.9'!N19","v":1635},{"$f":"'II-2.2.8'!O19+'II-2.2.8'!P19","v":27004},{"$f":"'II-2.2.9'!O19+'II-2.2.9'!P19","v":6422},{"$f":"'II-2.2.8'!Q19+'II-2.2.8'!R19","v":0},{"$f":"'II-2.2.9'!Q19+'II-2.2.9'!R19","v":0}]
["11 años............................",null," ",43513,7842,{"$f":"'II-2.2.8'!G20+'II-2.2.8'!H20","v":2},{"$f":"'II-2.2.9'!G20+'II-2.2.9'!H20","v":1},{"$f":"'II-2.2.8'!I20+'II-2.2.8'!J20","v":23},{"$f":"'II-2.2.9'!I20+'II-2.2.9'!J20","v":5},{"$f":"'II-2.2.8'!K20+'II-2.2.8'!L20","v":595},{"$f":"'II-2.2.9'!K20+'II-2.2.9'!L20","v":9},{"$f":"'II-2.2.8'!M20+'II-2.2.8'!N20","v":3930},{"$f":"'II-2.2.9'!M20+'II-2.2.9'!N20","v":112},{"$f":"'II-2.2.8'!O20+'II-2.2.8'!P20","v":12965},{"$f":"'II-2.2.9'!O20+'II-2.2.9'!P20","v":1594},{"$f":"'II-2.2.8'!Q20+'II-2.2.8'!R20","v":25998},{"$f":"'II-2.2.9'!Q20+'II-2.2.9'!R20","v":6121}]
["12 años..........................",null," ",19685,1804,{"$f":"'II-2.2.8'!G21+'II-2.2.8'!H21","v":1},{"$f":"'II-2.2.9'!G21+'II-2.2.9'!H21","v":1},{"$f":"'II-2.2.8'!I21+'II-2.2.8'!J21","v":7},{"$f":"'II-2.2.9'!I21+'II-2.2.9'!J21","v":0},{"$f":"'II-2.2.8'!K21+'II-2.2.8'!L21","v":93},{"$f":"'II-2.2.9'!K21+'II-2.2.9'!L21","v":2},{"$f":"'II-2.2.8'!M21+'II-2.2.8'!N21","v":891},{"$f":"'II-2.2.9'!M21+'II-2.2.9'!N21","v":14},{"$f":"'II-2.2.8'!O21+'II-2.2.8'!P21","v":4918},{"$f":"'II-2.2.9'!O21+'II-2.2.9'!P21","v":169},{"$f":"'II-2.2.8'!Q21+'II-2.2.8'!R21","v":13775},{"$f":"'II-2.2.9'!Q21+'II-2.2.9'!R21","v":1618}]
["13 años..........................",null," ",7101,169,{"$f":"'II-2.2.8'!G22+'II-2.2.8'!H22","v":0},{"$f":"'II-2.2.9'!G22+'II-2.2.9'!H22","v":1},{"$f":"'II-2.2.8'!I22+'II-2.2.8'!J22","v":1},{"$f":"'II-2.2.9'!I22+'II-2.2.9'!J22","v":0},{"$f":"'II-2.2.8'!K22+'II-2.2.8'!L22","v":15},{"$f":"'II-2.2.9'!K22+'II-2.2.9'!L22","v":0},{"$f":"'II-2.2.8'!M22+'II-2.2.8'!N22","v":134},{"$f":"'II-2.2.9'!M22+'II-2.2.9'!N22","v":2},{"$f":"'II-2.2.8'!O22+'II-2.2.8'!P22","v":1373},{"$f":"'II-2.2.9'!O22+'II-2.2.9'!P22","v":18},{"$f":"'II-2.2.8'!Q22+'II-2.2.8'!R22","v":5578},{"$f":"'II-2.2.9'!Q22+'II-2.2.9'!R22","v":148}]
["14 años y más.....................",null," ",1759,44,{"$f":"'II-2.2.8'!G23+'II-2.2.8'!H23","v":0},{"$f":"'II-2.2.9'!G23+'II-2.2.9'!H23","v":0},{"$f":"'II-2.2.8'!I23+'II-2.2.8'!J23","v":0},{"$f":"'II-2.2.9'!I23+'II-2.2.9'!J23","v":0},{"$f":"'II-2.2.8'!K23+'II-2.2.8'!L23","v":4},{"$f":"'II-2.2.9'!K23+'II-2.2.9'!L23","v":2},{"$f":"'II-2.2.8'!M23+'II-2.2.8'!N23","v":20},{"$f":"'II-2.2.9'!M23+'II-2.2.9'!N23","v":3},{"$f":"'II-2.2.8'!O23+'II-2.2.8'!P23","v":175},{"$f":"'II-2.2.9'!O23+'II-2.2.9'!P23","v":8},{"$f":"'II-2.2.8'!Q23+'II-2.2.8'!R23","v":1560},{"$f":"'II-2.2.9'!Q23+'II-2.2.9'!R23","v":31}]
[]
["Fuente: Procesamiento propio en base a datos proporcionados por el D.E.E. — C.E.I.P."]
["Nota:   Primaria Pública no incluye la matrícula correspondiente a JICI (776 alumnos)."]

{"sheet":"II-2.2.8","index":138,"n_rows":26,"n_cols":18,"rows_kept":26,"cut":false,"hidden":false,"merged":[[9,3,10,3],[9,5,10,5],[9,14,10,14],[9,15,10,15],[9,16,10,16],[9,8,10,8],[9,9,10,9],[9,13,10,13],[9,4,10,4],[9,6,10,6],[9,7,10,7],[0,15,1,17],[4,0,4,17],[5,6,5,17],[8,6,8,17],[6,6,7,7],[6,8,7,9],[6,10,7,11],[6,12,7,13],[6,14,7,15],[6,16,7,17],[5,0,10,1],[6,3,8,5],[9,17,10,17],[9,10,10,10],[9,11,10,11],[9,12,10,12]]}
["CONSEJO DE EDUCACIÓN PRIMARIA",null,null,null,null,null,null,null,null,null,null,null,null,null,null,"ALUMNOS MATRICULADOS"]
[]
["Cuadro Nº II-2.2.8"]
[]
["ALUMNOS MATRICULADOS EN EDUCACIÓN PRIMARIA COMÚN PÚBLICA POR GRADO Y SEXO SEGÚN EDAD. AÑO 2010."]
["EDAD",null,null,null,null,null,"GRADO"]
[null,null,null,"TOTAL SEXO",null,null,"Primero",null,"Segundo",null,"Tercero",null,"Cuarto",null,"Quinto",null,"Sexto"]
[]
[null,null,null,null,null,null,"SEXO"]
[null,null,null,"TOTAL","M","F","M","F","M","F","M","F","M","F","M","F","M","F"]
[]
[]
["TOTAL...............................",null," ",{"$f":"SUM(D15:D23)","v":278669},144001,134668,24717,22446,23956,22343,24076,22140,23486,22159,23717,22718,24049,22862]
[]
["6  años.............................",null," ",{"$f":"+E15+F15","v":35004},{"$f":"+G15+I15+K15+M15+O15+Q15","v":17868},{"$f":"+H15+J15+L15+N15+P15+R15","v":17136},17868,17136,0,0,0,0,0,0,0,0,0,0]
["7  años............................",null," ",42138,{"$f":"+G16+I16+K16+M16+O16+Q16","v":21440},{"$f":"+H16+J16+L16+N16+P16+R16","v":20698},6038,4821,15402,15877,0,0,0,0,0,0,0,0]
["8  años.............................",null," ",42308,21714,20594,737,461,6843,5438,14134,14695,0,0,0,0,0,0]
["9  años.............................",null," ",43312,22104,21208,63,28,1485,917,7232,5808,13324,14455,0,0,0,0]
["10 años.............................",null," ",43849,22252,21597,8,0,204,102,2235,1405,7036,5855,12769,14235,0,0]
["11 años............................",null," ",43513,22197,21316,2,0,16,7,394,201,2443,1487,6967,5998,12375,13623]
["12 años..........................",null," ",19685,11026,8659,1,0,5,2,63,30,585,306,3013,1905,7359,6416]
["13 años..........................",null," ",7101,4279,2822,0,0,1,0,14,1,81,53,851,522,3332,2246]
["14 años y más.....................",null," ",1759,1121,638,0,0,0,0,4,0,17,3,117,58,983,577]
[]
["Fuente: Procesamiento propio en base a datos proporcionados por el D.E.E. — C.E.I.P."]
["Nota:   Primaria Pública no incluye la matrícula correspondiente a JICI (776 alumnos)."]

{"sheet":"II-2.2.9","index":139,"n_rows":25,"n_cols":18,"rows_kept":25,"cut":false,"hidden":false,"merged":[[9,17,10,17],[9,10,10,10],[9,11,10,11],[9,12,10,12],[0,15,1,17],[4,0,4,17],[5,6,5,17],[8,6,8,17],[6,6,7,7],[6,8,7,9],[6,10,7,11],[9,13,10,13],[6,12,7,13],[6,14,7,15],[6,16,7,17],[5,0,10,1],[6,3,8,5],[9,3,10,3],[9,5,10,5],[9,14,10,14],[9,15,10,15],[9,16,10,16],[9,4,10,4],[9,6,10,6],[9,7,10,7],[9,8,10,8],[9,9,10,9]]}
["CONSEJO DE EDUCACIÓN PRIMARIA",null,null,null,null,null,null,null,null,null,null,null,null,null,null,"ALUMNOS MATRICULADOS"]
[]
["Cuadro Nº II-2.2.9"]
[]
["ALUMNOS MATRICULADOS EN EDUCACIÓN PRIMARIA COMÚN PRIVADA POR GRADO Y SEXO SEGÚN EDAD. AÑO 2010."]
["EDAD",null,null,null,null,null,"GRADO"]
[null,null,null,"TOTAL SEXO",null,null,"Primero",null,"Segundo",null,"Tercero",null,"Cuarto",null,"Quinto",null,"Sexto"]
[]
[null,null,null,null,null,null,"SEXO"]
[null,null,null,"TOTAL","M","F","M","F","M","F","M","F","M","F","M","F","M","F"]
[]
[]
["TOTAL...............................",null," ",{"$f":"SUM(D15:D23)","v":51103},25913,25190,4683,4486,4394,4376,4339,4193,4325,4178,4135,4076,4037,3881]
[]
["6  años.............................",null," ",{"$f":"+E15+F15","v":7473},{"$f":"+G15+I15+K15+M15+O15+Q15","v":3764},{"$f":"+H15+J15+L15+N15+P15+R15","v":3709},3764,3709,0,0,0,0,0,0,0,0,0,0]
["7  años............................",null," ",8904,4462,4442,891,751,3571,3691,0,0,0,0,0,0,0,0]
["8  años.............................",null," ",8496,4310,4186,21,20,786,657,3503,3509,0,0,0,0,0,0]
["9  años.............................",null," ",8231,4200,4031,4,5,32,22,784,647,3380,3357,0,0,0,0]
["10 años.............................",null," ",8140,4086,4054,1,0,3,3,47,29,865,770,3170,3252,0,0]
["11 años............................",null," ",7842,3965,3877,1,0,2,3,4,5,68,44,850,744,3040,3081]
["12 años..........................",null," ",1804,996,808,1,0,0,0,1,1,10,4,101,68,883,735]
["13 años..........................",null," ",169,99,70,0,1,0,0,0,0,1,1,8,10,90,58]
["14 años y más.....................",null," ",44,31,13,0,0,0,0,0,2,1,2,6,2,24,7]
[]
["Fuente: Procesamiento propio en base a datos proporcionados por el D.E.E. — C.E.I.P."]

{"sheet":"II-2.2.10","index":140,"n_rows":37,"n_cols":15,"rows_kept":37,"cut":false,"hidden":false,"merged":[[5,1,5,14],[6,11,6,12],[0,12,1,14],[4,0,4,14],[6,13,6,14],[5,0,9,0],[8,1,9,1],[8,2,9,2],[8,3,9,3],[8,9,9,9],[8,10,9,10],[8,11,9,11],[8,4,9,4],[8,5,9,5],[8,6,9,6],[8,7,9,7],[8,12,9,12],[8,13,9,13],[8,14,9,14],[6,1,7,2],[7,3,7,14],[6,3,6,4],[6,5,6,6],[6,7,6,8],[6,9,6,10],[8,8,9,8]]}
["CONSEJO DE EDUCACIÓN PRIMARIA",null,null,null,null,null,null,null,null,null,null,null,"ALUMNOS MATRICULADOS"]
[]
["Cuadro Nº II-2.2.10"]
[]
["ALUMNOS MATRICULADOS EN EDUCACIÓN PRIMARIA COMÚN POR GRADO Y FORMA DE ADMINISTRACIÓN SEGÚN DEPARTAMENTO. AÑO 2010."]
["DEPARTAMENTO","GRADO"]
[null,"TOTAL",null,"Primero",null,"Segundo",null,"Tercero",null,"Cuarto",null,"Quinto",null,"Sexto"]
[null,null,null,"FORMA DE ADMINISTRACIÓN"]
[null,"Pública","Privada","Pública","Privada","Pública","Privada","Pública","Privada","Pública","Privada","Pública","Privada","Pública","Privada"]
[]
[]
["TOTAL...............................",{"$f":"+B14+B15","v":278669},51103,47163,9169,46299,8770,46216,8532,45645,8503,46435,8211,46911,7918]
[]
["MONTEVIDEO........................",{"$f":"+D14+F14+H14+J14+L14+N14","v":85218},{"$f":"+E14+G14+I14+K14+M14+O14","v":31060},14989,5650,14499,5390,14267,5188,13611,5089,13901,4964,13951,4779]
["RESTO DEL PAÍS.........................",{"$f":"SUM(B17:B34)","v":193451},20043,32174,3519,31800,3380,31949,3344,32034,3414,32534,3247,32960,3139]
[]
["Artigas........................",{"$f":"+D17+F17+H17+J17+L17+N17","v":9208},{"$f":"+E17+G17+I17+K17+M17+O17","v":87},1484,18,1457,12,1582,12,1514,20,1560,11,1611,14]
["Canelones.................",45753,7163,7717,1344,7668,1212,7483,1194,7696,1260,7642,1096,7547,1057]
["Cerro Largo....................",9373,586,1630,105,1510,85,1562,107,1513,97,1617,96,1541,96]
["Colonia.......................",10629,727,1867,125,1731,128,1737,131,1750,106,1711,124,1833,113]
["Durazno.......................",5946,568,929,108,1025,100,979,98,980,103,979,91,1054,68]
["Flores........................",2262,363,412,60,386,68,367,56,351,63,374,65,372,51]
["Florida.......................",6435,297,1126,44,1086,56,1090,44,1064,64,1018,38,1051,51]
["Lavalleja......................",5234,649,869,104,860,110,844,100,855,122,896,110,910,103]
["Maldonado......................",13697,3869,2263,601,2333,658,2217,668,2243,642,2335,658,2306,642]
["Paysandú.......................",12227,1186,2001,225,2000,186,2061,212,2090,196,2072,179,2003,188]
["Río Negro......................",5965,434,997,85,940,69,986,68,1029,82,1005,64,1008,66]
["Rivera.........................",11815,665,1900,104,1867,118,1915,102,1942,119,2008,111,2183,111]
["Rocha.........................",6936,405,1170,75,1102,68,1162,54,1112,61,1188,81,1202,66]
["Salto...........................",13933,1112,2185,172,2346,196,2269,178,2330,174,2418,204,2385,188]
["San José.......................",10043,610,1736,99,1646,114,1624,91,1679,100,1639,102,1719,104]
["Soriano........................",8724,467,1495,93,1421,67,1507,84,1400,78,1419,70,1482,75]
["Tacuarembó.....................",10113,661,1575,129,1609,100,1734,111,1640,97,1751,109,1804,115]
["Treinta y Tres................",5158,194,818,28,813,33,830,34,846,30,902,38,949,31]
[]
["Fuente: Procesamiento propio en base a datos proporcionados por el D.E.E. — C.E.I.P."]
["Nota:   Primaria Pública no incluye la matrícula correspondiente a JICI (776 alumnos)."]

{"sheet":"II-2.2.11","index":141,"n_rows":37,"n_cols":7,"rows_kept":37,"cut":false,"hidden":false,"merged":[[0,5,1,6],[7,5,7,6],[8,2,9,2],[8,3,9,3],[8,5,9,5],[8,6,9,6],[4,0,4,6],[36,0,36,6],[7,4,9,4],[7,1,9,1],[5,0,9,0],[6,5,6,6],[7,2,7,3],[6,1,6,3],[5,1,5,6]]}
["CONSEJO DE EDUCACIÓN PRIMARIA",null,null,null,null,"ALUMNOS MATRICULADOS"]
[]
["Cuadro Nº II-2.2.11"]
[]
["ALUMNOS MATRICULADOS EN EDUCACIÓN PRIMARIA COMÚN PÚBLICA POR RENDIMIENTO ESCOLAR Y ÁREA DEMOGRÁFICA SEGÚN DEPARTAMENTO. AÑO 2010."]
["DEPARTAMENTO","RENDIMIENTO ESCOLAR"]
[null,"PROMOVIDOS",null,null,null,"NO PROMOVIDOS"]
[null,"TOTAL","ÁREA DEMOGRÁFICA",null,"TOTAL","ÁREA DEMOGRÁFICA"]
[null,null,"Urbana","Rural",null,"Urbana","Rural"]
[]
[]
["TOTAL............................",{"$f":"SUM(C12:D12)","v":261365},{"$f":"SUM(C14:C15)","v":244980},{"$f":"SUM(D14:D15)","v":16385},{"$f":"SUM(F12:G12)","v":17304},{"$f":"SUM(F14:F15)","v":16436},{"$f":"SUM(G14:G15)","v":868}]
[]
["MONTEVIDEO...................",{"$f":"SUM(C14:D14)","v":77666},77666,"N/C",{"$f":"SUM(F14:G14)","v":7552},7552,"N/C"]
["RESTO DEL PAÍS.........................",{"$f":"SUM(C15:D15)","v":183699},{"$f":"SUM(C17:C34)","v":167314},{"$f":"SUM(D17:D34)","v":16385},{"$f":"SUM(F15:G15)","v":9752},{"$f":"SUM(F17:F34)","v":8884},{"$f":"SUM(G17:G34)","v":868}]
[]
["Artigas..........................",{"$f":"+C17+D17","v":8896},8090,806,{"$f":"+F17+G17","v":312},284,28]
["Canelones.....................",42672,40072,2600,3081,2918,163]
["Cerro Largo..................",8584,7632,952,789,706,83]
["Colonia..........................",10321,9215,1106,308,268,40]
["Durazno..........................",5786,5287,499,160,148,12]
["Flores..........................",2227,1954,273,35,29,6]
["Florida..........................",6152,5414,738,283,252,31]
["Lavalleja........................",4946,4478,468,288,262,26]
["Maldonado.........................",13063,12416,647,634,594,40]
["Paysandú..........................",11427,10348,1079,800,739,61]
["Río Negro........................",5663,5086,577,302,260,42]
["Rivera...........................",11399,10231,1168,416,345,71]
["Rocha.............................",6748,6430,318,188,174,14]
["Salto...........................",13104,11682,1422,829,737,92]
["San José.........................",9510,8343,1167,533,475,58]
["Soriano...........................",8412,7711,701,312,282,30]
["Tacuarembó........................",9810,8370,1440,303,252,51]
["Treinta y Tres...................",4979,4555,424,179,159,20]
[]
["Fuente: Procesamiento propio en base a datos proporcionados por el D.E.E. — C.E.I.P."]
["Nota:  No incluye datos correspondientes a JICI"]

{"sheet":"II-2.2.12","index":142,"n_rows":23,"n_cols":7,"rows_kept":23,"cut":false,"hidden":false,"merged":[[0,5,1,6],[4,0,4,6],[5,0,9,0],[8,2,9,2],[8,3,9,3],[8,5,9,5],[7,1,9,1],[7,4,9,4],[5,1,5,6],[22,0,22,6],[7,5,7,6],[8,6,9,6],[6,1,6,3],[6,4,6,6],[7,2,7,3],[21,0,21,6]]}
["CONSEJO DE EDUCACIÓN PRIMARIA",null,null,null,null,"ALUMNOS MATRICULADOS"]
[]
["Cuadro Nº II-2.2.12"]
[]
["ALUMNOS MATRICULADOS EN EDUCACIÓN PRIMARIA COMÚN PÚBLICA POR RENDIMIENTO ESCOLAR Y ÁREA DEMOGRÁFICA SEGÚN GRADO. AÑO 2010."]
["GRADO","RENDIMIENTO ESCOLAR"]
[null,"PROMOVIDOS",null,null,"NO PROMOVIDOS"]
[null,"TOTAL","ÁREA DEMOGRÁFICA",null,"TOTAL","ÁREA DEMOGRÁFICA"]
[null,null,"Urbana","Rural",null,"Urbana","Rural"]
[]
[]
["TOTAL............................",{"$f":"SUM(C12:D12)","v":261365},{"$f":"SUM(C14:C19)","v":244980},{"$f":"SUM(D14:D19)","v":16385},{"$f":"SUM(F12:G12)","v":17304},{"$f":"SUM(F14:F19)","v":16436},{"$f":"SUM(G14:G19)","v":868}]
[]
["Primero..............................",{"$f":"+C14+D14","v":40605},38105,2500,{"$f":"+F14+G14","v":6558},6206,352]
["Segundo..............................",42467,39797,2670,3832,3622,210]
["Tercero..............................",43692,40907,2785,2524,2412,112]
["Cuarto..................................",43662,40922,2740,1983,1906,77]
["Quinto..................................",44854,42107,2747,1581,1509,72]
["Sexto...................................",46085,43142,2943,826,781,45]
[]
["Fuente: Procesamiento propio en base a datos proporcionados por el D.E.E. — C.E.I.P."]
["Nota: No se presenta información para la Educación Primaria Privada porque no existen establecimientos privados en el área demográfica rural."]
["No incluye datos correspondientes a JICI (776 alumnos)."]

{"sheet":"II-2.2.13 ","index":143,"n_rows":37,"n_cols":7,"rows_kept":37,"cut":false,"hidden":false,"merged":[[0,5,1,6],[4,0,4,6],[5,0,9,0],[7,2,7,3],[7,5,7,6],[8,2,9,2],[6,1,6,3],[5,1,5,6],[6,4,6,6],[36,0,36,6],[7,4,9,4],[7,1,9,1],[8,3,9,3],[8,5,9,5],[8,6,9,6]]}
["CONSEJO DE EDUCACIÓN PRIMARIA",null,null,null,null,"ALUMNOS MATRICULADOS"]
[]
["Cuadro Nº II-2.2.13"]
[]
["ALUMNOS MATRICULADOS EN EDUCACIÓN PRIMARIA COMÚN PÚBLICA POR RENDIMIENTO ESCOLAR Y SEXO SEGÚN DEPARTAMENTO. AÑO 2010."]
["DEPARTAMENTO","RENDIMIENTO ESCOLAR"]
[null,"PROMOVIDOS",null,null,"NO PROMOVIDOS"]
[null,"TOTAL","SEXO",null,"TOTAL","SEXO"]
[null,null,"M","F",null,"M","F"]
[]
[]
["TOTAL............................",{"$f":"SUM(C12:D12)","v":261365},{"$f":"SUM(C14:C15)","v":133312},{"$f":"SUM(D14:D15)","v":128053},{"$f":"SUM(F12:G12)","v":17304},{"$f":"SUM(F14:F15)","v":10689},{"$f":"SUM(G14:G15)","v":6615}]
[]
["MONTEVIDEO...................",{"$f":"SUM(C14:D14)","v":77666},39231,38435,{"$f":"SUM(F14:G14)","v":7552},4568,2984]
["RESTO DEL PAÍS.........................",{"$f":"SUM(C15:D15)","v":183699},{"$f":"SUM(C17:C34)","v":94081},{"$f":"SUM(D17:D34)","v":89618},{"$f":"SUM(F15:G15)","v":9752},{"$f":"SUM(F17:F34)","v":6121},{"$f":"SUM(G17:G34)","v":3631}]
[]
["Artigas..........................",{"$f":"SUM(C17:D17)","v":8896},4557,4339,{"$f":"SUM(F17:G17)","v":312},204,108]
["Canelones.....................",42672,21831,20841,3081,1962,1119]
["Cerro Largo..................",8584,4343,4241,789,478,311]
["Colonia..........................",10321,5302,5019,308,180,128]
["Durazno..........................",5786,3043,2743,160,101,59]
["Flores..........................",2227,1099,1128,35,21,14]
["Florida..........................",6152,3129,3023,283,183,100]
["Lavalleja........................",4946,2545,2401,288,166,122]
["Maldonado.........................",13063,6708,6355,634,379,255]
["Paysandú..........................",11427,5832,5595,800,492,308]
["Río Negro........................",5663,2894,2769,302,209,93]
["Rivera...........................",11399,5914,5485,416,276,140]
["Rocha.............................",6748,3489,3259,188,112,76]
["Salto...........................",13104,6765,6339,829,518,311]
["San José.........................",9510,4864,4646,533,340,193]
["Soriano...........................",8412,4272,4140,312,194,118]
["Tacuarembó........................",9810,4941,4869,303,187,116]
["Treinta y Tres...................",4979,2553,2426,179,119,60]
[]
["Fuente: Procesamiento propio en base a datos proporcionados por el D.E.E. — C.E.I.P."]
["Nota: No incluye datos correspondientes a JICI (776 alumnos)."]

{"sheet":"II-2.2.14","index":144,"n_rows":36,"n_cols":7,"rows_kept":36,"cut":false,"hidden":false,"merged":[[5,1,5,6],[0,5,1,6],[4,0,4,6],[5,0,9,0],[7,1,9,1],[8,3,9,3],[8,5,9,5],[8,6,9,6],[7,2,7,3],[7,5,7,6],[8,2,9,2],[7,4,9,4],[6,1,6,3],[6,4,6,6]]}
["CONSEJO DE EDUCACIÓN PRIMARIA",null,null,null,null,"ALUMNOS MATRICULADOS"]
[]
["Cuadro Nº II-2.2.14"]
[]
["ALUMNOS MATRICULADOS EN EDUCACIÓN PRIMARIA COMÚN PRIVADA POR RENDIMIENTO ESCOLAR Y SEXO SEGÚN DEPARTAMENTO. AÑO 2010."]
["DEPARTAMENTO","RENDIMIENTO ESCOLAR"]
[null,"PROMOVIDOS",null,null,"NO PROMOVIDOS"]
[null,"TOTAL","SEXO",null,"TOTAL","SEXO"]
[null,null,"M","F",null,"M","F"]
[]
[]
["TOTAL............................",{"$f":"+B14+B15","v":50329},{"$f":"SUM(C14:C15)","v":25412},{"$f":"SUM(D14:D15)","v":24917},{"$f":"+F12+G12","v":774},{"$f":"SUM(F14:F15)","v":501},{"$f":"SUM(G14:G15)","v":273}]
[]
["MONTEVIDEO...................",{"$f":"SUM(C14:D14)","v":30556},15417,15139,{"$f":"SUM(F14:G14)","v":504},316,188]
["RESTO DEL PAÍS.........................",{"$f":"SUM(C15:D15)","v":19773},{"$f":"SUM(C17:C34)","v":9995},{"$f":"SUM(D17:D34)","v":9778},{"$f":"SUM(F15:G15)","v":270},{"$f":"SUM(F17:F34)","v":185},{"$f":"SUM(G17:G34)","v":85}]
[]
["Artigas..........................",{"$f":"SUM(C17:D17)","v":86},41,45,{"$f":"SUM(F17:G17)","v":1},1,0]
["Canelones.....................",7057,3612,3445,106,76,30]
["Cerro Largo..................",577,290,287,9,8,1]
["Colonia..........................",720,343,377,7,4,3]
["Durazno..........................",562,268,294,6,2,4]
["Flores..........................",351,178,173,12,6,6]
["Florida..........................",297,146,151,0,0,0]
["Lavalleja........................",632,303,329,17,9,8]
["Maldonado.........................",3802,1918,1884,67,49,18]
["Paysandú..........................",1176,582,594,10,8,2]
["Río Negro........................",433,234,199,1,1,0]
["Rivera...........................",653,346,307,12,7,5]
["Rocha.............................",405,206,199,0,0,0]
["Salto...........................",1104,553,551,8,6,2]
["San José.........................",603,309,294,7,4,3]
["Soriano...........................",465,223,242,2,2,0]
["Tacuarembó........................",659,337,322,2,1,1]
["Treinta y Tres...................",191,106,85,3,1,2]
[]
["Fuente: Procesamiento propio en base a datos proporcionados por el D.E.E. — C.E.I.P."]

{"sheet":"II-2.2.15 ","index":145,"n_rows":38,"n_cols":4,"rows_kept":38,"cut":false,"hidden":false,"merged":[[0,2,1,3],[5,2,6,3],[5,0,8,0],[35,0,35,3],[4,0,4,3],[7,2,8,2],[7,3,8,3],[7,1,8,1]]}
["CONSEJO DE EDUCACIÓN PRIMARIA",null,"ALUMNOS MATRICULADOS"]
[]
["Cuadro Nº II-2.2.15"]
[]
["ALUMNOS MATRICULADOS EGRESADOS DE EDUCACIÓN PRIMARIA COMÚN PÚBLICA POR ÁREA DEMOGRÁFICA SEGÚN DEPARTAMENTO. AÑO 2010."]
["DEPARTAMENTO",null,"ÁREA DEMOGRÁFICA"]
[]
[null,"TOTAL","Urbana","Rural"]
[]
[]
["TOTAL..........................",{"$f":"SUM(B13:B14)","v":46085},{"$f":"SUM(C13:C14)","v":43142},{"$f":"SUM(D13:D14)","v":2943}]
[]
["MONTEVIDEO.....................",{"$f":"SUM(C13:D13)","v":13649},13649,"N/C"]
["RESTO DEL PAÍS..........................",{"$f":"SUM(C14:D14)","v":32436},{"$f":"SUM(C16:C33)","v":29493},{"$f":"SUM(D16:D33)","v":2943}]
[]
["Artigas........................",{"$f":"SUM(C16:D16)","v":1597},1438,159]
["Canelones.................",7387,6923,464]
["Cerro Largo...................",1497,1310,187]
["Colonia.......................",1819,1623,196]
["Durazno........................",1051,968,83]
["Flores.........................",369,313,56]
["Florida.......................",1042,927,115]
["Lavalleja......................",888,804,84]
["Maldonado....................",2276,2153,123]
["Paysandú.....................",1969,1789,180]
["Río Negro.....................",992,895,97]
["Rivera..........................",2148,1938,210]
["Rocha...........................",1196,1141,55]
["Salto...........................",2322,2058,264]
["San José........................",1692,1477,215]
["Soriano........................",1468,1332,136]
["Tacuarembó.....................",1785,1536,249]
["Treinta y Tres..................",938,868,70]
[]
["Fuente: Procesamiento propio en base a datos proporcionados por el D.E.E. — C.E.I.P."]
["Nota: No se presenta información para Montevideo Rural por que no existen establecimientos en  el área demográfica rural."]
["        "]
["        "]

{"sheet":"II-2.2.16 ","index":146,"n_rows":35,"n_cols":9,"rows_kept":35,"cut":false,"hidden":false,"merged":[[6,3,8,3],[6,6,8,6],[5,3,5,5],[5,6,5,8],[0,6,1,8],[7,7,8,7],[7,8,8,8],[4,0,4,8],[5,0,8,0],[6,4,6,5],[6,7,6,8],[7,4,8,4],[7,5,8,5],[5,1,8,1]]}
["CONSEJO DE EDUCACIÓN PRIMARIA",null,null,null,null,null,"ALUMNOS MATRICULADOS"]
[]
["Cuadro Nº II-2.2.16"]
[]
["ALUMNOS MATRICULADOS Y EGRESADOS DE EDUCACIÓN PRIMARIA COMÚN POR FORMA DE ADMINISTRACIÓN SEGÚN DEPARTAMENTO. AÑO 2010."]
["DEPARTAMENTO","TOTAL",null,"PÚBLICA",null,null,"PRIVADA"]
[null,null,null,"TOTAL","SEXO",null,"TOTAL","SEXO"]
[null,null,null,null,"M","F",null,"M","F"]
[]
[]
["TOTAL............................",{"$f":"+D11+G11","v":53973},null,{"$f":"SUM(E11:F11)","v":46085},{"$f":"SUM(E13:E14)","v":23516},{"$f":"SUM(F13:F14)","v":22569},{"$f":"SUM(H11:I11)","v":7888},{"$f":"SUM(H13:H14)","v":4015},{"$f":"SUM(I13:I14)","v":3873}]
[]
["MONTEVIDEO...................",{"$f":"+D13+G13","v":18407},null,{"$f":"+E13+F13","v":13649},6885,6764,{"$f":"+H13+I13","v":4758},2410,2348]
["RESTO DEL PAÍS.........................",{"$f":"+D14+G14","v":35566},null,{"$f":"+E14+F14","v":32436},{"$f":"SUM(E16:E33)","v":16631},{"$f":"SUM(F16:F33)","v":15805},{"$f":"+H14+I14","v":3130},{"$f":"SUM(H16:H33)","v":1605},{"$f":"SUM(I16:I33)","v":1525}]
[]
["Artigas..........................",{"$f":"+D16+G16","v":1611},null,{"$f":"+E16+F16","v":1597},816,781,{"$f":"+H16+I16","v":14},8,6]
["Canelones.....................",8440,null,7387,3804,3583,1053,559,494]
["Cerro Largo..................",1592,null,1497,748,749,95,44,51]
["Colonia..........................",1931,null,1819,911,908,112,55,57]
["Durazno..........................",1119,null,1051,567,484,68,35,33]
["Flores..........................",420,null,369,190,179,51,23,28]
["Florida..........................",1093,null,1042,527,515,51,23,28]
["Lavalleja........................",990,null,888,451,437,102,52,50]
["Maldonado.........................",2917,null,2276,1169,1107,641,316,325]
["Paysandú..........................",2157,null,1969,978,991,188,95,93]
["Río Negro........................",1058,null,992,512,480,66,38,28]
["Rivera...........................",2258,null,2148,1128,1020,110,57,53]
["Rocha.............................",1262,null,1196,633,563,66,36,30]
["Salto...........................",2510,null,2322,1219,1103,188,99,89]
["San José.........................",1796,null,1692,845,847,104,50,54]
["Soriano...........................",1543,null,1468,766,702,75,34,41]
["Tacuarembó........................",1900,null,1785,888,897,115,66,49]
["Treinta y Tres...................",969,null,938,479,459,31,15,16]
[]
["Fuente: Procesamiento propio en base a datos proporcionados por el D.E.E. — C.E.I.P."]

{"sheet":"II-2.2.17 ","index":147,"n_rows":39,"n_cols":7,"rows_kept":39,"cut":false,"hidden":false,"merged":[[4,0,4,6],[6,3,6,4],[6,5,6,6],[0,5,1,6],[5,2,8,2],[5,0,8,1],[35,0,35,6],[7,3,8,3],[7,4,8,4],[7,5,8,5],[7,6,8,6],[34,0,34,6]]}
["CONSEJO DE EDUCACIÓN PRIMARIA",null,null,null,null,"ALUMNOS MATRICULADOS"]
[]
["Cuadro Nº II-2.2.17"]
[]
["ASISTENCIA INSUFICIENTE Y ABANDONO INTERMITENTE DE 1º GRADO Y 1º A 6º GRADO EN EDUCACIÓN COMÚN PÚBLICA SEGÚN DEPARTAMENTO. AÑO 2010."]
[null,null,"Matrícula a diciembre   (1º a 6º años)"]
[null,null,null,"ASISTENCIA INSUFICIENTE",null,"ABANDONO INTERMITENTE"]
[null,null,null,"Sólo 1° año","1º a 6º  años","Sólo 1° año","1º a 6º años"]
[]
["TOTAL............................"," ",{"$f":"+C12+C13","v":278669},{"$f":"+D12+D13","v":5099},{"$f":"+E12+E13","v":20119},{"$f":"+F12+F13","v":797},{"$f":"+G12+G13","v":3352}]
[null," "]
["MONTEVIDEO..................."," ",{"$f":"'II-2.2.10'!B14","v":85218},2202,8168,355,1400]
["RESTO DEL PAÍS........................."," ",{"$f":"SUM(C15:C32)","v":193451},{"$f":"SUM(D15:D32)","v":2897},{"$f":"SUM(E15:E32)","v":11951},{"$f":"SUM(F15:F32)","v":442},{"$f":"SUM(G15:G32)","v":1952}]
[null," "]
["Artigas.........................."," ",{"$f":"'II-2.2.10'!B17","v":9208},99,493,13,96]
["Canelones....................."," ",{"$f":"'II-2.2.10'!B18","v":45753},851,3363,150,551]
["Cerro Largo.................."," ",{"$f":"'II-2.2.10'!B19","v":9373},153,608,13,76]
["Colonia.........................."," ",{"$f":"'II-2.2.10'!B20","v":10629},122,409,36,84]
["Durazno.........................."," ",{"$f":"'II-2.2.10'!B21","v":5946},102,450,23,113]
["Flores.........................."," ",{"$f":"'II-2.2.10'!B22","v":2262},24,97,2,15]
["Florida.........................."," ",{"$f":"'II-2.2.10'!B23","v":6435},106,405,10,54]
["Lavalleja........................"," ",{"$f":"'II-2.2.10'!B24","v":5234},84,393,8,51]
["Maldonado........................."," ",{"$f":"'II-2.2.10'!B25","v":13697},272,1050,25,116]
["Paysandú.........................."," ",{"$f":"'II-2.2.10'!B26","v":12227},179,867,34,150]
["Río Negro........................"," ",{"$f":"'II-2.2.10'!B27","v":5965},85,300,8,45]
["Rivera..........................."," ",{"$f":"'II-2.2.10'!B28","v":11815},151,666,46,169]
["Rocha............................."," ",{"$f":"'II-2.2.10'!B29","v":6936},85,396,10,72]
["Salto..........................."," ",{"$f":"'II-2.2.10'!B30","v":13933},203,793,17,113]
["San José........................."," ",{"$f":"'II-2.2.10'!B31","v":10043},136,566,15,63]
["Soriano..........................."," ",{"$f":"'II-2.2.10'!B32","v":8724},102,426,3,45]
["Tacuarembó........................"," ",{"$f":"'II-2.2.10'!B33","v":10113},84,393,14,76]
["Treinta y Tres..................."," ",{"$f":"'II-2.2.10'!B34","v":5158},59,276,15,63]
[]
["Fuente: Procesamiento propio en base a datos proporcionados por el D.E.E. — C.E.I.P."]
["No incluye datos correspondientes a JICI (727 alumnos). "]
[]
[]
[]
["       "]

{"sheet":"II-2.2.18","index":148,"n_rows":36,"n_cols":9,"rows_kept":36,"cut":false,"hidden":false,"merged":[[35,0,35,8],[0,6,1,8],[4,0,4,8],[5,0,8,1],[5,4,5,5],[5,7,5,8],[6,3,8,3],[7,5,8,5],[7,7,8,7],[7,8,8,8],[6,4,6,5],[6,7,6,8],[7,4,8,4],[6,6,8,6]]}
["CONSEJO DE EDUCACIÓN PRIMARIA",null,null,null,null,null,"ALUMNOS MATRICULADOS"]
[]
["Cuadro Nº II-2.2.18"]
[]
["ALUMNOS MATRICULADOS EN EDUCACIÓN PRIMARIA ESPECIAL PÚBLICA POR TIPO DE ESTABLECIMIENTO Y SEXO SEGÚN DEPARTAMENTO. AÑO 2010."]
["DEPARTAMENTO",null,null,null,"ESCUELAS ESPECIALES",null,null,"ESCUELAS COMUNES"]
[null,null,null,"TOTAL","SEXO",null,"TOTAL","SEXO"]
[null,null,null,null,"M","F",null,"M","F"]
[]
[]
["TOTAL............................",null," ",{"$f":"SUM(E11:F11)","v":7416},{"$f":"SUM(E13:E14)","v":4575},{"$f":"SUM(F13:F14)","v":2841},{"$f":"SUM(H11:I11)","v":203},{"$f":"SUM(H13:H14)","v":131},{"$f":"SUM(I13:I14)","v":72}]
[null,null," "]
["MONTEVIDEO...................",null," ",{"$f":"SUM(E13:F13)","v":2980},{"$f":"'II-2.2.2'!I11","v":1825},{"$f":"'II-2.2.2'!J11","v":1155},{"$f":"SUM(H13:I13)","v":0},0,0]
["RESTO DEL PAÍS.........................",null," ",{"$f":"SUM(E14:F14)","v":4436},{"$f":"SUM(E16:E33)","v":2750},{"$f":"SUM(F16:F33)","v":1686},{"$f":"SUM(H14:I14)","v":203},{"$f":"SUM(H16:H33)","v":131},{"$f":"SUM(I16:I33)","v":72}]
[null,null," "]
["Artigas..........................",null," ",{"$f":"SUM(E16:F16)","v":221},{"$f":"'II-2.2.2'!I14","v":130},{"$f":"'II-2.2.2'!J14","v":91},{"$f":"SUM(H16:I16)","v":15},{"$f":"'II-2.2.2'!EN14","v":11},{"$f":"'II-2.2.2'!EO14","v":4}]
["Canelones.....................",null," ",773,{"$f":"'II-2.2.2'!I15","v":484},{"$f":"'II-2.2.2'!J15","v":289},49,{"$f":"'II-2.2.2'!EN15","v":35},{"$f":"'II-2.2.2'!EO15","v":14}]
["Cerro Largo..................",null," ",254,{"$f":"'II-2.2.2'!I16","v":158},{"$f":"'II-2.2.2'!J16","v":96},14,{"$f":"'II-2.2.2'!EN16","v":9},{"$f":"'II-2.2.2'!EO16","v":5}]
["Colonia..........................",null," ",257,{"$f":"'II-2.2.2'!I17","v":165},{"$f":"'II-2.2.2'!J17","v":92},12,{"$f":"'II-2.2.2'!EN17","v":10},{"$f":"'II-2.2.2'!EO17","v":2}]
["Durazno..........................",null," ",226,{"$f":"'II-2.2.2'!I18","v":134},{"$f":"'II-2.2.2'!J18","v":92},26,{"$f":"'II-2.2.2'!EN18","v":16},{"$f":"'II-2.2.2'!EO18","v":10}]
["Flores..........................",null," ",61,{"$f":"'II-2.2.2'!I19","v":36},{"$f":"'II-2.2.2'!J19","v":25},0,{"$f":"'II-2.2.2'!EN19","v":0},{"$f":"'II-2.2.2'!EO19","v":0}]
["Florida..........................",null," ",164,{"$f":"'II-2.2.2'!I20","v":106},{"$f":"'II-2.2.2'!J20","v":58},6,{"$f":"'II-2.2.2'!EN20","v":3},{"$f":"'II-2.2.2'!EO20","v":3}]
["Lavalleja........................",null," ",149,{"$f":"'II-2.2.2'!I21","v":94},{"$f":"'II-2.2.2'!J21","v":55},7,{"$f":"'II-2.2.2'!EN21","v":6},{"$f":"'II-2.2.2'!EO21","v":1}]
["Maldonado.........................",null," ",288,{"$f":"'II-2.2.2'!I22","v":169},{"$f":"'II-2.2.2'!J22","v":119},0,{"$f":"'II-2.2.2'!EN22","v":0},{"$f":"'II-2.2.2'!EO22","v":0}]
["Paysandú..........................",null," ",211,{"$f":"'II-2.2.2'!I23","v":131},{"$f":"'II-2.2.2'!J23","v":80},20,{"$f":"'II-2.2.2'!EN23","v":14},{"$f":"'II-2.2.2'!EO23","v":6}]
["Río Negro........................",null," ",178,{"$f":"'II-2.2.2'!I24","v":90},{"$f":"'II-2.2.2'!J24","v":88},4,{"$f":"'II-2.2.2'!EN24","v":1},{"$f":"'II-2.2.2'!EO24","v":3}]
["Rivera...........................",null," ",258,{"$f":"'II-2.2.2'!I25","v":168},{"$f":"'II-2.2.2'!J25","v":90},0,{"$f":"'II-2.2.2'!EN25","v":0},{"$f":"'II-2.2.2'!EO25","v":0}]
["Rocha.............................",null," ",249,{"$f":"'II-2.2.2'!I26","v":153},{"$f":"'II-2.2.2'!J26","v":96},10,{"$f":"'II-2.2.2'!EN26","v":2},{"$f":"'II-2.2.2'!EO26","v":8}]
["Salto...........................",null," ",342,{"$f":"'II-2.2.2'!I27","v":217},{"$f":"'II-2.2.2'!J27","v":125},8,{"$f":"'II-2.2.2'!EN27","v":5},{"$f":"'II-2.2.2'!EO27","v":3}]
["San José.........................",null," ",258,{"$f":"'II-2.2.2'!I28","v":169},{"$f":"'II-2.2.2'!J28","v":89},6,{"$f":"'II-2.2.2'!EN28","v":5},{"$f":"'II-2.2.2'!EO28","v":1}]
["Soriano...........................",null," ",226,{"$f":"'II-2.2.2'!I29","v":142},{"$f":"'II-2.2.2'!J29","v":84},4,{"$f":"'II-2.2.2'!EN29","v":3},{"$f":"'II-2.2.2'!EO29","v":1}]
["Tacuarembó........................",null," ",195,{"$f":"'II-2.2.2'!I30","v":123},{"$f":"'II-2.2.2'!J30","v":72},17,{"$f":"'II-2.2.2'!EN30","v":8},{"$f":"'II-2.2.2'!EO30","v":9}]
["Treinta y Tres...................",null," ",126,{"$f":"'II-2.2.2'!I31","v":81},{"$f":"'II-2.2.2'!J31","v":45},5,{"$f":"'II-2.2.2'!EN31","v":3},{"$f":"'II-2.2.2'!EO31","v":2}]
[]
["Fuente: Procesamiento propio en base a datos proporcionados por el D.E.E. — C.E.I.P."]
["Nota: La categoría \"Escuelas Comunes\" presenta la matrícula de niños con discapacidades  que concurren a clases especiales específicas a sus necesidades, en establecimientos comunes."]

{"sheet":"II-2.3.1","index":149,"n_rows":37,"n_cols":11,"rows_kept":37,"cut":false,"hidden":false,"merged":[[0,8,1,9],[4,0,4,10],[5,4,5,10],[5,0,7,1],[6,3,7,3],[6,4,7,4],[6,5,7,5],[6,10,7,10],[33,0,33,10],[34,0,34,10],[6,6,7,6],[6,7,7,7],[6,8,7,8],[6,9,7,9]]}
["CONSEJO DE EDUCACIÓN PRIMARIA",null,null,null,null,null,null,null,"PERSONAL DOCENTE"]
[]
["Cuadro Nº II-2.3.1"]
[]
["PERSONAL DOCENTE DE EDUCACIÓN PRIMARIA PÚBLICA POR TIPO DE DESEMPEÑO DOCENTE SEGÚN DEPARTAMENTO. AÑO 2010."]
["DEPARTAMENTO",null,null,null,"TIPO DE DESEMPEÑO DOCENTE"]
[null,null,null,"TOTAL","Inspección","Educación Común","Educación en Colonias","Educación Especial","Servicios Docentes Especiales","Profesores Especiales","Coordinación Apoyo"]
[]
[]
["TOTAL.............................",null," ",{"$f":"SUM(D12:D13)","v":18577},261,14748,38,961,147,2330,92]
[]
["MONTEVIDEO...................",null," ",{"$f":"SUM(E12:K12)","v":5569},92,4130,14,409,92,819,13]
["RESTO DEL PAÍS.........................",null," ",{"$f":"SUM(D15:D32)","v":13008},169,10618,24,552,55,1511,79]
[null,null," "]
["Artigas..........................",null," ",{"$f":"SUM(E15:K15)","v":626},7,503,0,23,0,89,4]
["Canelones.....................",null," ",2653,32,2234,0,108,14,253,12]
["Cerro Largo..................",null," ",641,9,528,0,31,4,65,4]
["Colonia..........................",null," ",763,9,612,0,36,3,99,4]
["Durazno..........................",null," ",449,7,367,0,22,0,49,4]
["Flores..........................",null," ",194,3,152,0,9,0,27,3]
["Florida..........................",null," ",502,7,396,0,23,5,67,4]
["Lavalleja........................",null," ",419,6,335,0,20,4,50,4]
["Maldonado.........................",null," ",804,11,627,15,37,7,103,4]
["Paysandú..........................",null," ",780,10,640,0,37,5,84,4]
["Río Negro........................",null," ",426,5,345,0,21,0,51,4]
["Rivera...........................",null," ",846,11,688,0,31,1,111,4]
["Rocha.............................",null," ",511,7,398,0,27,3,72,4]
["Salto...........................",null," ",927,11,743,9,32,2,125,5]
["San José.........................",null," ",677,9,576,0,29,0,59,4]
["Soriano...........................",null," ",630,9,511,0,29,2,75,4]
["Tacuarembó........................",null," ",768,10,643,0,22,5,85,3]
["Treinta y Tres...................",null," ",392,6,320,0,15,0,47,4]
[]
["Fuente: D.E.E. — C.E.P. Listado de cargos de la División Hacienda a Julio 2010."]
["Nota: Personal docente refiere a cargos de dos tipos: vacantes y ocupados."]
["        "]
["        "]

{"sheet":"II-2.3.2","index":150,"n_rows":36,"n_cols":12,"rows_kept":36,"cut":false,"hidden":false,"merged":[[0,10,1,11],[4,0,4,11],[5,6,5,11],[34,0,34,11],[5,0,8,1],[5,3,8,3],[5,5,8,5],[5,4,8,4],[7,10,8,10],[7,11,8,11],[6,6,6,8],[6,9,6,11],[7,6,8,6],[7,7,8,7],[7,8,8,8],[7,9,8,9]]}
["CONSEJO DE EDUCACIÓN PRIMARIA",null,null,null,null,null,null,null,null,null,"PERSONAL DOCENTE"]
[]
["Cuadro Nº II-2.3.2"]
[]
["PERSONAL DOCENTE DE EDUCACIÓN PRIMARIA PRIVADA POR TIPO DE ESTABLECIMIENTO Y TIPO DE DESEMPEÑO DOCENTE SEGÚN DEPARTAMENTO. AÑO 2010."]
["  DEPARTAMENTO",null,null,"TOTAL","MAESTROS","PROFESORES","ESTABLECIMIENTOS"]
[null,null,null,null,null,null,"HABILITADOS",null,null,"AUTORIZADOS"]
[null,null,null,null,null,null,"Total","Maestros","Profesores","Total","Maestros","Profesores"]
[]
[]
["TOTAL..........................",null," ",{"$f":"+E11+F11","v":6708},{"$f":"+H11+K11","v":2613},{"$f":"+I11+L11","v":4095},{"$f":"+G13+G14","v":6303},{"$f":"H13+H14","v":2476},{"$f":"I13+I14","v":3827},{"$f":"+J13+J14","v":405},{"$f":"K13+K14","v":137},{"$f":"L13+L14","v":268}]
[null,null," "]
["MONTEVIDEO.....................",null," ",{"$f":"+E13+F13","v":4096},{"$f":"+H13+K13","v":1525},{"$f":"+I13+L13","v":2571},{"$f":"+H13+I13","v":3764},1426,2338,{"$f":"+K13+L13","v":332},99,233]
["RESTO DEL PAÍS.....................",null," ",{"$f":"+E14+F14","v":2612},{"$f":"+H14+K14","v":1088},{"$f":"+I14+L14","v":1524},{"$f":"+H14+I14","v":2539},{"$f":"SUM(H16:H33)","v":1050},{"$f":"SUM(I16:I33)","v":1489},{"$f":"+K14+L14","v":73},{"$f":"SUM(K16:K33)","v":38},{"$f":"SUM(L16:L33)","v":35}]
[null,null," "]
["Artigas.........................",null," ",{"$f":"+E16+F16","v":14},{"$f":"+H16+K16","v":6},{"$f":"+I16+L16","v":8},{"$f":"+H16+I16","v":14},6,8,{"$f":"+K16+L16","v":0},0,0]
["Canelones......................",null," ",897,396,501,{"$f":"+H17+I17","v":841},372,469,{"$f":"+K17+L17","v":56},24,32]
["Cerro Largo.....................",null," ",81,34,47,73,28,45,8,6,2]
["Colonia...........................",null," ",93,50,43,93,50,43,0,0,0]
["Durazno.......................",null," ",52,29,23,52,29,23,0,0,0]
["Flores.........................",null," ",52,19,33,52,19,33,0,0,0]
["Florida.........................",null," ",48,19,29,48,19,29,0,0,0]
["Lavalleja........................",null," ",87,39,48,87,39,48,0,0,0]
["Maldonado........................",null," ",416,174,242,413,171,242,3,3,0]
["Paysandú..........................",null," ",155,70,85,155,70,85,0,0,0]
["Río Negro........................",null," ",94,29,65,90,25,65,4,4,0]
["Rivera..........................",null," ",110,42,68,110,42,68,0,0,0]
["Rocha..........................",null," ",62,23,39,62,23,39,0,0,0]
["Salto............................",null," ",155,51,104,155,51,104,0,0,0]
["San José.......................",null," ",90,36,54,88,35,53,{"$f":"+K30+L30","v":2},1,1]
["Soriano........................",null," ",63,24,39,63,24,39,0,0,0]
["Tacuarembó.....................",null," ",124,38,86,124,38,86,0,0,0]
["Treinta y Tres................",null," ",19,9,10,19,9,10,0,0,0]
[]
["Fuente: D.E.E. — C.E.P. Planillas enviadas por las Inspecciones Departamentales a abril de 2010."]
["NOTA: El personal docente incluye exclusivamente docencia directa. "]

{"sheet":"MEDIA BÁSICA","index":151,"n_rows":51,"n_cols":1,"rows_kept":51,"cut":false,"hidden":false,"merged":[[41,0,41,4],[50,0,50,4],[14,0,14,4],[20,0,20,4],[26,0,26,4],[29,0,29,4],[23,0,23,4],[44,0,44,4],[32,0,32,4],[35,0,35,4]]}
[]
[]
[]
[]
[]
[]
[]
[]
[]
[]
["CONSEJO DE EDUCACIÓN SECUNDARIA Y CONSEJO DE EDUCACIÓN TÉCNICO PROFESIONAL (UTU)"]
["ESTABLECIMIENTOS"]
[]
["Cuadro Nº II-3.1.1"]
[{"$f":"'II-3.1.1'!A5:I5","v":"ESTABLECIMIENTOS DE EDUCACIÓN MEDIA BÁSICA POR MODALIDAD Y FORMA DE ADMINISTRACIÓN SEGÚN DEPARTAMENTO. AÑO 2010."}]
[]
["CONSEJO DE EDUCACIÓN SECUNDARIA Y CONSEJO DE EDUCACIÓN TÉCNICO PROFESIONAL (UTU)"]
["ALUMNOS MATRICULADOS"]
[]
["Cuadro Nº II-3.2.1"]
[{"$f":"'II-3.2.1'!A5:J5","v":"ALUMNOS MATRICULADOS EN CICLO BÁSICO  DE EDUCACIÓN SECUNDARIA POR GRADO SEGÚN GRANDES ÁREAS Y FORMA DE ADMINISTRACIÓN. AÑO 2010."}]
[]
["Cuadro Nº II-3.2.2"]
[{"$f":"'II-3.2.2'!A5:D5","v":"ALUMNOS MATRICULADOS EN EL CETP EN EDUCACIÓN MEDIA BÁSICA POR TIPO DE CURSO SEGÚN GRANDES ÁREAS, DEPARTAMENTO Y SEXO. AÑO 2010."}]
[]
["Cuadro Nº II-3.2.3"]
[{"$f":"'II-3.2.3'!A5:M5","v":"ALUMNOS MATRICULADOS EN SÉPTIMO, OCTAVO Y NOVENO GRADO DE CICLO BÁSICO RURAL POR SEXO SEGÚN DEPARTAMENTO AÑO 2010."}]
[]
["Cuadro Nº II-3.2.4"]
[{"$f":"'II-3.2.4'!A5:H5","v":"ALUMNOS MATRICULADOS DE CICLO BÁSICO DE EDUCACIÓN SECUNDARIA POR GRADO Y FORMA DE ADMINISTRACIÓN SEGÚN DEPARTAMENTO. AÑO 2010."}]
[]
["Cuadro Nº II-3.2.5"]
[{"$f":"'II-3.2.5 '!A5:D5","v":"ALUMNOS MATRICULADOS EN EDUCACIÓN TÉCNICA MEDIA BÁSICA POR TIPO DE CURSO SEGÚN EDAD. AÑO 2010."}]
[]
["Cuadro Nº II-3.2.6"]
[{"$f":"'II-3.2.6 '!A5:D5","v":"ALUMNOS MATRICULADOS EN EL CETP EN EDUCACIÓN MEDIA BÁSICA POR TIPO DE CURSO SEGÚN SECTORES DE ESTUDIO. AÑO 2010."}]
[]
["CONSEJO DE EDUCACIÓN SECUNDARIA Y CONSEJO DE EDUCACIÓN TÉCNICO PROFESIONAL (UTU)"]
["PERSONAL DOCENTE Y HORAS DOCENTES"]
[]
["Cuadro Nº II-3.3.1"]
[{"$f":"'II-3.3.1'!A5:G5","v":"PERSONAL DOCENTE Y HORAS DOCENTES DE CICLO BÁSICO DE EDUCACIÓN SECUNDARIA POR TITULACIÓN SEGÚN ASIGNATURAS. AÑO 2010."}]
[]
["Cuadro Nº II-3.3.2"]
[{"$f":"'II-3.3.2'!A5:D5","v":"PERSONAL DOCENTE EN EDUCACIÓN MEDIA BÁSICA TECNOLÓGICA POR TIPO DE CURSO. AÑO 2010."}]
[]
["CONSEJO DE EDUCACIÓN SECUNDARIA Y CONSEJO DE EDUCACIÓN TÉCNICO PROFESIONAL (UTU)"]
["GRUPOS"]
[]
["Cuadro Nº II-3.4.1"]
[{"$f":"'II-3.4.1'!A5:F5","v":"GRUPOS DE CICLO BÁSICO DE EDUCACIÓN SECUNDARIA COMPARADOS CON EL TOTAL DE AMBOS CICLOS SEGÚN GRANDES ÁREAS Y FORMA DE ADMINISTRACIÓN. AÑO 2010."}]

{"sheet":"II-3.1.1","index":152,"n_rows":37,"n_cols":9,"rows_kept":37,"cut":false,"hidden":false,"merged":[[36,0,36,8],[35,0,35,8],[0,8,1,8],[7,4,7,8],[8,4,9,4],[8,5,9,5],[8,6,9,6],[8,8,9,8],[4,0,4,8],[5,0,9,0],[5,1,5,8],[6,1,9,1],[6,3,6,6],[7,3,9,3]]}
["CONSEJO DE EDUCACIÓN SECUNDARIA Y CONSEJO DE EDUCACIÓN TÉCNICO PROFESIONAL (UTU)",null,null,null,null,null,null,null,"ESTABLECIMIENTOS"]
[]
["Cuadro Nº II-3.1.1"]
[]
["ESTABLECIMIENTOS DE EDUCACIÓN MEDIA BÁSICA POR MODALIDAD Y FORMA DE ADMINISTRACIÓN SEGÚN DEPARTAMENTO. AÑO 2010."]
["DEPARTAMENTO","MODALIDAD"]
[null,"TOTAL",null,"CES",null,null,null,null,"CETP"]
[null,null,null,"TOTAL","FORMA DE ADMINISTRACIÓN"]
[null,null,null,null,"PÚBLICOS\n(Oficiales)","PRIVADOS","Escuelas con Ciclo Básico Rural",null,"Centros de Ciclo Básico Tecnológico"]
[]
[]
["TOTAL..........................",{"$f":"+B14+B15","v":539},null,{"$f":"+D14+D15","v":539},{"$f":"E14+E15","v":280},{"$f":"F14+F15","v":186},{"$f":"G14+G15","v":59},null,{"$f":"I14+I15","v":73}]
[]
["MONTEVIDEO....................",{"$f":"+D14","v":184},null,{"$f":"+E14+F14+I14","v":184},69,107,1,null,8]
["RESTO DEL PAÍS......................",{"$f":"SUM(B17:B34)","v":355},null,{"$f":"SUM(D17:D34)","v":355},{"$f":"SUM(E17:E34)","v":211},{"$f":"SUM(F17:F34)","v":79},{"$f":"SUM(G17:G34)","v":58},null,{"$f":"SUM(I17:I34)","v":65}]
[]
["Artigas............................",{"$f":"D17","v":14},null,{"$f":"+E17+F17+I17","v":14},11,1,3,null,2]
["Canelones.......................",{"$f":"D18","v":83},null,{"$f":"+E18+F18+I18","v":83},47,26,0,null,10]
["Cerro Largo....................",13,null,13,6,2,4,null,5]
["Colonia.........................",22,null,22,14,1,6,null,7]
["Durazno............................",13,null,13,8,2,1,null,3]
["Flores...........................",8,null,8,3,3,1,null,2]
["Florida..........................",15,null,15,12,2,2,null,1]
["Lavalleja.........................",11,null,11,8,2,2,null,1]
["Maldonado.........................",27,null,27,11,12,2,null,4]
["Paysandú............................",22,null,22,14,4,10,null,4]
["Río Negro........................",13,null,13,8,2,5,null,3]
["Rivera............................",18,null,18,10,6,4,null,2]
["Rocha.............................",16,null,16,11,2,2,null,3]
["Salto.............................",19,null,{"$f":"+E30+F30+I30","v":19},11,5,1,null,3]
["San José.........................",16,null,16,9,2,8,null,5]
["Soriano..........................",16,null,16,9,1,1,null,6]
["Tacuarembó.......................",18,null,18,12,4,4,null,2]
["Treinta y Tres................",11,null,11,7,2,2,null,2]
[]
["Fuente: D.E. — C.E.S, CETP"]
["Notas: \n1- La disminución en la cantidad de liceos se explica por la unificación de los liceos nocturnos bajo una misma administración. Lo cual no implica disminución de los establecimientos físicos. \n2- Los establecimientos considerados en el Tipo de Educación “Escuelas con Ciclo Básico Rural” ya fueron considerados en los totales de establecimientos de Educación Primaria, por lo cual, si bien se presentan en la columna correspondiente, no participan en el “Total” del presente cuadro.\n3- En un mismo establecimiento del CETP, coexisten ofertas educativas de diferentes niveles. Los establecimientos fueron contabilizados por nivel educativo, por lo tanto cada dependencia física será contada tantas veces como niveles educativos contenga. Por ello el presente cuadro computa los establecimientos con cursos de Educación Media Básica, independientemente que en el mismo espacio locativo se dicten ofertas de otros niveles.\n"]

{"sheet":"II-3.2.1","index":153,"n_rows":40,"n_cols":10,"rows_kept":40,"cut":false,"hidden":false,"merged":[[37,0,37,9],[8,5,9,6],[8,7,9,8],[6,0,10,2],[0,6,1,9],[7,3,9,3],[4,0,4,9],[8,9,9,10],[6,5,7,9]]}
["CONSEJO DE EDUCACIÓN SECUNDARIA",null,null,null,null,null,"ALUMNOS MATRICULADOS"]
[]
["Cuadro Nº II-3.2.1"]
[]
["ALUMNOS MATRICULADOS EN CICLO BÁSICO  DE EDUCACIÓN SECUNDARIA POR GRADO SEGÚN GRANDES ÁREAS Y FORMA DE ADMINISTRACIÓN. AÑO 2010."]
[]
["GRANDES ÁREAS Y FORMA DE ADMINISTRACIÓN",null,null,null,null,"GRADO"]
[null,null,null,"TOTAL"]
[null,null,null,null,null,"PRIMERO",null,"SEGUNDO",null,"TERCERO"]
[]
[]
[]
["TOTAL DEL PAÍS.....................................",null," ",{"$f":"+D21+D29","v":155444},null,{"$f":"+F21+F29","v":57664},null,{"$f":"+H21+H29","v":50119},null,{"$f":"+J21+J29","v":47661}]
[]
["CICLO BÁSICO PÚBLICA.................",null," ",{"$f":"+D23+D31","v":130073},null,{"$f":"+F16+F17","v":49063},null,{"$f":"+H16+H17","v":41608},null,{"$f":"+J16+J17","v":39402}]
["  Diurna....................................",null," ",{"$f":"+F16+H16+J16","v":116580},null,{"$f":"+F24+F32","v":45899},null,{"$f":"+H24+H32","v":37659},null,{"$f":"+J24+J32","v":33022}]
["  Nocturna............................................",null," ",{"$f":"+F17+H17+J17","v":13493},null,{"$f":"+F25+F33","v":3164},null,{"$f":"+H25+H33","v":3949},null,{"$f":"+J25+J33","v":6380}]
[]
["CICLO BÁSICO PRIVADA..................",null," ",{"$f":"+D27+D35","v":25371},null,{"$f":"+F27+F35","v":8601},null,{"$f":"+H27+H35","v":8511},null,{"$f":"+J27+J35","v":8259}]
[null,null," "]
["TOTAL MONTEVIDEO....................",null," ",{"$f":"+D23+D27","v":57787},null,{"$f":"+F23+F27","v":21667},null,{"$f":"+H23+H27","v":18510},null,{"$f":"+J23+J27","v":17610}]
[]
["CICLO BÁSICO PÚBLICA.................",null," ",{"$f":"+D24+D25","v":41501},null,{"$f":"SUM(F24:F25)","v":16098},null,{"$f":"SUM(H24:H25)","v":13122},null,{"$f":"SUM(J24:J25)","v":12281}]
["  Diurna....................................",null," ",{"$f":"F24+H24+J24","v":36645},null,15033,null,11707,null,9905]
["  Nocturna............................................",null," ",{"$f":"F25+H25+J25","v":4856},null,1065,null,1415,null,2376]
[]
["CICLO BÁSICO PRIVADA.....................",null," ",{"$f":"F27+H27+J27","v":16286},null,5569,null,5388,null,5329]
[null,null," "]
["TOTAL RESTO DEL PAÍS......................",null," ",{"$f":"+D31+D35","v":97657},null,{"$f":"+F31+F35","v":35997},null,{"$f":"+H31+H35","v":31609},null,{"$f":"+J31+J35","v":30051}]
[]
["CICLO BÁSICO PÚBLICA.................",null," ",{"$f":"F31+H31+J31","v":88572},null,{"$f":"SUM(F32:F33)","v":32965},null,{"$f":"SUM(H32:H33)","v":28486},null,{"$f":"SUM(J32:J33)","v":27121}]
["  Diurna....................................",null," ",{"$f":"F32+H32+J32","v":79935},null,30866,null,25952,null,23117]
["  Nocturna............................................",null," ",{"$f":"F33+H33+J33","v":8637},null,2099,null,2534,null,4004]
[]
["CICLO BÁSICO PRIVADA.....................",null," ",{"$f":"F35+H35+J35","v":9085},null,3032,null,3123,null,2930]
[null,null," "]
["Fuente: D.E. — C.E.S."]
["Nota: La referencia \"Privada\", (incluye los Habilitados \"Liceo Naval\" y \"Liceo Militar\"), se corresponde con la de \"Liceos Habilitados\" presente en ediciones anteriores del Anuario Estadístico del MEC."]
[]
["        "]

{"sheet":"II-3.2.2","index":154,"n_rows":76,"n_cols":6,"rows_kept":76,"cut":false,"hidden":false,"merged":[[75,0,75,4],[0,3,1,4],[5,0,7,0],[5,1,7,1],[6,2,6,4],[5,2,5,4],[4,0,4,4]]}
["CONSEJO DE EDUCACIÓN TÉCNICO PROFESIONAL (U.T.U.)",null,null,"ALUMNOS MATRICULADOS"]
[]
["Cuadro Nº II-3.2.2"]
[]
["ALUMNOS MATRICULADOS EN EL CETP EN EDUCACIÓN MEDIA BÁSICA POR TIPO DE CURSO SEGÚN GRANDES ÁREAS, DEPARTAMENTO Y SEXO. AÑO 2010."]
["GRANDES ÁREAS, DEPARTAMENTO Y SEXO","TOTAL"]
[null,null,"NIVEL BASICO"]
[null,null,"C.T.B Agrario","Ciclo Básico Tecnológico","Formación Profesional Básica\nPlan 2007"]
[]
["TOTAL....................................................",{"$f":"+B11+B12","v":20241},{"$f":"+C11+C12","v":947},{"$f":"+D11+D12","v":15285},{"$f":"+E11+E12","v":4009}]
["Masculino....................................................",{"$f":"+C11+D11+E11","v":12407},{"$f":"C15+C18","v":677},{"$f":"D15+D18","v":9170},2560]
["Femenino....................................................",{"$f":"+C12+D12+E12","v":7834},270,6115,1449]
[]
["MONTEVIDEO...................................",{"$f":"B15+B16","v":3279},{"$f":"C15+C16","v":26},{"$f":"D15+D16","v":2387},{"$f":"E15+E16","v":866}," "]
["Masculino....................................................",{"$f":"+C15+D15+E15","v":2036},20,1499,517]
["Femenino....................................................",{"$f":"+C16+D16+E16","v":1243},6,888,349]
["RESTO DEL PAÍS...................................",{"$f":"B18+B19","v":16962},{"$f":"C18+C19","v":921},{"$f":"D18+D19","v":12898},{"$f":"E18+E19","v":3143}]
["Masculino....................................................",{"$f":"C18+D18+E18","v":10371},{"$f":"C22+C25+C28+C31+C34+C37+C40+C43+C46+C49+C52+C55+C58+C61+C64+C67+C70+C73","v":657},7671,2043]
["Femenino....................................................",{"$f":"C19+D19+E19","v":6591},264,5227,1100]
[]
["Artigas........................",{"$f":"B22+B23","v":1027},0,903,124]
["Masculino....................................................",{"$f":"+C22+D22+E22","v":592},0,529,63]
["Femenino....................................................",{"$f":"+C23+D23+E23","v":435},0,374,61]
["Canelones...................................",{"$f":"B25+B26","v":3188},76,2244,868]
["Masculino....................................................",{"$f":"+C25+D25+E25","v":1885},51,1317,517]
["Femenino....................................................",{"$f":"+C26+D26+E26","v":1303},25,927,351]
["Cerro Largo.................................",{"$f":"B28+B29","v":902},89,731,82]
["Masculino....................................................",{"$f":"+C28+D28+E28","v":554},63,411,80]
["Femenino....................................................",{"$f":"+C29+D29+E29","v":348},26,320,2]
["Colonia.....................................",{"$f":"B31+B32","v":1317},114,1143,60]
["Masculino....................................................",{"$f":"+C31+D31+E31","v":770},78,655,37]
["Femenino....................................................",{"$f":"+C32+D32+E32","v":547},36,488,23]
["Durazno.....................................",{"$f":"B34+B35","v":696},109,563,24]
["Masculino....................................................",{"$f":"+C34+D34+E34","v":425},71,337,17]
["Femenino....................................................",{"$f":"+C35+D35+E35","v":271},38,226,7]
["Flores......................................",{"$f":"B37+B38","v":344},0,224,120]
["Masculino....................................................",{"$f":"+C37+D37+E37","v":220},0,148,72]
["Femenino....................................................",{"$f":"+C38+D38+E38","v":124},0,76,48]
["Florida.....................................",{"$f":"B40+B41","v":476},0,284,192]
["Masculino....................................................",{"$f":"+C40+D40+E40","v":291},0,180,111]
["Femenino....................................................",{"$f":"+C41+D41+E41","v":185},0,104,81]
["Lavalleja...................................",{"$f":"B43+B44","v":525},0,338,187]
["Masculino....................................................",{"$f":"+C43+D43+E43","v":346},0,221,125]
["Femenino....................................................",{"$f":"+C44+D44+E44","v":179},0,117,62]
["Maldonado...................................",{"$f":"B46+B47","v":1243},0,1079,164]
["Masculino....................................................",{"$f":"+C46+D46+E46","v":759},0,660,99]
["Femenino....................................................",{"$f":"+C47+D47+E47","v":484},0,419,65]
["Paysandú....................................",{"$f":"B49+B50","v":1057},214,600,243]
["Masculino....................................................",{"$f":"+C49+D49+E49","v":669},154,372,143]
["Femenino....................................................",{"$f":"+C50+D50+E50","v":388},60,228,100]
["Río Negro...................................",{"$f":"B52+B53","v":507},0,432,75]
["Masculino....................................................",{"$f":"+C52+D52+E52","v":329},0,268,61]
["Femenino....................................................",{"$f":"+C53+D53+E53","v":178},0,164,14]
["Rivera......................................",{"$f":"B55+B56","v":559},65,395,99]
["Masculino....................................................",{"$f":"+C55+D55+E55","v":381},49,239,93]
["Femenino....................................................",{"$f":"+C56+D56+E56","v":178},16,156,6]
["Rocha.......................................",{"$f":"B58+B59","v":564},0,543,21]
["Masculino....................................................",{"$f":"+C58+D58+E58","v":324},0,322,2]
["Femenino....................................................",{"$f":"+C59+D59+E59","v":240},0,221,19]
["Salto............. ..........................",{"$f":"B61+B62","v":433},0,296,137]
["Masculino....................................................",{"$f":"+C61+D61+E61","v":288},0,160,128]
["Femenino....................................................",{"$f":"+C62+D62+E62","v":145},0,136,9]
["San José....................................",{"$f":"B64+B65","v":1361},61,1121,179]
["Masculino....................................................",{"$f":"+C64+D64+E64","v":835},58,646,131]
["Femenino....................................................",{"$f":"+C65+D65+E65","v":526},3,475,48]
["Soriano.....................................",{"$f":"B67+B68","v":1378},118,1093,167]
["Masculino....................................................",{"$f":"+C67+D67+E67","v":830},88,633,109]
["Femenino....................................................",{"$f":"+C68+D68+E68","v":548},30,460,58]
["Tacuarembó..................................",{"$f":"B70+B71","v":887},0,499,388]
["Masculino....................................................",{"$f":"+C70+D70+E70","v":564},0,313,251]
["Femenino....................................................",{"$f":"+C71+D71+E71","v":323},0,186,137]
["Treinta y Tres..............................",{"$f":"B73+B74","v":498},75,410,13]
["Masculino....................................................",{"$f":"+C73+D73+E73","v":309},45,260,4]
["Femenino....................................................",{"$f":"+C74+D74+E74","v":189},30,150,9]
[]
["Fuente: Procesamiento propio en base a datos proporcionados por el D.E. - CETP (U.T.U)"]

{"sheet":"II-3.2.3","index":155,"n_rows":37,"n_cols":13,"rows_kept":37,"cut":false,"hidden":false,"merged":[[9,2,10,2],[9,12,10,12],[4,0,4,12],[6,1,8,3],[6,0,10,0],[9,10,10,10],[9,3,10,3],[9,1,10,1],[8,4,8,6],[6,4,6,12],[7,4,7,6],[7,7,7,9],[7,10,7,12],[8,10,8,12],[8,7,8,9],[0,9,1,12],[9,6,10,6],[9,4,10,4],[9,11,10,11],[9,5,10,5],[9,7,10,7],[9,8,10,8],[9,9,10,9]]}
["CONSEJO DE EDUCACIÓN PRIMARIA",null,null,null,null,null,null,null,null,"ALUMNOS MATRICULADOS"]
[]
["Cuadro Nº II-3.2.3"]
[]
["ALUMNOS MATRICULADOS EN SÉPTIMO, OCTAVO Y NOVENO GRADO DE CICLO BÁSICO RURAL POR SEXO SEGÚN DEPARTAMENTO AÑO 2010."]
[]
["DEPARTAMENTO","TOTAL",null,null,"GRADO"]
[null,null,null,null,"SÉPTIMO",null,null,"OCTAVO",null,null,"NOVENO"]
[null,null,null,null,"SEXO",null,null,"SEXO",null,null,"SEXO"]
[null,"T","M","F","T","M","F","T","M","F","T","M","F"]
[]
[]
["TOTAL..............................",{"$f":"+C13+D13","v":1934},{"$f":"+C15+C16","v":1015},{"$f":"+D15+D16","v":919},{"$f":"+F13+G13","v":769},{"$f":"+F15+F16","v":414},{"$f":"+G15+G16","v":355},{"$f":"+I13+J13","v":636},{"$f":"+I15+I16","v":340},{"$f":"+J15+J16","v":296},{"$f":"+L13+M13","v":529},{"$f":"+L15+L16","v":261},{"$f":"+M15+M16","v":268}]
[]
["MONTEVIDEO......................",{"$f":"+C15+D15","v":82},{"$f":"+F15+I15+L15","v":34},{"$f":"+G15+J15+M15","v":48},{"$f":"+F15+G15","v":24},10,14,{"$f":"+I15+J15","v":41},19,22,{"$f":"+L15+M15","v":17},5,12]
["RESTO DEL PAÍS......................",{"$f":"+C16+D16","v":1852},{"$f":"+F16+I16+L16","v":981},{"$f":"+G16+J16+M16","v":871},{"$f":"+F16+G16","v":745},{"$f":"SUM(F18:F35)","v":404},{"$f":"SUM(G18:G35)","v":341},{"$f":"+I16+J16","v":595},{"$f":"SUM(I18:I35)","v":321},{"$f":"SUM(J18:J35)","v":274},{"$f":"+L16+M16","v":512},{"$f":"SUM(L18:L35)","v":256},{"$f":"SUM(M18:M35)","v":256}]
[]
["Artigas..........................",{"$f":"+C18+D18","v":134},{"$f":"+F18+I18+L18","v":76},{"$f":"+G18+J18+M18","v":58},{"$f":"+F18+G18","v":51},29,22,{"$f":"+I18+J18","v":44},27,17,{"$f":"+L18+M18","v":39},20,19]
["Canelones........................",0,0,0,0,0,0,0,0,0,0,0,0]
["Cerro Largo.....................",177,91,86,70,35,35,60,27,33,47,29,18]
["Colonia..........................",204,105,99,75,44,31,70,31,39,59,30,29]
["Durazno........................",31,16,15,15,8,7,10,4,6,6,4,2]
["Flores..........................",18,11,7,12,9,3,6,2,4,0,0,0]
["Florida........................",65,42,23,33,21,12,19,12,7,13,9,4]
["Lavalleja.....................",65,41,24,35,20,15,16,11,5,14,10,4]
["Maldonado......................",98,62,36,46,25,21,30,23,7,22,14,8]
["Paysandú......................",326,164,162,140,73,67,87,47,40,99,44,55]
["Río Negro.....................",107,47,60,32,16,16,39,20,19,36,11,25]
["Rivera.........................",120,64,56,43,24,19,41,27,14,36,13,23]
["Rocha..........................",53,28,25,22,9,13,20,11,9,11,8,3]
["Salto.........................",27,9,18,9,4,5,10,4,6,8,1,7]
["San José.......................",186,98,88,66,34,32,67,35,32,53,29,24]
["Soriano.........................",31,14,17,12,7,5,11,3,8,8,4,4]
["Tacuarembó.......................",138,77,61,50,29,21,45,27,18,43,21,22]
["Treinta y Tres...................",72,36,36,34,17,17,20,10,10,18,9,9]
[]
["Fuente: D.E. — C.E.S."]

{"sheet":"II-3.2.4","index":156,"n_rows":40,"n_cols":8,"rows_kept":40,"cut":false,"hidden":false,"merged":[[0,5,1,7],[4,0,4,7],[6,0,13,1],[6,2,6,7],[10,2,10,7],[8,2,8,3],[8,4,8,5],[8,6,8,7]]}
["CONSEJO DE EDUCACIÓN SECUNDARIA",null,null,null,null,"ALUMNOS MATRICULADOS"]
[]
["Cuadro Nº II-3.2.3","3.2.4"]
[]
["ALUMNOS MATRICULADOS DE CICLO BÁSICO DE EDUCACIÓN SECUNDARIA POR GRADO Y FORMA DE ADMINISTRACIÓN SEGÚN DEPARTAMENTO. AÑO 2010."]
[]
["DEPARTAMENTO",null,"GRADO"]
[]
[null,null,"PRIMERO",null,"SEGUNDO",null,"TERCERO"]
[]
[null,null,"FORMA DE ADMINISTRACIÓN"]
[]
[null,null,"Públicos","Privados","Públicos","Privados","Públicos","Privados"]
[]
[]
["TOTAL.............",null,{"$f":"C18+C19","v":49063},8601,41608,8511,39402,8259]
[]
["MONTEVIDEO......................",null,16098,5569,13122,5388,12281,5329]
["RESTO DEL PAÍS......................",null,{"$f":"SUM(C21:C38)","v":32965},3032,28486,3123,27121,2930]
[]
["Artigas...........",null,1417,"S/I",1275,"S/I",1218,"S/I"]
["Canelones.........",null,8574,1133,7141,1113,6803,994]
["Cerro Largo.......",null,1389,71,1385,90,1253,99]
["Colonia...........",null,1727,18,1541,10,1519,18]
["Durazno...........",null,1036,97,736,84,726,97]
["Flores............",null,341,69,309,66,324,56]
["Florida...........",null,1030,69,929,94,996,55]
["Lavalleja.........",null,1038,47,835,61,801,39]
["Maldonado.........",null,2198,417,2218,475,1847,527]
["Paysandú..........",null,1760,193,1521,209,1455,198]
["Río Negro.........",null,1044,14,864,13,738,13]
["Rivera............",null,2281,204,1843,174,1695,154]
["Rocha.............",null,1258,82,1086,80,1082,70]
["Salto............. ",null,2369,185,2030,243,1924,188]
["San José..........",null,1529,123,1319,124,1329,114]
["Soriano...........",null,1160,72,1094,77,1132,82]
["Tacuarembó........",null,1825,147,1535,130,1512,133]
["Treinta y Tres....",null,989,91,825,80,767,93]
[]
["Fuente: D.E. — C.E.S."]

{"sheet":"II-3.2.5 ","index":157,"n_rows":25,"n_cols":5,"rows_kept":25,"cut":false,"hidden":false,"merged":[[24,0,24,4],[4,0,4,3],[0,2,1,3],[6,0,7,0],[6,1,7,1],[6,2,6,4]]}
["CONSEJO DE EDUCACIÓN TÉCNICO PROFESIONAL (U.T.U.)",null,"ALUMNOS MATRICULADOS"]
[]
["Cuadro Nº II-3.2.5"]
[]
["ALUMNOS MATRICULADOS EN EDUCACIÓN TÉCNICA MEDIA BÁSICA POR TIPO DE CURSO SEGÚN EDAD. AÑO 2010."]
[]
["EDAD","TOTAL","TIPO DE CURSO"]
[null,null,"C.T.B Agrario","Ciclo Básico Tecnológico","Formación Profesional Básica\nPlan 2007"]
[]
["TOTAL",{"$f":"+C10+D10+E10","v":20241},{"$f":"+C12+C13+C14++C15+C16+C17+C18+C19+C20+C21+C22+C23","v":947},{"$f":"+D12+D13+D14++D15+D16+D17+D18+D19+D20+D21+D22+D23","v":15285},{"$f":"+E12+E13+E14++E15+E16+E17+E18+E19+E20+E21+E22+E23","v":4009}]
[]
["11 y 12 años ..............................................................................................",{"$f":"+C12+D12+E12","v":3105},243,2859,3]
["13 años ..............................................................................................",{"$f":"+C13+D13+E13","v":4766},304,4441,21]
["14 años ..............................................................................................",4876,300,4402,174]
["15 años ..............................................................................................",3284,80,2164,1040]
["16 años ..............................................................................................",2171,13,1003,1155]
["17 años ..............................................................................................",1120,3,306,811]
["18 años ..............................................................................................",355,1,45,309]
["19 años ..............................................................................................",130,3,10,117]
["20 a 24 años ..............................................................................................",{"$f":"+C20+D20+E20","v":164},0,17,147]
["25 a 29 años ..............................................................................................",83,0,8,75]
["30 años y más ..............................................................................................",184,0,30,154]
["Edad desc ..............................................................................................",{"$f":"+C23+D23+E23","v":3},0,0,3]
[]
["Fuente: Procesamiento propio en base a datos proporcionados por el D.E. - CETP (U.T.U)"]

{"sheet":"II-3.2.6 ","index":158,"n_rows":25,"n_cols":5,"rows_kept":25,"cut":false,"hidden":false,"merged":[[25,0,25,3],[6,0,7,0],[0,2,1,3],[4,0,4,3],[6,1,7,1],[6,2,6,4],[24,0,24,4]]}
["CONSEJO DE EDUCACIÓN TÉCNICO PROFESIONAL (U.T.U.)",null,"ALUMNOS MATRICULADOS"]
[]
["Cuadro Nº II-3.2.6"]
[]
["ALUMNOS MATRICULADOS EN EL CETP EN EDUCACIÓN MEDIA BÁSICA POR TIPO DE CURSO SEGÚN SECTORES DE ESTUDIO. AÑO 2010."]
[]
["SECTORES DE ESTUDIO","TOTAL","TIPO DE CURSO"]
[null,null,"Ciclo Básico Tecnológico","Formación Profesional Básica Plan 2007","CTB AGRARIO "]
[]
["TOTAL....................................................",{"$f":"C10+D10+E10","v":20241},{"$f":"SUM(C12:C24)","v":15285},{"$f":"SUM(D12:D24)","v":4009},{"$f":"SUM(E12:E24)","v":947}]
[]
["Prog. Ciclo Básico. Educación Media",{"$f":"+C12+D12+E12","v":16232},15285,0,947]
["Agropecuario",{"$f":"+C13+D13+E13","v":129},0,129,0]
["Hortifruticultura y Jardinería",24,0,24,0]
["Metal - Mecánica",341,0,341,0]
["Electricidad y Electrónica",674,0,674,0]
["Textil y Confección de Vestimenta",253,0,253,0]
["Madera y Muebles",642,0,642,0]
["Mant. y Reparación de Vehículos",486,0,486,0]
["Gastronomía",634,0,634,0]
["Servicios personales",619,0,619,0]
["Servicios de seguridad",54,0,54,0]
["Informática",135,0,135,0]
["Construcción y Arquitectura",18,0,18,0]
["Fuente: Procesamiento propio en base a datos proporcionados por el D.E. - CETP (U.T.U)"]

{"sheet":"II-3.3.1","index":159,"n_rows":51,"n_cols":7,"rows_kept":51,"cut":false,"hidden":false,"merged":[[0,5,1,6],[4,0,4,6],[6,0,7,0],[6,2,6,3],[6,5,6,6],[6,4,7,4],[6,1,7,1]]}
["CONSEJO DE EDUCACIÓN SECUNDARIA",null,null,null,null,"PERSONAL DOCENTE"]
[]
["Cuadro Nº II-3.3.1"]
[]
["PERSONAL DOCENTE Y HORAS DOCENTES DE CICLO BÁSICO DE EDUCACIÓN SECUNDARIA POR TITULACIÓN SEGÚN ASIGNATURAS. AÑO 2010."]
[]
["ASIGNATURAS","TOTAL DOCENTES","PERSONAL DOCENTE",null,"TOTAL HORAS ","HORAS DOCENTES"]
[null,null,"Titulados","No Titulados",null,"Titulados","No Titulados"]
["TOTAL............................................",{"$f":"SUM(C9:D9)","v":16016},{"$f":"SUM(C10:C49)","v":8590},{"$f":"SUM(D10:D49)","v":7426},{"$f":"SUM(F9:G9)","v":223737},{"$f":"SUM(F10:F49)","v":126169},{"$f":"SUM(G10:G49)","v":97568}]
["ASTRONOMIA..................................................................",{"$f":"C10+D10","v":166},40,126,{"$f":"F10+G10","v":2037},466,1571]
["BIOLOGIA..................................................................",{"$f":"C11+D11","v":1202},945,257,{"$f":"F11+G11","v":15801},13327,2474]
["CONTABILIDAD..................................................................",6,0,6,24,0,24]
["DIBUJO..................................................................",736,301,435,11400,5299,6101]
["EDUCACION FISICA..................................................................",930,792,138,15031,13314,1717]
["EDUCACION MUSICAL..................................................................",548,94,454,8424,1529,6895]
["EDUCACIÓN CIVICA -DERECHO-..................................................................",462,368,94,3962,3441,521]
["FILOSOFIA..................................................................",371,257,114,4212,3173,1039]
["FISICA..................................................................",602,258,344,7229,3485,3744]
["FRANCES..................................................................",65,15,50,1131,327,804]
["GEOGRAFIA..................................................................",792,608,184,12037,9969,2068]
["HISTORIA..................................................................",1355,1155,200,17566,16037,1529]
["IDIOMA ESPAÑOL..................................................................",1102,827,275,18108,14539,3569]
["INGLES..................................................................",1276,381,895,22143,7339,14804]
["ITALIANO..................................................................",67,22,45,1079,425,654]
["LITERATURA..................................................................",740,582,158,9254,7837,1417]
["FISICO - QUIMICA..................................................................",800,404,396,9292,5346,3946]
["MATEMATICA..................................................................",1483,508,975,25977,9780,16197]
["QUIMICA..................................................................",671,420,251,7205,4930,2275]
["REC.NATUR.Y PAISAJE AGRARIA..................................................................",0,0,0,0,0,0]
["GEOLOGIA..................................................................",9,8,1,66,61,5]
["DIRECTOR DE COROS..................................................................",133,45,88,1458,554,904]
["PIANISTA ACOMPA･ANTE..................................................................",94,16,78,910,134,776]
["INFORMATICA..................................................................",934,152,782,15876,2332,13544]
["EDUCACION VISUAL-DIBUJO..................................................................",6,4,2,52,38,14]
["LENG.COMU.Y MEDIOS AUDIOVISUAL..................................................................",1,0,1,3,0,3]
["ESTUDIOS ECONOMICOS Y SOCIALES..................................................................",0,0,0,0,0,0]
["LABORATORIO INFORMATICA EDUCAT..................................................................",256,31,225,5534,654,4880]
["MANUALIDADES..................................................................",1,0,1,20,0,20]
["LENGUA ALEMAN..................................................................",6,0,6,92,0,92]
["TEATRO..................................................................",0,0,0,0,0,0]
["LENGUAS PORTUGUES..................................................................",70,5,65,1160,70,1090]
["EXPRESION CORPORAL Y TEATRO..................................................................",0,0,0,0,0,0]
["EXPRESION CORPORAL Y DANZA..................................................................",0,0,0,0,0,0]
["ACT.ADAPTADAS AL MEDIO AMBIENT..................................................................",62,8,54,534,48,486]
["ECONOMIA..................................................................",1,0,1,3,0,3]
["ESPACIO CURRICULAR ABIERTO..................................................................",995,305,690,5876,1610,4266]
["ESPACIO ADOLESCENTE..................................................................",1,0,1,2,0,2]
["TALLER DE ARTES PLASTICAS..................................................................",70,39,31,186,105,81]
["LENGUA DE SEÑAS..................................................................",3,0,3,53,0,53]
["Fuente: Departamento de Computación - División Hacienda — C.E.S."]
["Nota: Los docentes que dictan más de una asignatura son considerados como personas distintas en cada asignatura."]

{"sheet":"II-3.3.2","index":160,"n_rows":14,"n_cols":3,"rows_kept":14,"cut":false,"hidden":false,"merged":[[4,0,4,3],[0,2,1,3],[5,0,6,0],[5,1,6,1]]}
["CONSEJO DE EDUCACIÓN TÉCNICO PROFESIONAL (U.T.U.)",null,"PERSONAL DOCENTE"]
[]
["Cuadro Nº II-3.3.2"]
[]
["PERSONAL DOCENTE EN EDUCACIÓN MEDIA BÁSICA TECNOLÓGICA POR TIPO DE CURSO. AÑO 2010."]
["EDUCACIÓN MEDIA BÁSICA","TOTAL"]
[]
[]
["TOTAL",{"$f":"SUM(B10:B13)","v":4028}]
["Ciclo Básico Tecnológico",2448]
["Ciclo Básico Tecnológico Agrario",184]
["Formación Profesional Básica Plan 2007",1370]
["Articulación Educ.Media Básica",26]
["Fuente: U.T.U. División Informática."]

{"sheet":"II-3.4.1","index":161,"n_rows":39,"n_cols":5,"rows_kept":39,"cut":false,"hidden":false,"merged":[[34,0,34,5],[0,3,1,5],[4,0,4,5],[5,0,8,0],[5,2,6,5]]}
["CONSEJO DE EDUCACIÓN SECUNDARIA",null,null,"GRUPOS"]
[]
["Cuadro Nº II-3.4.1"]
[]
["GRUPOS DE CICLO BÁSICO DE EDUCACIÓN SECUNDARIA COMPARADOS CON EL TOTAL DE AMBOS CICLOS SEGÚN GRANDES ÁREAS Y FORMA DE ADMINISTRACIÓN. AÑO 2010."]
["GRANDES ÁREAS Y FORMA DE ADMINISTRACIÓN",null,"FORMA DE ADMINISTRACIÓN"]
[]
[null,null,null,null,"Total de Grupos"]
[null,null,"Grupos",null,"en ambos Ciclos"]
[]
[]
["TOTAL DEL PAÍS....................................."," ",{"$f":"+C20+C27","v":5197},null,{"$f":"+E20+E27","v":9321}]
[]
["CICLO BÁSICO PÚBLICA................."," ",{"$f":"+C15+C16","v":4172},null,{"$f":"+E15+E16","v":7142}]
["  Diurna...................................."," ",{"$f":"+C22+C29","v":3841},null,{"$f":"+E22+E29","v":6237}]
["  Nocturna............................................"," ",{"$f":"+C23+C30","v":331},null,{"$f":"+E23+E30","v":905}]
[]
["CICLO BÁSICO PRIVADA.................."," ",{"$f":"+C25+C32","v":1025},null,{"$f":"+E25+E32","v":2179}]
[null," "]
["TOTAL MONTEVIDEO....................","  ",{"$f":"+C21+C25","v":1918},null,{"$f":"+E21+E25","v":3586}]
["CICLO BÁSICO PÚBLICA.................","  ",{"$f":"+C22+C23","v":1281},null,{"$f":"+E22+E23","v":2141}]
["  Diurna....................................","  ",1158,null,1787]
["  Nocturna............................................","  ",123,null,354]
[null,"  "]
["CICLO BÁSICO PRIVADA.....................","  ",637,null,1445]
[null,"  "]
["TOTAL RESTO DEL PAÍS......................","  ",{"$f":"+C28+C32","v":3279},null,{"$f":"+E28+E32","v":5735}]
["CICLO BÁSICO PÚBLICA.................","  ",{"$f":"+C29+C30","v":2891},null,{"$f":"+E29+E30","v":5001}]
["  Diurna....................................","  ",2683,null,4450]
["  Nocturna............................................","  ",208,null,551]
[]
["CICLO BÁSICO PRIVADA.....................","  ",388,null,734]
[]
["Fuente: D.E. — C.E.S."]
["Nota: El “Total de ambos Ciclos” presenta de manera agregada la  cantidad  total de grupos con que cuente Educación Secundaria     y es el resultado de adicionar al total de Grupos del presente cuadro (Ciclo Básico de Educación Secundaria), el total de los grupos presentados en el Cuadro II-4.4.1 (Ciclo Superior de Educación Secundaria)."]
["       "]
["        "]
["        "]
["        "]

{"sheet":"MEDIA SUPERIOR","index":162,"n_rows":63,"n_cols":1,"rows_kept":63,"cut":false,"hidden":false,"merged":[[56,0,56,4],[62,0,62,4],[40,0,40,4],[43,0,43,4],[46,0,46,4],[49,0,49,4],[37,0,37,4],[13,0,13,4],[19,0,19,4],[28,0,28,4],[34,0,34,4],[22,0,22,4],[25,0,25,4],[31,0,31,4]]}
[]
[]
[]
[]
[]
[]
[]
[]
[]
["CONSEJO DE EDUCACIÓN SECUNDARIA Y CONSEJO DE EDUCACIÓN TÉCNICO PROFESIONAL (UTU)"]
["ESTABLECIMIENTOS"]
[]
["Cuadro Nº II-4.1.1"]
[{"$f":"'II-4.1.1'!A5:H5","v":"ESTABLECIMIENTOS DE EDUCACIÓN MEDIA SUPERIOR POR MODALIDAD Y FORMA DE ADMINISTRACIÓN SEGÚN DEPARTAMENTO. AÑO 2010."}]
[]
["CONSEJO DE EDUCACIÓN SECUNDARIA Y CONSEJO DE EDUCACIÓN TÉCNICO PROFESIONAL (UTU)"]
["ALUMNOS MATRICULADOS"]
[]
["Cuadro Nº II-4.2.1"]
[{"$f":"'II-4.2.1'!A5:E5","v":"ALUMNOS MATRICULADOS EN SECUNDARIA EN EDUCACIÓN MEDIA SUPERIOR POR GRADO SEGÚN GRANDES ÁREAS Y FORMA DE ADMINISTRACIÓN. AÑO 2010."}]
[]
["Cuadro Nº II-4.2.2"]
[{"$f":"'II-4.2.2 '!A5:H5","v":"ALUMNOS MATRICULADOS EN EL CETP EN EDUCACIÓN MEDIA SUPERIOR POR TIPO DE CURSO SEGÚN GRANDES ÁREAS, DEPARTAMENTO Y SEXO. AÑO 2010."}]
[]
["Cuadro Nº II-4.2.3"]
[{"$f":"'II-4.2.3 '!A5:G5","v":"ALUMNOS MATRICULADOS EN EL CETP EN EDUCACIÓN MEDIA SUPERIOR POR TIPO DE CURSO SEGÚN EDAD. AÑO 2010."}]
[]
["Cuadro Nº II-4.2.4"]
[{"$f":"'II-4.2.4 '!A5:H5","v":"ALUMNOS MATRICULADOS EN EL CETP EN EDUCACIÓN MEDIA SUPERIOR POR TIPO DE CURSO SEGÚN SECTORES DE ESTUDIO. AÑO 2010."}]
[]
["Cuadro Nº II-4.2.5"]
[{"$f":"'II-4.2.5'!A5:I5","v":"ALUMNOS MATRICULADOS EN EL CES EN EDUCACIÓN MEDIA SUPERIOR POR GRADO Y FORMA DE ADMINISTRACIÓN SEGÚN DEPARTAMENTO. AÑO 2010."}]
[]
["Cuadro Nº II-4.2.6"]
[{"$f":"'II-4.2.6'!A5:K5","v":"ALUMNOS MATRICULADOS EN EL CES EN QUINTO GRADO DE EDUCACIÓN MEDIA POR PLAN Y ORIENTACIÓN SEGÚN GRANDES ÁREAS Y FORMA DE ADMINISTRACIÓN. AÑO 2010."}]
[]
["Cuadro Nº II-4.2.7"]
[{"$f":"'II-4.2.7'!A5:AA5","v":"ALUMNOS MATRICULADOS EN EL CES EN QUINTO GRADO DE EDUCACIÓN MEDIA PÚBLICA POR PLAN Y ORIENTACIÓN SEGÚN DEPARTAMENTO. AÑO 2010."}]
[]
["Cuadro Nº II-4.2.8"]
[{"$f":"'II-4.2.8 '!A7:O7","v":"ALUMNOS MATRICULADOS DE QUINTO GRADO DE EDUCACIÓN MEDIA SUPERIOR DE EDUCACIÓN SECUNDARIA PRIVADA POR ORIENTACIÓN SEGÚN DEPARTAMENTO. AÑO 2010."}]
[]
["Cuadro Nº II-4.2.9"]
[{"$f":"II_4_2_9!A5","v":"ALUMNOS MATRICULADOS DE SEXTO GRADO DE BACHILLERATO POR OPCIÓN Y PLAN SEGÚN GRANDES ÁREAS Y FORMA DE ADMINISTRACIÓN. AÑO 2010."}]
[]
["Cuadro Nº II-4.2.10"]
[{"$f":"II_4_2_10!A5","v":"ALUMNOS MATRICULADOS EN EL CES EN SEXTO GRADO DE EDUCACIÓN MEDIA PÚBLICA POR PLAN Y OPCIÓN SEGÚN DEPARTAMENTO. AÑO 2010."}]
[]
["Cuadro Nº II-4.2.11"]
[{"$f":"'II-4.2.11 '!A5:K5","v":"ALUMNOS MATRICULADOS DE SEXTO GRADO DE CICLO SUPERIOR DE EDUCACIÓN SECUNDARIA PRIVADA POR OPCIÓN SEGÚN DEPARTAMENTO. AÑO 2010."}]
[]
[]
["CONSEJO DE EDUCACIÓN SECUNDARIA Y CONSEJO DE EDUCACIÓN TÉCNICO PROFESIONAL (UTU)"]
["PERSONAL DOCENTE Y HORAS DOCENTES"]
[]
["Cuadro Nº II-4.3.1"]
[{"$f":"'II-4.3.1 '!A5:G5","v":"PERSONAL DOCENTE Y HORAS DOCENTES DE EDUCACIÓN MEDIA SUPERIOR PÚBLICA POR TITULACIÓN SEGÚN ASIGNATURAS. AÑO 2010."}]
[]
["CONSEJO DE EDUCACIÓN SECUNDARIA"]
["GRUPOS"]
[]
["Cuadro Nº II-4.4.1"]
[{"$f":"'II-4.4.1'!A5:H5","v":"GRUPOS DE EDUCACIÓN MEDIA SUPERIOR COMPARADOS CON EL TOTAL DE AMBOS CICLOS SEGÚN GRANDES ÁREAS Y FORMA DE ADMINISTRACIÓN. AÑO 2010."}]

{"sheet":"II-4.1.1","index":163,"n_rows":37,"n_cols":9,"rows_kept":37,"cut":false,"hidden":false,"merged":[[36,0,36,7],[7,4,7,6],[6,7,7,7],[0,8,1,8],[4,0,4,7],[5,1,5,7],[6,3,6,6],[5,0,9,0],[7,3,9,3],[6,1,9,1],[8,4,8,5],[8,6,9,6],[8,7,9,7],[35,0,35,7]]}
["CONSEJO DE EDUCACIÓN SECUNDARIA Y CONSEJO DE EDUCACIÓN TÉCNICO PROFESIONAL (UTU)",null,null,null,null,null,null,null,"ESTABLECIMIENTOS"]
[]
["Cuadro Nº II-4.1.1"]
[]
["ESTABLECIMIENTOS DE EDUCACIÓN MEDIA SUPERIOR POR MODALIDAD Y FORMA DE ADMINISTRACIÓN SEGÚN DEPARTAMENTO. AÑO 2010."]
["DEPARTAMENTO","MODALIDAD"]
[null,"TOTAL",null,"CES",null,null,null,"CETP"]
[null,null,null,"TOTAL CES","FORMA DE ADMINISTRACIÓN"]
[null,null,null,null,"PÚBLICOS",null,"PRIVADOS","Escuelas de C.B.T. y Técnicas"]
[null,null,null,null,"Oficiales","Habilitados"]
[]
["TOTAL..........................",{"$f":"+B14+B15","v":577},null,{"$f":"+D14+D15","v":468},{"$f":"E14+E15","v":280},{"$f":"F14+F15","v":2},{"$f":"G14+G15","v":186},{"$f":"H14+H15","v":109}]
[]
["MONTEVIDEO....................",{"$f":"+D14+H14","v":201},null,{"$f":"+E14+F14+G14","v":178},69,2,107,23]
["RESTO DEL PAÍS......................",{"$f":"SUM(B17:B34)","v":376},null,{"$f":"SUM(D17:D34)","v":290},{"$f":"SUM(E17:E34)","v":211},{"$f":"SUM(F17:F34)","v":0},{"$f":"SUM(G17:G34)","v":79},{"$f":"SUM(H17:H34)","v":86}]
[]
["Artigas............................",{"$f":"D17+H17","v":16},null,{"$f":"+E17+F17+G17","v":12},11,0,1,4]
["Canelones.......................",87,null,{"$f":"+E18+F18+G18","v":73},47,0,26,14]
["Cerro Largo....................",13,null,8,6,0,2,5]
["Colonia.........................",24,null,15,14,0,1,9]
["Durazno............................",13,null,10,8,0,2,3]
["Flores...........................",8,null,6,3,0,3,2]
["Florida..........................",17,null,14,12,0,2,3]
["Lavalleja.........................",12,null,10,8,0,2,2]
["Maldonado.........................",27,null,23,11,0,12,4]
["Paysandú............................",23,null,18,14,0,4,5]
["Río Negro........................",13,null,10,8,0,2,3]
["Rivera............................",20,null,16,10,0,6,4]
["Rocha.............................",18,null,13,11,0,2,5]
["Salto.............................",20,null,16,11,0,5,4]
["San José.........................",18,null,11,9,0,2,7]
["Soriano..........................",15,null,10,9,0,1,5]
["Tacuarembó.......................",19,null,16,12,0,4,3]
["Treinta y Tres................",13,null,9,7,0,2,4]
[null,null,null,0]
["Fuente: D.E. — C.E.S, CETP. "]
["Notas: \n1- La disminución en la cantidad de liceos se explica por la unificación de los liceos nocturnos bajo una misma administración. Lo cual no implica disminución de los establecimientos físicos. \n2- La referencia \"Liceos Públicos Habilitados\", (refiere a los Habilitados \"Liceo Naval\" y \"Liceo Militar\"), se corresponde con una desagregación de las categorías \"Privados\" (Anuario Estadístico de Educación 2007 y 2008) o \"Liceos Habilitados\" presente en ediciones anteriores del Anuario Estadístico del MEC (2006 y anteriores).\n3- Como no se cuenta con información desagregada de cuántos establecimientos del CES brindan ofertas en Educación Media Básica, Superior o ambas, este cuadro se replica en el Capítulo 3 con la numeración II-3.1.1, incorporando los liceos habilitados.\n4- En un mismo establecimiento del CETP, coexisten ofertas educativas de diferentes niveles. Los establecimientos fueron contabilizados por nivel educativo, por lo tanto cada dependencia física será contada tantas veces como niveles educativos contenga. Por ello el presente cuadro computa los establecimientos con cursos de Educación Media Superior, independientemente que en el mismo espacio locativo se dicten ofertas de otros niveles.\n"]

{"sheet":"II-4.2.1","index":164,"n_rows":38,"n_cols":5,"rows_kept":38,"cut":false,"hidden":false,"merged":[[0,2,1,4],[33,0,33,4],[5,1,8,1],[6,2,6,4],[4,0,4,4],[6,0,7,0]]}
["CONSEJO DE EDUCACIÓN SECUNDARIA",null,"ALUMNOS MATRICULADOS"]
[]
["Cuadro Nº II-4.2.1"]
[]
["ALUMNOS MATRICULADOS EN SECUNDARIA EN EDUCACIÓN MEDIA SUPERIOR POR GRADO SEGÚN GRANDES ÁREAS Y FORMA DE ADMINISTRACIÓN. AÑO 2010."]
[null,"TOTAL"]
["GRANDES ÁREAS Y FORMA DE ADMINISTRACIÓN",null,"GRADO"]
[null,null,"CUARTO","QUINTO","SEXTO"]
[]
[]
["TOTAL DEL PAÍS.....................................",{"$f":"+B19+B26","v":113327},{"$f":"+C19+C26","v":39963},{"$f":"+D19+D26","v":40621},{"$f":"+E19+E26","v":32743}]
[]
["CICLO SUPERIOR PÚBLICA.................",{"$f":"+B20+B27","v":96902},{"$f":"+C14+C15","v":33303},{"$f":"+D14+D15","v":35361},{"$f":"+E14+E15","v":28238}]
["  Diurna....................................",{"$f":"+C14+D14+E14","v":62886},{"$f":"+C21+C28","v":24938},21335,16613]
["  Nocturna............................................",{"$f":"+C15+D15+E15","v":34016},8365,14026,11625]
[]
["CICLO SUPERIOR PRIVADA................",{"$f":"+C17+D17+E17","v":16425},{"$f":"+C24+C31","v":6660},{"$f":"+D24+D31","v":5260},{"$f":"+E24+E31","v":4505}]
[]
["TOTAL MONTEVIDEO....................",{"$f":"+B20+B24","v":47144},{"$f":"+C20+C24","v":14864},{"$f":"+D20+D24","v":17426},{"$f":"+E20+E24","v":14854}]
["CICLO SUPERIOR PÚBLICA.................",{"$f":"+C20+D20+E20","v":34916},{"$f":"SUM(C21:C22)","v":10308},{"$f":"SUM(D21:D22)","v":13312},{"$f":"SUM(E21:E22)","v":11296}]
["  Diurna....................................",{"$f":"+C21+D21+E21","v":18514},7080,6414,5020]
["  Nocturna............................................",{"$f":"+C22+D22+E22","v":16402},3228,6898,6276]
[]
["CICLO SUPERIOR PRIVADA..................",{"$f":"+C24+D24+E24","v":12228},4556,4114,3558]
[]
["TOTAL RESTO DEL PAÍS......................",{"$f":"+B27+B31","v":66183},{"$f":"+C27+C31","v":25099},{"$f":"+D27+D31","v":23195},{"$f":"+E27+E31","v":17889}]
["CICLO SUPERIOR PÚBLICA.................",{"$f":"+C27+D27+E27","v":61986},{"$f":"SUM(C28:C29)","v":22995},{"$f":"SUM(D28:D29)","v":22049},{"$f":"SUM(E28:E29)","v":16942}]
["  Diurna....................................",{"$f":"+C28+D28+E28","v":44372},17858,14921,11593]
["  Nocturna............................................",{"$f":"+C29+D29+E29","v":17614},5137,7128,5349]
[]
["CICLO SUPERIOR PRIVADA..................",{"$f":"+C31+D31+E31","v":4197},2104,1146,947]
[]
["Fuente: D.E. — C.E.S."]
["Nota: La referencia \"Privada\" (incluye los Habilitados \"Liceo Naval\" y \"Liceo Militar\"), se corresponde con la de \"Liceos Habilitados\" presente en ediciones anteriores del Anuario Estadístico del MEC."]
["       "]
["        "]
["        "]
["        "]

{"sheet":"II-4.2.2 ","index":165,"n_rows":79,"n_cols":8,"rows_kept":79,"cut":false,"hidden":false,"merged":[[4,0,4,7],[77,0,77,7],[0,6,1,7],[6,0,8,0],[6,1,8,1],[6,2,6,7],[7,2,7,7],[76,0,76,4]]}
["CONSEJO DE EDUCACIÓN TÉCNICO PROFESIONAL (U.T.U.)",null,null,null,null,null,"ALUMNOS MATRICULADOS"]
[]
["Cuadro Nº II-4.2.2"]
[]
["ALUMNOS MATRICULADOS EN EL CETP EN EDUCACIÓN MEDIA SUPERIOR POR TIPO DE CURSO SEGÚN GRANDES ÁREAS, DEPARTAMENTO Y SEXO. AÑO 2010."]
[]
["GRANDES ÁREAS, DEPARTAMENTO Y SEXO","TOTAL","TIPO DE CURSO"]
[null,null,"NIVEL SUPERIOR"]
[null,null,"Bachillerato Figari","Bachillerato Profesional","E.M.P Especialización","Educación Media Profesional","Educación Media Tecnológica","Curso de Articulación"]
[]
["TOTAL....................................................",{"$f":"+B12+B13","v":32031},62,441,109,12300,18834,285]
["Masculino....................................................",{"$f":"+C12+D12+E12+F12+G12+H12","v":18111},{"$f":"C16+C19","v":28},424,93,6511,10840,215]
["Femenino....................................................",{"$f":"+C13+D13+E13+F13+G13+H13","v":13920},34,17,16,5789,7994,70]
[]
["MONTEVIDEO...................................",{"$f":"B16+B17","v":14158},{"$f":"C16+C17","v":62},244,100,5445,8112,195]
["Masculino....................................................",{"$f":"+C16+D16+E16+F16+G16+H16","v":8637},28,234,84,2848,5285,158]
["Femenino....................................................",{"$f":"+C17+D17+E17+F17+G17+H17","v":5521},34,10,16,2597,2827,37]
["RESTO DEL PAÍS...................................",{"$f":"B19+B20","v":17873},0,197,9,6855,10722,90]
["Masculino....................................................",{"$f":"B23+B26+B29+B32+B35+B38+B41+B44+B47+B50+B53+B56+B59+B62+B65+B68+B71+B74","v":9474},{"$f":"C23+C26+C29+C32+C35+C38+C41+C44+C47+C50+C53+C56+C59+C62+C65+C68+C71+C74","v":0},190,9,3663,5555,57]
["Femenino....................................................",{"$f":"B24+B27++B30+B33+B36+B39+B42+B45+B48+B51+B54+B57+B60+B63+B66+B69+B72+B75","v":8399},{"$f":"C24+C27++C30+C33+C36+C39+C42+C45+C48+C51+C54+C57+C60+C63+C66+C69+C72+C75","v":0},7,0,3192,5167,33]
[]
["Artigas........................",{"$f":"B23+B24","v":930},0,22,9,389,499,11]
["Masculino....................................................",{"$f":"+C23+D23+E23+F23+G23+H23","v":493},0,22,9,267,191,4]
["Femenino....................................................",{"$f":"+C24+D24+E24+F24+G24+H24","v":437},0,0,0,122,308,7]
["Canelones...................................",{"$f":"B26+B27","v":3124},0,29,0,1292,1803,0]
["Masculino....................................................",{"$f":"+C26+D26+E26+F26+G26+H26","v":1460},0,29,0,605,826,0]
["Femenino....................................................",{"$f":"+C27+D27+E27+F27+G27+H27","v":1664},0,0,0,687,977,0]
["Cerro Largo.................................",{"$f":"B29+B30","v":703},0,0,0,398,305,0]
["Masculino....................................................",{"$f":"+C29+D29+E29+F29+G29+H29","v":283},0,0,0,148,135,0]
["Femenino....................................................",{"$f":"+C30+D30+E30+F30+G30+H30","v":420},0,0,0,250,170,0]
["Colonia.....................................",{"$f":"B32+B33","v":1300},0,7,0,512,781,0]
["Masculino....................................................",{"$f":"+C32+D32+E32+F32+G32+H32","v":636},0,7,0,275,354,0]
["Femenino....................................................",{"$f":"+C33+D33+E33+F33+G33+H33","v":664},0,0,0,237,427,0]
["Durazno.....................................",{"$f":"B35+B36","v":590},0,0,0,176,414,0]
["Masculino....................................................",{"$f":"+C35+D35+E35+F35+G35+H35","v":300},0,0,0,83,217,0]
["Femenino....................................................",{"$f":"+C36+D36+E36+F36+G36+H36","v":290},0,0,0,93,197,0]
["Flores......................................",{"$f":"B38+B39","v":280},0,0,0,71,209,0]
["Masculino....................................................",{"$f":"+C38+D38+E38+F38+G38+H38","v":161},0,0,0,28,133,0]
["Femenino....................................................",{"$f":"+C39+D39+E39+F39+G39+H39","v":119},0,0,0,43,76,0]
["Florida.....................................",{"$f":"B41+B42","v":753},0,17,0,253,483,0]
["Masculino....................................................",{"$f":"+C41+D41+E41+F41+G41+H41","v":407},0,16,0,129,262,0]
["Femenino....................................................",{"$f":"+C42+D42+E42+F42+G42+H42","v":346},0,1,0,124,221,0]
["Lavalleja...................................",{"$f":"B44+B45","v":430},0,11,0,241,172,6]
["Masculino....................................................",{"$f":"+C44+D44+E44+F44+G44+H44","v":228},0,11,0,153,58,6]
["Femenino....................................................",{"$f":"+C45+D45+E45+F45+G45+H45","v":202},0,0,0,88,114,0]
["Maldonado...................................",{"$f":"B47+B48","v":1184},0,0,0,439,745,0]
["Masculino....................................................",{"$f":"+C47+D47+E47+F47+G47+H47","v":731},0,0,0,292,439,0]
["Femenino....................................................",{"$f":"+C48+D48+E48+F48+G48+H48","v":453},0,0,0,147,306,0]
["Paysandú....................................",{"$f":"B50+B51","v":1526},0,7,0,275,1205,39]
["Masculino....................................................",{"$f":"+C50+D50+E50+F50+G50+H50","v":932},0,7,0,153,753,19]
["Femenino....................................................",{"$f":"+C51+D51+E51+F51+G51+H51","v":594},0,0,0,122,452,20]
["Río Negro...................................",{"$f":"B53+B54","v":531},0,0,0,143,388,0]
["Masculino....................................................",{"$f":"+C53+D53+E53+F53+G53+H53","v":272},0,0,0,82,190,0]
["Femenino....................................................",{"$f":"+C54+D54+E54+F54+G54+H54","v":259},0,0,0,61,198,0]
["Rivera......................................",{"$f":"B56+B57","v":841},0,0,0,303,523,15]
["Masculino....................................................",{"$f":"+C56+D56+E56+F56+G56+H56","v":448},0,0,0,135,301,12]
["Femenino....................................................",{"$f":"+C57+D57+E57+F57+G57+H57","v":393},0,0,0,168,222,3]
["Rocha.......................................",{"$f":"B59+B60","v":357},0,0,0,186,171,0]
["Masculino....................................................",{"$f":"+C59+D59+E59+F59+G59+H59","v":131},0,0,0,76,55,0]
["Femenino....................................................",{"$f":"+C60+D60+E60+F60+G60+H60","v":226},0,0,0,110,116,0]
["Salto............. ..........................",{"$f":"B62+B63","v":1685},0,33,0,658,975,19]
["Masculino....................................................",{"$f":"+C62+D62+E62+F62+G62+H62","v":972},0,31,0,331,594,16]
["Femenino....................................................",{"$f":"+C63+D63+E63+F63+G63+H63","v":713},0,2,0,327,381,3]
["San José....................................",{"$f":"B65+B66","v":831},0,14,0,424,393,0]
["Masculino....................................................",{"$f":"+C65+D65+E65+F65+G65+H65","v":407},0,14,0,248,145,0]
["Femenino....................................................",{"$f":"+C66+D66+E66+F66+G66+H66","v":424},0,0,0,176,248,0]
["Soriano.....................................",{"$f":"B68+B69","v":1377},0,19,0,551,807,0]
["Masculino....................................................",{"$f":"+C68+D68+E68+F68+G68+H68","v":800},0,19,0,291,490,0]
["Femenino....................................................",{"$f":"+C69+D69+E69+F69+G69+H69","v":577},0,0,0,260,317,0]
["Tacuarembó..................................",{"$f":"B71+B72","v":946},0,8,0,264,674,0]
["Masculino....................................................",{"$f":"+C71+D71+E71+F71+G71+H71","v":549},0,8,0,206,335,0]
["Femenino....................................................",{"$f":"+C72+D72+E72+F72+G72+H72","v":397},0,0,0,58,339,0]
["Treinta y Tres..............................",{"$f":"B74+B75","v":485},0,30,0,280,175,0]
["Masculino....................................................",{"$f":"+C74+D74+E74+F74+G74+H74","v":264},0,26,0,161,77,0]
["Femenino....................................................",{"$f":"+C75+D75+E75+F75+G75+H75","v":221},0,4,0,119,98,0]
[]
["Fuente: Procesamiento propio en base a datos proporcionados por el D.E. - CETP (U.T.U)"]
["Nota:  Los matriculados en Formación Profesional Superior, potencialmente son estudiantes de Educación Media Superior, ya que con el curso de Articulación correspondiente adquieren continuidad educativa al nivel terciario. "]
["Sin embargo no adquieren esta condición hasta haber transitado por Articulación. "]

{"sheet":"II-4.2.3 ","index":166,"n_rows":28,"n_cols":8,"rows_kept":28,"cut":false,"hidden":false,"merged":[[24,0,24,7],[4,0,4,6],[0,6,1,7],[6,1,8,1],[6,0,8,0],[6,2,6,7],[7,2,7,7],[23,0,23,4]]}
["CONSEJO DE EDUCACIÓN TÉCNICO PROFESIONAL (U.T.U.)",null,null,null,null,null,"ALUMNOS MATRICULADOS"]
[]
["Cuadro Nº II-4.2.3"]
[]
["ALUMNOS MATRICULADOS EN EL CETP EN EDUCACIÓN MEDIA SUPERIOR POR TIPO DE CURSO SEGÚN EDAD. AÑO 2010."]
[]
["EDAD","TOTAL","TIPO DE CURSO"]
[null,null,"NIVEL SUPERIOR"]
[null,null,"Bachillerato Figari","Bachillerato Profesional","E.M.P Especialización","Educación Media Profesional","Educación Media Tecnológica","Curso de Articulación"]
[]
["TOTAL",{"$f":"SUM(C11:H11)","v":32031},{"$f":"+C13++C14+C15+C16+C17+C18+C19+C20+C21+C22","v":62},441,109,12300,18834,285]
[]
["14 años ..............................................................................................",{"$f":"SUM(C13:H13)","v":53},0,0,0,12,41,0]
["15 años ..............................................................................................",3023,1,0,0,707,2315,0]
["16 años ..............................................................................................",4544,3,3,0,1336,3202,0]
["17 años ..............................................................................................",4833,3,63,7,1480,3279,1]
["18 años ..............................................................................................",3826,4,51,15,1412,2308,36]
["19 años ..............................................................................................",2959,5,49,13,1239,1614,39]
["20 a 24 años ..............................................................................................",7593,19,136,44,3394,3904,96]
["25 a 29 años ..............................................................................................",2687,10,64,13,1301,1256,43]
["30 años y más ..............................................................................................",2513,17,75,17,1419,915,70]
["Edad desc ..............................................................................................",0,0,0,0,0,0,0]
[]
["Fuente: Procesamiento propio en base a datos proporcionados por el D.E. - CETP (U.T.U)"]
["Nota: Los cursos de Articulación no corresponden estrictamente a Educación Media Superior. El curso de Articulación brinda"]
["la posibilidad de adquirir el nivel educativo para ingresar a cursos terciarios dentro de la oferta educativa del CEPT. "]
["De esta manera se entiende que su inclusión en Educación Media Superior parece más apropiada que su inclusión en nivel "]
["Terciario. "]

{"sheet":"II-4.2.4 ","index":167,"n_rows":39,"n_cols":8,"rows_kept":39,"cut":false,"hidden":false,"merged":[[35,0,35,7],[4,0,4,7],[0,6,1,7],[6,0,7,0],[6,1,7,1],[6,2,6,7],[34,0,34,4]]}
["CONSEJO DE EDUCACIÓN TÉCNICO PROFESIONAL (U.T.U.)",null,null,null,null,null,"ALUMNOS MATRICULADOS"]
[]
["Cuadro Nº II-4.2.4"]
[]
["ALUMNOS MATRICULADOS EN EL CETP EN EDUCACIÓN MEDIA SUPERIOR POR TIPO DE CURSO SEGÚN SECTORES DE ESTUDIO. AÑO 2010."]
[]
["SECTORES DE ESTUDIO","TOTAL","TIPO DE CURSO"]
[null,null,"Bachillerato Figari","Bachillerato Profesional","E.M.P Especialización","Educación Media Profesional","Educación Media Tecnológica","Curso de Articulación"]
[]
["TOTAL..............................................",{"$f":"SUM(C10:H10)","v":32031},{"$f":"SUM(C12:C33)","v":62},441,109,12300,18834,285]
[]
["Prog.Articulación entre niveles.....................................",{"$f":"SUM(C12:H12)","v":239},0,0,0,0,0,239]
["Agropecuario.....................................",1670,0,25,0,334,1311,0]
["Hortifruticultura y jardinería.....................................",31,0,8,0,23,0,0]
["Forestal.....................................",37,0,0,0,37,0,0]
["Pesca.....................................",83,0,15,0,68,0,0]
["Metal - mecánica.....................................",652,0,23,0,416,213,0]
["Electricidad y electrónica.....................................",3056,0,7,9,794,2246,0]
["Textil y confección de vestimenta.....................................",148,0,0,12,136,0,0]
["Madera y muebles.....................................",369,0,22,0,347,0,0]
["Cerámica.....................................",7,7,0,0,0,0,0]
["Mant.y reparación de vehículos.....................................",1732,0,90,82,1215,345,0]
["Mant, reparac y serv a la producción.....................................",172,0,0,0,172,0,0]
["Química y termodinámica.....................................",388,0,0,0,0,369,19]
["Minería y canteras.....................................",4,0,0,0,4,0,0]
["Construcción y arquitectura.....................................",2719,0,240,6,980,1493,0]
["Comercio y administración.....................................",11410,0,0,0,4377,7033,0]
["Informática.....................................",5261,0,11,0,810,4440,0]
["Gastronomía.....................................",1515,0,0,0,1515,0,0]
["Turismo.....................................",1411,0,0,0,0,1384,27]
["Servicios personales.....................................",1072,0,0,0,1072,0,0]
["Artes.....................................",43,43,0,0,0,0,0]
["Artesanías.....................................",12,12,0,0,0,0,0]
[]
["Fuente: Procesamiento propio en base a datos proporcionados por el D.E. - CETP (U.T.U)"]
["Nota: Los cursos de Articulación no corresponden estrictamente a Educación Media Superior. El curso de Articulación brinda"]
["la posibilidad de adquirir el nivel educativo para ingresar a cursos terciarios dentro de la oferta educativa del CEPT. "]
["De esta manera se entiende que su inclusión en Educación Media Superior parece más apropiada que su inclusión en nivel "]
["Terciario. "]

{"sheet":"II-4.2.5","index":168,"n_rows":41,"n_cols":9,"rows_kept":41,"cut":false,"hidden":false,"merged":[[0,6,1,8],[40,0,40,8],[4,0,4,8],[6,0,13,1],[6,3,6,8],[8,3,8,4],[8,5,8,6],[8,7,8,8],[10,3,10,8]]}
["CONSEJO DE EDUCACIÓN SECUNDARIA",null,null,null,null,null,"ALUMNOS MATRICULADOS"]
[]
["Cuadro Nº II-4.2.5"]
[]
["ALUMNOS MATRICULADOS EN EL CES EN EDUCACIÓN MEDIA SUPERIOR POR GRADO Y FORMA DE ADMINISTRACIÓN SEGÚN DEPARTAMENTO. AÑO 2010."]
[]
["DEPARTAMENTO",null,null,"GRADO"]
[]
[null,null,null,"CUARTO",null,"QUINTO",null,"SEXTO"]
[]
[null,null,null,"FORMA DE ADMINISTRACIÓN"]
[]
[null,null,null,"Públicos","Privados","Públicos","Privados","Públicos","Privados"]
[]
[]
["TOTAL.............",null," ",{"$f":"D18+D19","v":33303},6660,35361,5260,28238,4505]
[]
["MONTEVIDEO......................",null," ",10308,4556,13312,4114,11296,3558]
["RESTO DEL PAÍS......................",null," ",{"$f":"SUM(D21:D38)","v":22995},2104,22049,1146,16942,947]
[]
["Artigas...........",null," ",1083,0,885,0,813,0]
["Canelones.........",null," ",5390,682,5639,393,4094,300]
["Cerro Largo.......",null," ",1168,48,1016,0,782,0]
["Colonia...........",null," ",1379,6,1457,14,1247,0]
["Durazno...........",null," ",709,52,725,0,575,0]
["Flores............",null," ",290,49,294,12,287,0]
["Florida...........",null," ",726,50,700,41,531,31]
["Lavalleja.........",null," ",738,53,677,0,523,13]
["Maldonado.........",null," ",1842,475,1611,442,1185,406]
["Paysandú..........",null," ",1103,131,1054,84,861,90]
["Río Negro.........",null," ",631,0,626,0,463,0]
["Rivera............",null," ",1469,92,1349,59,1010,19]
["Rocha.............",null," ",993,62,932,0,576,0]
["Salto............. ",null," ",1434,158,1514,16,1142,11]
["San José..........",null," ",1230,55,1300,32,842,33]
["Soriano...........",null," ",954,64,837,0,766,0]
["Tacuarembó........",null," ",1173,86,933,53,818,44]
["Treinta y Tres....",null," ",683,41,500,0,427,0]
[]
["Fuente: D.E. — C.E.S."]
["Nota:  La referencia \"Privados\" (incluye los Habilitados \"Liceo Naval\" y \"Liceo Militar\"), se corresponde con la de \"Liceos Habilitados\" presente en ediciones anteriores del Anuario Estadístico del MEC."]

{"sheet":"II-4.2.6","index":169,"n_rows":42,"n_cols":33,"rows_kept":42,"cut":false,"hidden":false,"merged":[[10,20,10,21],[10,23,10,24],[10,26,10,27],[0,27,1,31],[0,7,1,10],[6,4,6,8],[6,16,6,32],[8,4,8,10],[8,16,8,18],[8,20,8,27],[4,0,4,10],[4,12,4,22]]}
["CONSEJO DE EDUCACIÓN SECUNDARIA",null,null,null,null,null,null,"ALUMNOS MATRICULADOS",null,null,null,null,"CONSEJO DE EDUCACIÓN SECUNDARIA",null,null,null,null,null,null,null,null,null,null,null,null,null,null,"ALUMNOS MATRICULADOS"]
[]
["Cuadro Nº II-4.2.6",null,null,null,null,null,null,null,null,null,null,null,"Cuadro Nº II-4.2.6 (continuación)"]
[]
["ALUMNOS MATRICULADOS EN EL CES EN QUINTO GRADO DE EDUCACIÓN MEDIA POR PLAN Y ORIENTACIÓN SEGÚN GRANDES ÁREAS Y FORMA DE ADMINISTRACIÓN. AÑO 2010.",null,null,null,null,null,null,null,null,null,null,null,"ALUMNOS MATRICULADOS EN EL CES EN QUINTO GRADO DE EDUCACIÓN MEDIA POR PLAN Y ORIENTACIÓN SEGÚN GRANDES ÁREAS Y FORMA DE ADMINISTRACIÓN. AÑO 2010."]
[]
["GRANDES ÁREAS Y FORMA DE",null,null,null,"QUINTO GRADO",null,null,null,null,null,null,null,"GRANDES ÁREAS Y FORMA DE",null,null,null,"QUINTO GRADO"]
["ADMINISTRACIÓN",null,null,null,null,null,null,null,null,null,null,null,"ADMINISTRACIÓN"]
[null,null,null,null,"ORIENTACIÓN     PLAN REFORMULACIÓN. 2006",null,null,null,null,null,null,null,null,null,null,null,"ORIENTACIÓN  PLAN / 76",null,null,null,"ORIENTACIÓN  PLAN 94",null,null,null,null,null,null,null,null,"TOT.PLANES.PRIVADOS",null,null,"OTROS (*)"]
[null,null,null,null,null,null,null,null,null,null,null,null,null,null,null,null,null,null,null,null,null,null,null,null,null,null,null,null,null,null,null,null,"B.INT. "]
[null,null,"TOTAL",null,"Div.Hum.",null,"Div.Biol.",null,"Div.Cient.",null,"Div.Art.",null,null,null,"TOTAL",null,"Hum.","Biol.","Cient.",null,"2º H",null,null,"2º B",null,null,"2º C",null,null,null,null,null,"y/o BICUL."]
[null,null,null,null,null,null,null,null,null,null,null,null,null,null,null,null,null,null,null,null,"ANUAL","1ºSemestre",null,"ANUAL","1ºSemestre",null,"ANUAL","1ºSemestre"]
["TOTAL DEL PAÍS....................................."," ",{"$f":"+C15+C19","v":40621},null,{"$f":"+E21+E29","v":9015},null,{"$f":"+G21+G29","v":7503},null,{"$f":"+I21+I29","v":3392},null,{"$f":"+K21+K29","v":1425},null,"TOTAL DEL PAÍS....................................."," ",{"$f":"+O15+O19","v":19286},null,{"$f":"+Q21+Q29","v":1843},{"$f":"+R21+R29","v":1089},{"$f":"+S21+S29","v":199},null,{"$f":"+U21+U29","v":4342},{"$f":"+V21+V29","v":1842},null,{"$f":"+X21+X29","v":3281},{"$f":"+Y21+Y29","v":664},null,{"$f":"+AA21+AA29","v":613},{"$f":"+AB21+AB29","v":153},null,{"$f":"+AD21+AD29","v":5138},null,null,{"$f":"+AG21+AG29","v":122}]
[]
["CICLO SUPERIOR PÚBLICA................."," ",{"$f":"+C16+C17","v":35361},null,{"$f":"+E23+E31","v":9015},null,{"$f":"+G23+G31","v":7503},null,{"$f":"+I23+I31","v":3392},null,{"$f":"+K23+K31","v":1425},null,"CICLO SUPERIOR PÚBLICA................."," ",{"$f":"+O16+O17","v":14026},null,{"$f":"+Q23+Q31","v":1843},1089,199,null,{"$f":"+U23+U31","v":4342},1842,null,{"$f":"+X23+X31","v":3281},664,null,{"$f":"+AA23+AA31","v":613},153,null,{"$f":"+AD23+AD31","v":0},null,null,{"$f":"+AG23+AG31","v":0}]
["  Diurna...................................."," ",{"$f":"+C24+C32","v":21335},null,{"$f":"+E24+E32","v":9015},null,{"$f":"+G24+G32","v":7503},null,{"$f":"+I24+I32","v":3392},null,{"$f":"+K24+K32","v":1425},null,"  Diurna...................................."," ",{"$f":"+O24+O32","v":0},null,0,0,0,null,0,0,null,0,0,null,0,0,null,{"$f":"+AD24+AD32","v":0},null,null,{"$f":"+AG24+AG32","v":0}]
["  Nocturna............................................"," ",{"$f":"+C25+C33","v":14026},null,{"$f":"+E25+E33","v":0},null,{"$f":"+G25+G33","v":0},null,{"$f":"+I25+I33","v":0},null,{"$f":"+K25+K33","v":0},null,"  Nocturna............................................"," ",{"$f":"+O25+O33","v":14026},null,1843,1089,199,null,4342,1842,null,3281,664,null,613,153,null,{"$f":"+AD25+AD33","v":0},null,null,{"$f":"+AG25+AG33","v":0}]
[null," ",null,null,null,null,null,null,null,null,null,null,null," "]
["CICLO SUPERIOR PRIVADA................"," ",{"$f":"+C27+C35","v":5260},null,{"$f":"+E27+E35","v":0},null,{"$f":"+G27+G35","v":0},null,{"$f":"+I27+I35","v":0},null,{"$f":"+K27+K35","v":0},null,"CICLO SUPERIOR PRIVADA................"," ",{"$f":"+O27+O35","v":5260},null,{"$f":"+Q27+Q35","v":0},{"$f":"+R27+R35","v":0},{"$f":"+S27+S35","v":0},null,{"$f":"+U27+U35","v":0},{"$f":"+V27+V35","v":0},null,{"$f":"+X27+X35","v":0},{"$f":"+Y27+Y35","v":0},null,{"$f":"+AA27+AA35","v":0},{"$f":"+AB27+AB35","v":0},null,{"$f":"+AD27+AD35","v":5138},null,null,{"$f":"+AG27+AG35","v":122}]
[null," ",null,null,null,null,null,null,null,null,null,null,null," "]
["TOTAL MONTEVIDEO...................."," ",{"$f":"+C23+C32","v":28233},null,{"$f":"+E23+E27","v":2784},null,{"$f":"+G23+G27","v":1922},null,{"$f":"+I23+I27","v":1127},null,{"$f":"+K23+K27","v":581},null,"TOTAL MONTEVIDEO...................."," ",{"$f":"+O23+O27","v":11012},null,{"$f":"+Q23+Q27","v":1041},{"$f":"+R23+R27","v":606},{"$f":"+S23+S27","v":173},null,{"$f":"+U23+U27","v":1816},{"$f":"+V23+V27","v":1101},null,{"$f":"+X23+X27","v":1096},{"$f":"+Y23+Y27","v":574},null,{"$f":"+AA23+AA27","v":338},{"$f":"+AB23+AB27","v":153},null,{"$f":"+AD23+AD27","v":4001},null,null,{"$f":"+AG23+AG27","v":113}]
[]
["CICLO SUPERIOR PÚBLICA................."," ",{"$f":"+C24+C25","v":13312},null,{"$f":"SUM(E24:E25)","v":2784},null,{"$f":"SUM(G24:G25)","v":1922},null,{"$f":"SUM(I24:I25)","v":1127},null,{"$f":"SUM(K24:K25)","v":581},null,"CICLO SUPERIOR PÚBLICA................."," ",{"$f":"+O24+O25","v":6898},null,{"$f":"SUM(Q24:Q25)","v":1041},{"$f":"SUM(R24:R25)","v":606},{"$f":"SUM(S24:S25)","v":173},null,{"$f":"SUM(U24:U25)","v":1816},{"$f":"SUM(V24:V25)","v":1101},null,{"$f":"SUM(X24:X25)","v":1096},{"$f":"SUM(Y24:Y25)","v":574},null,{"$f":"SUM(AA24:AA25)","v":338},{"$f":"SUM(AB24:AB25)","v":153},null,{"$f":"SUM(AD24:AD25)","v":0},null,null,{"$f":"SUM(AG24:AG25)","v":0}]
["  Diurna...................................."," ",{"$f":"+E24+G24+I24+K24+O24","v":6414},null,2784,null,1922,null,1127,null,581,null,"  Diurna...................................."," ",{"$f":"SUM(Q24:AG24)","v":0},null,null,null,null,null,null,null,null,null,null,null,null,null,null,0,null,null,0]
["  Nocturna............................................"," ",{"$f":"+E25+G25+I25+K25+O25","v":6898},null,null,null,null,null,null,null,null,null,"  Nocturna............................................"," ",{"$f":"SUM(Q25:AG25)","v":6898},null,1041,606,173,null,1816,1101,null,1096,574,null,338,153,null,0,null,null,0]
[null," ",null,null,null,null,null,null,null,null,null,null,null," "]
["CICLO SUPERIOR PRIVADA.................."," ",{"$f":"+E27+G27+I27+K27+O27","v":4114},null,null,null,null,null,null,null,null,null,"CICLO SUPERIOR PRIVADA.................."," ",{"$f":"SUM(Q27:AG27)","v":4114},null,0,0,0,null,null,null,null,null,null,null,null,null,null,4001,null,null,113]
[null," ",null,null,null,null,null,null,null,null,null,null,null," "]
["TOTAL RESTO DEL PAÍS......................"," ",{"$f":"+C31+C35","v":23195},null,{"$f":"+E31+E35","v":6231},null,{"$f":"+G31+G35","v":5581},null,{"$f":"+I31+I35","v":2265},null,{"$f":"+K31+K35","v":844},null,"TOTAL RESTO DEL PAÍS......................"," ",{"$f":"+O31+O35","v":8274},null,{"$f":"+Q31+Q35","v":802},{"$f":"+R31+R35","v":483},{"$f":"+S31+S35","v":26},null,{"$f":"+U31+U35","v":2526},{"$f":"+V31+V35","v":741},null,{"$f":"+X31+X35","v":2185},{"$f":"+Y31+Y35","v":90},null,{"$f":"+AA31+AA35","v":275},{"$f":"+AB31+AB35","v":0},null,{"$f":"+AD31+AD35","v":1137},null,null,{"$f":"+AG31+AG35","v":9}]
[]
["CICLO SUPERIOR PÚBLICA................."," ",{"$f":"+C32+C33","v":22049},null,{"$f":"SUM(E32:E33)","v":6231},null,{"$f":"SUM(G32:G33)","v":5581},null,{"$f":"SUM(I32:I33)","v":2265},null,{"$f":"SUM(K32:K33)","v":844},null,"CICLO SUPERIOR PÚBLICA................."," ",{"$f":"+O32+O33","v":7128},null,{"$f":"SUM(Q32:Q33)","v":802},{"$f":"SUM(R32:R33)","v":483},{"$f":"SUM(S32:S33)","v":26},null,{"$f":"SUM(U32:U33)","v":2526},{"$f":"SUM(V32:V33)","v":741},null,{"$f":"SUM(X32:X33)","v":2185},{"$f":"SUM(Y32:Y33)","v":90},null,{"$f":"SUM(AA32:AA33)","v":275},{"$f":"SUM(AB32:AB33)","v":0},null,{"$f":"SUM(AD32:AD33)","v":0},null,null,{"$f":"SUM(AG32:AG33)","v":0}]
["  Diurna...................................."," ",{"$f":"+E32+G32+I32+K32+O32","v":14921},null,6231,null,5581,null,2265,null,844,null,"  Diurna...................................."," ",{"$f":"SUM(Q32:AG32)","v":0},null,null,null,null,null,null,null,null,null,null,null,null,null,null,0,null,null,0]
["  Nocturna............................................"," ",{"$f":"+E33+G33+I33+K33+O33","v":7128},null,null,null,null,null,null,null,null,null,"  Nocturna............................................"," ",{"$f":"SUM(Q33:AG33)","v":7128},null,802,483,26,null,2526,741,null,2185,90,null,275,0,null,0,null,null,0]
[null," ",null,null,null,null,null,null,null,null,null,null,null," "]
["CICLO SUPERIOR PRIVADA.................."," ",{"$f":"+E35+G35+I35+K35+O35","v":1146},null,null,null,null,null,null,null,null,null,"CICLO SUPERIOR PRIVADA.................."," ",{"$f":"SUM(Q35:AG35)","v":1146},null,0,0,0,null,null,null,null,null,null,null,null,null,null,1137,null,null,9]
[]
[null," ",null,null,null,null,null,null,null,null,null,null,null," "]
["Fuente: D.E. — C.E.S.",null,null,null,null,null,null,null,null,null,null,null,"Fuente: D.E. — C.E.S."]
["Nota:   OTROS (*) Corresponde a los cursos de Bachillerato Internacional y Bachillerato Bicultural.",null,null,null,null,null,null,null,null,null,null,null,"Nota:   OTROS (*) Corresponde a los cursos de Bachillerato Internacional y Bachillerato Bicultural."]
["        La referencia \"Privada\", (incluye los Habilitados \"Liceo Naval\" y \"Liceo Militar\"),",null,null,null,null,null,null,null,null,null,null,null,"        La referencia \"Privada\", (incluye los Habilitados \"Liceo Naval\" y \"Liceo Militar\"),"]
["        se corresponde con la de \"Liceos Habilitados\" presente en ediciones anteriores",null,null,null,null,null,null,null,null,null,null,null,"        se corresponde con la de \"Liceos Habilitados\" presente en ediciones anteriores"]
["        del Anuario Estadístico del MEC.",null,null,null,null,null,null,null,null,null,null,null,"        del Anuario Estadístico del MEC."]

{"sheet":"II-4.2.7","index":170,"n_rows":37,"n_cols":20,"rows_kept":37,"cut":false,"hidden":false,"merged":[[9,7,9,8],[9,10,9,11],[9,13,9,14],[4,0,4,26],[0,15,1,18],[6,2,6,19],[8,2,8,4],[8,7,8,14],[8,16,8,19]]}
["CONSEJO DE EDUCACIÓN SECUNDARIA",null,null,null,null,null,null,null,null,null,null,null,null,null,null,"ALUMNOS MATRICULADOS"]
[]
["Cuadro Nº II-4.2.7"]
[]
["ALUMNOS MATRICULADOS EN EL CES EN QUINTO GRADO DE EDUCACIÓN MEDIA PÚBLICA POR PLAN Y ORIENTACIÓN SEGÚN DEPARTAMENTO. AÑO 2010."]
[]
[null,null,"QUINTO GRADO"]
[]
["DEPARTAMENTO",null,"ORIENTACIÓN     PLANES / 76",null,null,null,null,"ORIENTACIÓN  PLAN / 94",null,null,null,null,null,null,null,null,"ORIENTACIÓN  PLAN / REFORMULACIÓN 2006"]
[null,null,null,null,null,null,null,"2º H",null,null,"2º B",null,null,"2º C"]
[null,"TOTAL","Humanística","Biológica","Científica",null,null,"ANUAL","1ºSemestre",null,"ANUAL","1ºSemestre",null,"ANUAL","1ºSemestre",null,"Div.Hum.","Div.Biol.","Div.Cient.","Div.Art."]
[]
["TOTAL....................................",{"$f":"+B15+B16","v":35361},{"$f":"+C15+C16","v":1843},{"$f":"+D15+D16","v":1089},{"$f":"+E15+E16","v":199},null,null,{"$f":"+H15+H16","v":4342},{"$f":"+I15+I16","v":1842},null,{"$f":"+K15+K16","v":3281},{"$f":"+L15+L16","v":664},null,{"$f":"+N15+N16","v":613},{"$f":"+O15+O16","v":153},null,{"$f":"+Q15+Q16","v":9015},{"$f":"+R15+R16","v":7503},{"$f":"+S15+S16","v":3392},{"$f":"+T15+T16","v":1425}]
[]
["MONTEVIDEO..................",{"$f":"SUM(C15:T15)","v":13312},1041,606,173,null,null,1816,1101,null,1096,574,null,338,153,null,2784,1922,1127,581]
["RESTO DEL PAÍS......................",{"$f":"SUM(B18:B35)","v":22049},{"$f":"SUM(C18:C35)","v":802},{"$f":"SUM(D18:D35)","v":483},{"$f":"SUM(E18:E35)","v":26},null,null,{"$f":"SUM(H18:H35)","v":2526},{"$f":"SUM(I18:I35)","v":741},null,{"$f":"SUM(K18:K35)","v":2185},{"$f":"SUM(L18:L35)","v":90},null,{"$f":"SUM(N18:N35)","v":275},{"$f":"SUM(O18:O35)","v":0},null,{"$f":"SUM(Q18:Q35)","v":6231},{"$f":"SUM(R18:R35)","v":5581},{"$f":"SUM(S18:S35)","v":2265},{"$f":"SUM(T18:T35)","v":844}]
[]
["Artigas...................",{"$f":"SUM(C18:T18)","v":885},0,0,0,null,null,72,104,null,82,0,null,0,0,null,291,240,75,21]
["Canelones................",5639,114,40,26,null,null,855,262,null,661,0,null,123,0,null,1477,1129,707,245]
["Cerro Largo..............",1016,134,80,0,null,null,46,0,null,31,0,null,13,0,null,265,303,108,36]
["Colonia..................",1457,61,51,0,null,null,263,0,null,241,0,null,0,0,null,275,295,192,79]
["Durazno...................",725,0,0,0,null,null,105,0,null,64,0,null,0,0,null,272,191,79,14]
["Flores.....................",294,0,0,0,null,null,53,0,null,55,0,null,0,0,null,61,81,33,11]
["Florida..................",700,74,50,0,null,null,51,0,null,29,0,null,0,0,null,239,172,70,15]
["Lavalleja...............",677,95,36,0,null,null,0,0,null,0,0,null,0,0,null,244,233,55,14]
["Maldonado..................",1611,160,110,0,null,null,133,0,null,97,0,null,23,0,null,432,379,170,107]
["Paysandú..................",1054,0,0,0,null,null,0,103,null,126,0,null,31,0,null,330,347,86,31]
["Río Negro.................",626,0,0,0,null,null,160,0,null,94,0,null,0,0,null,145,157,49,21]
["Rivera.....................",1349,0,0,0,null,null,56,155,null,36,90,null,26,0,null,504,337,102,43]
["Rocha.....................",932,84,72,0,null,null,60,0,null,25,0,null,0,0,null,305,258,98,30]
["Salto................... ",1514,0,0,0,null,null,181,0,null,158,0,null,32,0,null,459,530,116,38]
["San José.................",1300,0,0,0,null,null,295,0,null,265,0,null,16,0,null,248,306,116,54]
["Soriano...................",837,0,0,0,null,null,74,117,null,107,0,null,11,0,null,200,209,77,42]
["Tacuarembó...............",933,0,0,0,null,null,122,0,null,114,0,null,0,0,null,325,255,89,28]
["Treinta y Tres...........",500,80,44,0,null,null,0,0,null,0,0,null,0,0,null,159,159,43,15]
[]
["Fuente: D.E. — C.E.S."]

{"sheet":"II-4.2.8 ","index":171,"n_rows":42,"n_cols":14,"rows_kept":42,"cut":false,"hidden":false,"merged":[[8,16,12,17],[8,5,8,13],[10,5,10,12],[0,11,1,13],[4,0,4,17],[11,0,11,1],[6,0,6,14]]}
["CONSEJO DE EDUCACIÓN SECUNDARIA",null,null,null,null,null,null,null,null,null,null,"ALUMNOS MATRICULADOS"]
[]
["Cuadro Nº II-4.2.8"]
[]
[]
[]
["ALUMNOS MATRICULADOS DE QUINTO GRADO DE EDUCACIÓN MEDIA SUPERIOR DE EDUCACIÓN SECUNDARIA PRIVADA POR ORIENTACIÓN SEGÚN DEPARTAMENTO. AÑO 2010."]
[]
[null,null,null,null,null,"QUINTO GRADO"]
[]
[null,null,null,null,null,"ORIENTACIÓN Planes 76+86+93+2006",null,null,null,null,null,null,null,"OTROS (*)"]
["DEPARTAMENTO",null,null,null,null,null,null,null,null,null,null,null,null,"B.INT. "]
[null,null,null,"TOTAL",null,"Humanística",null,"Biológica",null,"Científica",null,"Artístico",null,"y/o BICUL."]
[]
["TOTAL.............",null," ",{"$f":"+D17+D18","v":5260},null,{"$f":"F17+F18","v":1865},null,{"$f":"H17+H18","v":1219},null,{"$f":"J17+J18","v":1656},null,{"$f":"L17+L18","v":398},null,{"$f":"N17+N18","v":122}]
[]
["MONTEVIDEO......................",null," ",{"$f":"+F17+H17+J17+L17+N17","v":4114},null,1487,null,858,null,1316,null,340,null,113]
["RESTO DEL PAÍS......................",null," ",{"$f":"+F18+H18+J18+L18+N18","v":1146},null,{"$f":"SUM(F20:F37)","v":378},null,{"$f":"SUM(H20:H37)","v":361},null,{"$f":"SUM(J20:J37)","v":340},null,{"$f":"SUM(L20:L37)","v":58},null,{"$f":"SUM(N20:N37)","v":9}]
[null,null," "]
["Artigas............",null," ",{"$f":"+F20+H20+J20+L20+N20","v":0},null,0,null,0,null,0,null,0,null,0]
["Canelones.........",null," ",{"$f":"+F21+H21+J21+L21+N21","v":393},null,134,null,118,null,115,null,26,null,0]
["Cerro Largo.......",null," ",0,null,0,null,0,null,0,null,null,null,0]
["Colonia............",null," ",14,null,2,null,4,null,8,null,0,null,0]
["Durazno...........",null," ",0,null,0,null,0,null,0,null,0,null,0]
["Flores............",null," ",12,null,4,null,7,null,1,null,0,null,0]
["Florida...........",null," ",41,null,11,null,19,null,11,null,0,null,0]
["Lavalleja.........",null," ",0,null,0,null,0,null,0,null,0,null,0]
["Maldonado.........",null," ",442,null,164,null,115,null,122,null,32,null,9]
["Paysandú..........",null," ",84,null,24,null,31,null,29,null,0,null,0]
["Río Negro.........",null," ",0,null,0,null,0,null,0,null,0,null,0]
["Rivera............",null," ",59,null,14,null,27,null,18,null,0,null,0]
["Rocha.............",null," ",0,null,0,null,0,null,0,null,0,null,0]
["Salto............. ",null," ",16,null,0,null,11,null,5,null,0,null,0]
["San José..........",null," ",32,null,6,null,13,null,13,null,0,null,0]
["Soriano...........",null," ",0,null,0,null,0,null,0,null,0,null,0]
["Tacuarembó........",null," ",53,null,19,null,16,null,18,null,0,null,0]
["Treinta y Tres....",null," ",0,null,0,null,0,null,0,null,0,null,0]
[]
["Fuente: D.E. — C.E.S"]
["Nota:   Otros (*) Corresponde a los cursos de Bachillerato Internacional y"]
["        Bachillerato Bicultural."]
["        El plan 2003  fuè retirado de los quintos grados para el año 2009"]

{"sheet":"II_4_2_9","index":172,"n_rows":38,"n_cols":56,"rows_kept":38,"cut":false,"hidden":false,"merged":[[8,39,8,51],[0,29,1,33],[0,52,1,55],[9,0,9,1],[9,35,9,36],[10,31,10,32],[6,4,6,33],[6,39,6,55],[8,0,8,1],[8,4,8,14],[8,16,8,33],[8,35,8,36],[10,16,10,17],[10,19,10,20],[10,22,10,23],[10,25,10,26],[10,28,10,29]]}
["CONSEJO DE EDUCACIÓN SECUNDARIA",null,null,null,null,null,null,null,null,null,null,null,null,null,null,null,null,null,null,null,null,null,null,null,null,null,null,null,null,"ALUMNOS MATRICULADOS",null,null,null,null,null,"CONSEJO DE EDUCACIÓN SECUNDARIA",null,null,null,null,null,null,null,null,null,null,null,null,null,null,null,null,"ALUMNOS MATRICULADOS"]
[]
["Cuadro Nº II-4.2.9",null,null,null,null,null,null,null,null,null,null,null,null,null,null,null,null,null,null,null,null,null,null,null,null,null,null,null,null,null,null,null,null,null,null,"Cuadro Nº II-4.2.9 (continuación)"]
[]
["ALUMNOS MATRICULADOS DE SEXTO GRADO DE BACHILLERATO POR OPCIÓN Y PLAN SEGÚN GRANDES ÁREAS Y FORMA DE ADMINISTRACIÓN. AÑO 2010.",null,null,null,null,null,null,null,null,null,null,null,null,null,null,null,null,null,null,null,null,null,null,null,null,null,null,null,null,null,null,null,null,null,null,"ALUMNOS MATRICULADOS DE SEXTO GRADO DE BACHILLERATO POR OPCIÓN Y PLAN SEGÚN GRANDES ÁREAS Y FORMA DE ADMINISTRACIÓN. AÑO 2010."]
[]
[null,null,null,null,"SEXTO GRADO",null,null,null,null,null,null,null,null,null,null,null,null,null,null,null,null,null,null,null,null,null,null,null,null,null,null,null,null,null,null,null,null,null,null,"SEXTO GRADO"]
[]
["GRANDES ÁREAS Y FORMA DE ",null,"Total",null,"O P C I Ó N     P L A N E S    / 76 ",null,null,null,null,null,null,null,null,null,null,null,"O P C I Ó N     P L A N    / 94",null,null,null,null,null,null,null,null,null,null,null,null,null,null,null,null,null,null,"GRANDES ÁREAS Y FORMA DE ",null,null,null,"O P C I Ó N     P L A N    / R E F O R  M  U L A C I Ó N  2006",null,null,null,null,null,null,null,null,null,null,null,null,null,"Tot.Planes",null,"OTROS (*)"]
["ADMINISTRACIÓN",null,"todos los",null,null,null,null,null,null,null,null,null,null,null,null,null,null,null,null,null,null,null,null,null,null,null,null,null,null,null,null,null,null,null,null,"ADMINISTRACIÓN",null,null,null,null,null,null,null,null,null,null,null,null,null,null,null,null,null,"Privados"]
[null,null,"planes",null,"Derecho",null,"Economía",null,"Agronomía",null,"Medicina",null,"Arquitectura",null,"Ingeniería",null,"3º DER.",null,null,"3º ECO",null,null,"3º AGR.",null,null,"3º MED.",null,null,"3º ARQ.",null,null,"3º ING",null,null,null,null,null,"TOTAL",null,"SH",null,"SE",null,"CA",null,"CB",null,"FM",null,"MD",null,"AE",null,null,null,"B.INT."]
[null,null,null,null,null,null,null,null,null,null,null,null,null,null,null,null,"ANUAL","1ºSemestre",null,"ANUAL","1ºSemestre",null,"ANUAL","1ºSemestre",null,"ANUAL","1ºSemestre",null,"ANUAL","1ºSemestre",null,"ANUAL","1ºSemestre",null,null,null,null,null,null,null,null,null,null,null,null,null,null,null,null,null,null,null,null,null,null,"y/o BICUL."]
["TOTAL...................................."," ",{"$f":"+C15+C19","v":32743},null,{"$f":"+E15+E19","v":1319},null,{"$f":"+G15+G19","v":149},null,{"$f":"+I15+I19","v":0},null,{"$f":"+K15+K19","v":877},null,{"$f":"+M15+M19","v":71},null,{"$f":"+O15+O19","v":138},null,{"$f":"+Q15+Q19","v":3737},{"$f":"+R15+R19","v":785},null,{"$f":"+T15+T19","v":325},{"$f":"+U15+U19","v":161},null,{"$f":"+W15+W19","v":0},{"$f":"+X15+X19","v":0},null,{"$f":"+Z15+Z19","v":2676},{"$f":"+AA15+AA19","v":660},null,{"$f":"+AC15+AC19","v":129},{"$f":"+AD15+AD19","v":0},null,{"$f":"+AF15+AF19","v":461},{"$f":"+AG15+AG19","v":137},null,null,"TOTAL....................................",null,{"$f":"+AL15+AL19","v":21118},null,{"$f":"+AN15+AN19","v":5592},null,{"$f":"+AP15+AP19","v":1783},null,{"$f":"+AR15+AR19","v":607},null,{"$f":"+AT15+AT19","v":5241},null,{"$f":"+AV15+AV19","v":1982},null,{"$f":"+AX15+AX19","v":692},null,{"$f":"+AZ15+AZ19","v":716},null,{"$f":"+BB15+BB19","v":4360},null,{"$f":"+BD15+BD19","v":145}]
[null," "]
["CICLO SUPERIOR PÚBLICA................."," ",{"$f":"+C22+C29","v":28238},null,{"$f":"+E22+E29","v":1319},null,{"$f":"+G22+G29","v":149},null,{"$f":"+I22+I29","v":0},null,{"$f":"+K22+K29","v":877},null,{"$f":"+M22+M29","v":71},null,{"$f":"+O22+O29","v":138},null,{"$f":"+Q22+Q29","v":3737},785,null,{"$f":"+T22+T29","v":325},161,null,{"$f":"+W22+W29","v":0},0,null,{"$f":"+Z22+Z29","v":2676},660,null,{"$f":"+AC22+AC29","v":129},0,null,{"$f":"+AF22+AF29","v":461},137,null,null,"CICLO SUPERIOR PÚBLICA.................",null,{"$f":"+AL22+AL29","v":16613},null,{"$f":"+AN22+AN29","v":5592},null,{"$f":"+AP22+AP29","v":1783},null,{"$f":"+AR22+AR29","v":607},null,{"$f":"+AT22+AT29","v":5241},null,{"$f":"+AV22+AV29","v":1982},null,{"$f":"+AX22+AX29","v":692},null,{"$f":"+AZ22+AZ29","v":716},null,{"$f":"+BB22+BB29","v":0},null,{"$f":"+BD22+BD29","v":0}]
["  Diurna...................................."," ",{"$f":"+C23+C30","v":16613},null,{"$f":"+E23+E30","v":0},null,{"$f":"+G23+G30","v":0},null,{"$f":"+I23+I30","v":0},null,{"$f":"+K23+K30","v":0},null,{"$f":"+M23+M30","v":0},null,{"$f":"+O23+O30","v":0},null,0,0,null,0,0,null,0,0,null,0,0,null,0,0,null,0,0,null,null,"  Diurna....................................",null,{"$f":"+AL23+AL30","v":16613},null,{"$f":"+AN23+AN30","v":5592},null,{"$f":"+AP23+AP30","v":1783},null,{"$f":"+AR23+AR30","v":607},null,{"$f":"+AT23+AT30","v":5241},null,{"$f":"+AV23+AV30","v":1982},null,{"$f":"+AX23+AX30","v":692},null,{"$f":"+AZ23+AZ30","v":716},null,{"$f":"+BB23+BB30","v":0},null,{"$f":"+BD23+BD30","v":0}]
["  Nocturna............................................"," ",{"$f":"+C24+C31","v":11625},null,{"$f":"+E24+E31","v":1319},null,{"$f":"+G24+G31","v":149},null,{"$f":"+I24+I31","v":0},null,{"$f":"+K24+K31","v":877},null,{"$f":"+M24+M31","v":71},null,{"$f":"+O24+O31","v":138},null,3737,785,null,325,161,null,0,0,null,2676,660,null,129,0,null,461,137,null,null,"  Nocturna............................................",null,{"$f":"+AL24+AL31","v":0},null,{"$f":"+AN24+AN31","v":0},null,{"$f":"+AP24+AP31","v":0},null,{"$f":"+AR24+AR31","v":0},null,{"$f":"+AT24+AT31","v":0},null,{"$f":"+AV24+AV31","v":0},null,{"$f":"+AX24+AX31","v":0},null,{"$f":"+AZ24+AZ31","v":0},null,{"$f":"+BB24+BB31","v":0},null,{"$f":"+BD24+BD31","v":0}]
[null," "]
["CICLO SUPERIOR PRIVADA................"," ",{"$f":"+C26+C33","v":4505},null,{"$f":"+E26+E33","v":0},null,{"$f":"+G26+G33","v":0},null,{"$f":"+I26+I33","v":0},null,{"$f":"+K26+K33","v":0},null,{"$f":"+M26+M33","v":0},null,{"$f":"+O26+O33","v":0},null,{"$f":"+Q26+Q33","v":0},{"$f":"+R26+R33","v":0},null,{"$f":"+T26+T33","v":0},{"$f":"+U26+U33","v":0},null,{"$f":"+W26+W33","v":0},{"$f":"+X26+X33","v":0},null,{"$f":"+Z26+Z33","v":0},{"$f":"+AA26+AA33","v":0},null,{"$f":"+AC26+AC33","v":0},{"$f":"+AD26+AD33","v":0},null,{"$f":"+AF26+AF33","v":0},{"$f":"+AG26+AG33","v":0},null,null,"CICLO SUPERIOR PRIVADA................",null,{"$f":"+AL26+AL33","v":4505},null,{"$f":"+AN26+AN33","v":0},null,{"$f":"+AP26+AP33","v":0},null,{"$f":"+AR26+AR33","v":0},null,{"$f":"+AT26+AT33","v":0},null,{"$f":"+AV26+AV33","v":0},null,{"$f":"+AX26+AX33","v":0},null,{"$f":"+AZ26+AZ33","v":0},null,{"$f":"+BB26+BB33","v":4360},null,{"$f":"+BD26+BD33","v":145}]
[null," "]
["TOTAL MONTEVIDEO........................"," ",{"$f":"+C22+C26","v":14854},null,{"$f":"+E22+E26","v":781},null,{"$f":"+G22+G26","v":125},null,{"$f":"+I22+I26","v":0},null,{"$f":"+K22+K26","v":502},null,{"$f":"+M22+M26","v":71},null,{"$f":"+O22+O26","v":127},null,{"$f":"+Q22+Q26","v":1500},{"$f":"+R22+R26","v":686},null,{"$f":"+T22+T26","v":244},{"$f":"+U22+U26","v":161},null,{"$f":"+W22+W26","v":0},{"$f":"+X22+X26","v":0},null,{"$f":"+Z22+Z26","v":1036},{"$f":"+AA22+AA26","v":546},null,{"$f":"+AC22+AC26","v":108},{"$f":"+AD22+AD26","v":0},null,{"$f":"+AF22+AF26","v":252},{"$f":"+AG22+AG26","v":137},null,null,"TOTAL MONTEVIDEO........................",null,{"$f":"+AL22+AL26","v":8578},null,{"$f":"+AN22+AN26","v":1614},null,{"$f":"+AP22+AP26","v":661},null,{"$f":"+AR22+AR26","v":77},null,{"$f":"+AT22+AT26","v":1445},null,{"$f":"+AV22+AV26","v":678},null,{"$f":"+AX22+AX26","v":264},null,{"$f":"+AZ22+AZ26","v":281},null,{"$f":"+BB22+BB26","v":3419},null,{"$f":"+BD22+BD26","v":139}]
["CICLO SUPERIOR PÚBLICA................."," ",{"$f":"+C23+C24","v":11296},null,{"$f":"+E23+E24","v":781},null,{"$f":"+G23+G24","v":125},null,{"$f":"+I23+I24","v":0},null,{"$f":"+K23+K24","v":502},null,{"$f":"+M23+M24","v":71},null,{"$f":"+O23+O24","v":127},null,{"$f":"+Q23+Q24","v":1500},{"$f":"+R23+R24","v":686},null,{"$f":"+T23+T24","v":244},{"$f":"+U23+U24","v":161},null,{"$f":"+W23+W24","v":0},{"$f":"+X23+X24","v":0},null,{"$f":"+Z23+Z24","v":1036},{"$f":"+AA23+AA24","v":546},null,{"$f":"+AC23+AC24","v":108},{"$f":"+AD23+AD24","v":0},null,{"$f":"+AF23+AF24","v":252},{"$f":"+AG23+AG24","v":137},null,null,"CICLO SUPERIOR PÚBLICA.................",null,{"$f":"+AL23+AL24","v":5020},null,{"$f":"+AN23+AN24","v":1614},null,{"$f":"+AP23+AP24","v":661},null,{"$f":"+AR23+AR24","v":77},null,{"$f":"+AT23+AT24","v":1445},null,{"$f":"+AV23+AV24","v":678},null,{"$f":"+AX23+AX24","v":264},null,{"$f":"+AZ23+AZ24","v":281},null,{"$f":"+BB23+BB24","v":0},null,{"$f":"+BD23+BD24","v":0}]
["  Diurna...................................."," ",{"$f":"+E23+G23+I23+K23+M23+O23+Q23+R23+T23+U23+W23+X23+Z23+AA23+AC23+AD23+AF23+AG23+AN23+AP23+AR23+AT23+AV23+AX23+AZ23+BB23+BD23","v":5020},null,0,null,0,null,0,null,0,null,0,null,0,null,0,0,null,0,0,null,0,0,null,0,0,null,0,0,null,0,0,null,null,"  Diurna...........................",null,{"$f":"SUM(AN23:BD23)","v":5020},null,1614,null,661,null,77,null,1445,null,678,null,264,null,281,null,0,null,0]
["  Nocturna............................................"," ",{"$f":"+E24+G24+I24+K24+M24+O24+Q24+R24+T24+U24+W24+X24+Z24+AA24+AC24+AD24+AF24+AG24+AN24+AP24+AR24+AT24+AV24+AX24+AZ24+BB24+BD24","v":6276},null,781,null,125,null,0,null,502,null,71,null,127,null,1500,686,null,244,161,null,0,0,null,1036,546,null,108,0,null,252,137,null,null,"  Nocturna.........................",null,{"$f":"SUM(AN24:BD24)","v":0},null,0,null,0,null,0,null,0,null,0,null,0,null,0,null,0,null,0]
[null," "]
["CICLO SUPERIOR PRIVADA.................."," ",{"$f":"+E26+G26+I26+K26+M26+O26+Q26+R26+T26+U26+W26+X26+Z26+AA26+AC26+AD26+AF26+AG26+AN26+AP26+AR26+AT26+AV26+AX26+AZ26+BB26+BD26","v":3558},null,0,null,0,null,0,null,0,null,0,null,0,null,0,0,null,0,0,null,0,0,null,0,0,null,0,0,null,0,0,null,null,"CICLO SUPERIOR PRIVADA.............",null,{"$f":"SUM(AN26:BD26)","v":3558},null,null,null,null,null,null,null,null,null,null,null,null,null,null,null,3419,null,139]
[null," "]
["RESTO DEL PAÍS......................"," ",{"$f":"+C29+C33","v":17889},null,{"$f":"+E29+E33","v":538},null,{"$f":"+G29+G33","v":24},null,{"$f":"+I29+I33","v":0},null,{"$f":"+K29+K33","v":375},null,{"$f":"+M29+M33","v":0},null,{"$f":"+O29+O33","v":11},null,{"$f":"+Q29+Q33","v":2237},{"$f":"+R29+R33","v":99},null,{"$f":"+T29+T33","v":81},{"$f":"+U29+U33","v":0},null,{"$f":"+W29+W33","v":0},{"$f":"+X29+X33","v":0},null,{"$f":"+Z29+Z33","v":1640},{"$f":"+AA29+AA33","v":114},null,{"$f":"+AC29+AC33","v":21},{"$f":"+AD29+AD33","v":0},null,{"$f":"+AF29+AF33","v":209},{"$f":"+AG29+AG33","v":0},null,null,"RESTO DEL PAÍS......................",null,{"$f":"+AL29+AL33","v":12540},null,{"$f":"+AN29+AN33","v":3978},null,{"$f":"+AP29+AP33","v":1122},null,{"$f":"+AR29+AR33","v":530},null,{"$f":"+AT29+AT33","v":3796},null,{"$f":"+AV29+AV33","v":1304},null,{"$f":"+AX29+AX33","v":428},null,{"$f":"+AZ29+AZ33","v":435},null,{"$f":"+BB29+BB33","v":941},null,{"$f":"+BD29+BD33","v":6}]
["CICLO SUPERIOR PÚBLICA................."," ",{"$f":"+C30+C31","v":16942},null,{"$f":"+E30+E31","v":538},null,{"$f":"+G30+G31","v":24},null,{"$f":"+I30+I31","v":0},null,{"$f":"+K30+K31","v":375},null,{"$f":"+M30+M31","v":0},null,{"$f":"+O30+O31","v":11},null,{"$f":"+Q30+Q31","v":2237},{"$f":"+R30+R31","v":99},null,{"$f":"+T30+T31","v":81},{"$f":"+U30+U31","v":0},null,{"$f":"+W30+W31","v":0},{"$f":"+X30+X31","v":0},null,{"$f":"+Z30+Z31","v":1640},{"$f":"+AA30+AA31","v":114},null,{"$f":"+AC30+AC31","v":21},{"$f":"+AD30+AD31","v":0},null,{"$f":"+AF30+AF31","v":209},{"$f":"+AG30+AG31","v":0},null,null,"CICLO SUPERIOR PÚBLICA.................",null,{"$f":"+AL30+AL31","v":11593},null,{"$f":"+AN30+AN31","v":3978},null,{"$f":"+AP30+AP31","v":1122},null,{"$f":"+AR30+AR31","v":530},null,{"$f":"+AT30+AT31","v":3796},null,{"$f":"+AV30+AV31","v":1304},null,{"$f":"+AX30+AX31","v":428},null,{"$f":"+AZ30+AZ31","v":435},null,{"$f":"+BB30+BB31","v":0},null,{"$f":"+BD30+BD31","v":0}]
["  Diurna...................................."," ",{"$f":"+E30+G30+I30+K30+M30+O30+Q30+R30+T30+U30+W30+X30+Z30+AA30+AC30+AD30+AF30+AG30+AN30+AP30+AR30+AT30+AV30+AX30+AZ30+BB30+BD30","v":11593},null,0,null,0,null,0,null,0,null,0,null,0,null,0,0,null,0,0,null,0,0,null,0,0,null,0,0,null,0,0,null,null,"  Diurna...........................",null,{"$f":"SUM(AN30:BD30)","v":11593},null,3978,null,1122,null,530,null,3796,null,1304,null,428,null,435,null,0,null,0]
["  Nocturna............................................"," ",{"$f":"+E31+G31+I31+K31+M31+O31+Q31+R31+T31+U31+W31+X31+Z31+AA31+AC31+AD31+AF31+AG31+AN31+AP31+AR31+AT31+AV31+AX31+AZ31+BB31+BD31","v":5349},null,538,null,24,null,0,null,375,null,0,null,11,null,2237,99,null,81,0,null,0,0,null,1640,114,null,21,0,null,209,0,null,null,"  Nocturna.........................",null,{"$f":"SUM(AN31:BD31)","v":0},null,0,null,0,null,0,null,0,null,0,null,0,null,0,null,0,null,0]
[null," "]
["CICLO SUPERIOR PRIVADA.................."," ",{"$f":"+E33+G33+I33+K33+M33+O33+Q33+R33+T33+U33+W33+X33+Z33+AA33+AC33+AD33+AF33+AG33+AN33+AP33+AR33+AT33+AV33+AX33+AZ33+BB33+BD33","v":947},null,0,null,0,null,0,null,0,null,0,null,0,null,0,0,null,0,0,null,0,0,null,0,0,null,0,0,null,0,0,null,null,"CICLO SUPERIOR PRIVADA.............",null,{"$f":"SUM(AN33:BD33)","v":947},null,null,null,null,null,null,null,null,null,null,null,null,null,null,null,941,null,6]
[null," "]
["Fuente: D.E. — C.E.S",null,null,null,null,null,null,null,null,null,null,null,null,null,null,null,null,null,null,null,null,null,null,null,null,null,null,null,null,null,null,null,null,null,null,"Fuente: D.E. — C.E.S",null,null,null,null,null,null,null,0]
["Nota:   La referencia \"Privada\" (incluye los Habilitados \"Liceo Naval\" y \"Liceo Militar\"), se corresponde con la de \"Liceos Habilitados\"",null,null,null,null,null,null,null,null,null,null,null,null,null,null,null,null,null,null,null,null,null,null,null,null,null,null,null,null,null,null,null,null,null,null,"Nota:   OTROS (*) Corresponde a los cursos de Bachillerato Internacional y Bachillerato Bicultural."]
["        presente en ediciones anteriores del Anuario Estadístico del MEC.",null,null,null,null,null,null,null,null,null,null,null,null,null,null,null,null,null,null,null,null,null,null,null,null,null,null,null,null,null,null,null,null,null,null,"        La referencia \"Privada\" (incluye los Habilitados \"Liceo Naval\" y \"Liceo Militar\"), se corresponde con la de \"Liceos Habilitados\""]
[null,null,null,null,null,null,null,null,null,null,null,null,null,null,null,null,null,null,null,null,null,null,null,null,null,null,null,null,null,null,null,null,null,null,null,"        presente en ediciones anteriores del Anuario Estadístico del MEC."]

{"sheet":"II_4_2_10","index":173,"n_rows":37,"n_cols":55,"rows_kept":37,"cut":false,"hidden":false,"merged":[[9,32,9,33],[0,15,1,30],[0,48,1,51],[6,5,6,33],[6,42,6,53],[7,5,8,15],[7,17,8,33],[7,35,8,35],[7,42,8,52],[9,17,9,18],[9,20,9,21],[9,23,9,24],[9,26,9,27],[9,29,9,30]]}
["CONSEJO DE EDUCACIÓN SECUNDARIA",null,null,null,null,null,null,null,null,null,null,null,null,null,null,"ALUMNOS MATRICULADOS",null,null,null,null,null,null,null,null,null,null,null,null,null,null,null,null,null,null,null,null,"CONSEJO DE EDUCACIÓN SECUNDARIA",null,null,null,null,null,null,null,null,null,null,null,"ALUMNOS MATRICULADOS"]
[]
["Cuadro Nº II-4.2.10",null,null,null,null,null,null,null,null,null,null,null,null,null,null,null,null,null,null,null,null,null,null,null,null,null,null,null,null,null,null,null,null,null,null,null,"Cuadro Nº II-4.2.10 (continuación)"]
[]
["ALUMNOS MATRICULADOS EN EL CES EN SEXTO GRADO DE EDUCACIÓN MEDIA PÚBLICA POR PLAN Y OPCIÓN SEGÚN DEPARTAMENTO. AÑO 2010.",null,null,null,null,null,null,null,null,null,null,null,null,null,null,null,null,null,null,null,null,null,null,null,null,null,null,null,null,null,null,null,null,null,null,null,"ALUMNOS MATRICULADOS EN EL CES EN SEXTO GRADO DE EDUCACIÓN MEDIA PÚBLICA POR PLAN Y OPCIÓN SEGÚN DEPARTAMENTO. AÑO 2010."]
[]
[null,null,null,null,null,null,null,null,null,null,null,null,null,null,null,null,null,null,null,null,null,null,null,null,null,null,null,null,null,null,null,null,null,null,null,null,null,null,null,null,null,null,"SEXTO GRADO"]
[null,null,null,null,null,"O P C I Ó N      P L A N  /76 ",null,null,null,null,null,null,null,null,null,null,null,"O P C I Ó N   P L A N /  94",null,null,null,null,null,null,null,null,null,null,null,null,null,null,null,null,null,null,null,null,null,null,null,null,"O P C I Ó N      P L A N  / R E F O R M U L A C I Ó N  2006"]
["DEPARTAMENTO",null,null,null,null,null,null,null,null,null,null,null,null,null,null,null,null,null,null,null,null,null,null,null,null,null,null,null,null,null,null,null,null,null,null,null,"DEPARTAMENTO"]
[null,null,null,null,null,null,null,null,null,null,null,null,null,null,null,null,null,"3º DER.",null,null,"3º ECO",null,null,"3º AGR.",null,null,"3º MED.",null,null,"3º ARQ.",null,null,"3º ING"]
[null,null,null,"TOTAL",null,"Derecho",null,"Economía",null,"Agronomía",null,"Medicina",null,"Arquitectura",null,"Ingeniería",null,"ANUAL","1ºSemestre",null,"ANUAL","1ºSemestre",null,"ANUAL","1ºSemestre",null,"ANUAL","1ºSemestre",null,"ANUAL","1ºSemestre",null,"ANUAL","1ºSemestre",null,null,null,null,null,"TOTAL",null,null,"SH",null,"SE",null,"CA",null,"CB",null,"FM",null,"MD",null,"AE"]
[]
["TOTAL.............",null," ",{"$f":"+D15+D16","v":28238},{"$f":"SUM(F13:Q13)","v":2554},{"$f":"F15+F16","v":1319},null,{"$f":"H15+H16","v":149},null,{"$f":"J15+J16","v":0},null,{"$f":"L15+L16","v":877},null,{"$f":"N15+N16","v":71},null,{"$f":"P15+P16","v":138},null,{"$f":"R15+R16","v":3737},{"$f":"S15+S16","v":785},null,{"$f":"U15+U16","v":325},{"$f":"V15+V16","v":161},null,{"$f":"X15+X16","v":0},{"$f":"Y15+Y16","v":0},null,{"$f":"AA15+AA16","v":2676},{"$f":"AB15+AB16","v":660},null,{"$f":"AD15+AD16","v":129},{"$f":"AE15+AE16","v":0},null,{"$f":"AG15+AG16","v":461},{"$f":"AH15+AH16","v":137},null,null,"TOTAL.............",null," ",{"$f":"+AN15+AN16","v":16613},null,null,{"$f":"AQ15+AQ16","v":5592},null,{"$f":"AS15+AS16","v":1783},null,{"$f":"AU15+AU16","v":607},null,{"$f":"AW15+AW16","v":5241},null,{"$f":"AY15+AY16","v":1982},null,{"$f":"BA15+BA16","v":692},null,{"$f":"BC15+BC16","v":716}]
[]
["MONTEVIDEO......................",null," ",{"$f":"+F15+H15+J15+L15+N15+P15+R15+S15+U15+V15+X15+Y15+AA15+AB15+AD15+AE15+AG15+AH15+AQ15+AS15+AU15+AW15+AY15+BA15+BC15","v":11296},null,781,null,125,null,0,null,502,null,71,null,127,null,1500,686,null,244,161,null,0,0,null,1036,546,null,108,0,null,252,137,null,null,"MONTEVIDEO......................",null," ",{"$f":"SUM(AQ15:BC15)","v":5020},null,null,1614,null,661,null,77,null,1445,null,678,null,264,null,281]
["RESTO DEL PAÍS......................",null," ",{"$f":"+F16+H16+J16+L16+N16+P16+R16+S16+U16+V16+X16+Y16+AA16+AB16+AD16+AE16+AG16+AH16+AQ16+AS16+AU16+AW16+AY16+BA16+BC16","v":16942},null,{"$f":"SUM(F18:F35)","v":538},null,{"$f":"SUM(H18:H35)","v":24},null,{"$f":"SUM(J18:J35)","v":0},null,{"$f":"SUM(L18:L35)","v":375},null,{"$f":"SUM(N18:N35)","v":0},null,{"$f":"SUM(P18:P35)","v":11},null,{"$f":"SUM(R18:R35)","v":2237},{"$f":"SUM(S18:S35)","v":99},null,{"$f":"SUM(U18:U35)","v":81},{"$f":"SUM(V18:V35)","v":0},null,{"$f":"SUM(X18:X35)","v":0},{"$f":"SUM(Y18:Y35)","v":0},null,{"$f":"SUM(AA18:AA35)","v":1640},{"$f":"SUM(AB18:AB35)","v":114},null,{"$f":"SUM(AD18:AD35)","v":21},{"$f":"SUM(AE18:AE35)","v":0},null,{"$f":"SUM(AG18:AG35)","v":209},{"$f":"SUM(AH18:AH35)","v":0},null,null,"RESTO DEL PAÍS......................",null," ",{"$f":"SUM(AN18:AN35)","v":11593},null,null,{"$f":"SUM(AQ18:AQ35)","v":3978},null,{"$f":"SUM(AS18:AS35)","v":1122},null,{"$f":"SUM(AU18:AU35)","v":530},null,{"$f":"SUM(AW18:AW35)","v":3796},null,{"$f":"SUM(AY18:AY35)","v":1304},null,{"$f":"SUM(BA18:BA35)","v":428},null,{"$f":"SUM(BC18:BC35)","v":435}]
[]
["Artigas...........",null," ",813,null,0,null,0,null,0,null,0,null,0,null,0,null,167,0,null,0,0,null,0,0,null,83,0,null,0,0,null,0,0,null,null,"Artigas...........",null," ",{"$f":"SUM(AQ18:BC18)","v":563},null,null,223,null,48,null,0,null,197,null,59,null,16,null,20]
["Canelones.........",null," ",4094,null,59,null,6,null,0,null,13,null,0,null,11,null,759,0,null,57,0,null,0,0,null,490,0,null,0,0,null,112,0,null,null,"Canelones.........",null," ",{"$f":"SUM(AQ19:BC19)","v":2587},null,null,834,null,306,null,85,null,753,null,350,null,135,null,124]
["Cerro Largo.......",null," ",782,null,95,null,0,null,0,null,57,null,0,null,0,null,39,0,null,0,0,null,0,0,null,25,0,null,0,0,null,13,0,null,null,"Cerro Largo.......",null," ",553,null,null,226,null,56,null,39,null,167,null,33,null,16,null,16]
["Colonia...........",null," ",1247,null,59,null,0,null,0,null,55,null,0,null,0,null,179,0,null,0,0,null,0,0,null,150,0,null,0,0,null,0,0,null,null,"Colonia...........",null," ",804,null,null,245,null,93,null,70,null,203,null,105,null,51,null,37]
["Durazno...........",null," ",575,null,0,null,0,null,0,null,0,null,0,null,0,null,100,0,null,0,0,null,0,0,null,48,0,null,0,0,null,0,0,null,null,"Durazno...........",null," ",427,null,null,161,null,44,null,29,null,122,null,42,null,18,null,11]
["Flores............",null," ",287,null,0,null,0,null,0,null,0,null,0,null,0,null,46,0,null,0,0,null,0,0,null,60,0,null,0,0,null,0,0,null,null,"Flores............",null," ",181,null,null,56,null,12,null,14,null,59,null,24,null,12,null,4]
["Florida...........",null," ",531,null,68,null,0,null,0,null,61,null,0,null,0,null,0,0,null,0,0,null,0,0,null,0,0,null,0,0,null,0,0,null,null,"Florida...........",null," ",402,null,null,169,null,20,null,4,null,139,null,45,null,18,null,7]
["Lavalleja.........",null," ",523,null,59,null,0,null,0,null,36,null,0,null,0,null,0,0,null,0,0,null,0,0,null,0,0,null,0,0,null,0,0,null,null,"Lavalleja.........",null," ",428,null,null,160,null,34,null,23,null,163,null,22,null,14,null,12]
["Maldonado.........",null," ",1185,null,88,null,18,null,0,null,69,null,0,null,0,null,101,0,null,12,0,null,0,0,null,78,0,null,0,0,null,6,0,null,null,"Maldonado.........",null," ",813,null,null,276,null,80,null,18,null,235,null,104,null,43,null,57]
["Paysandú..........",null," ",861,null,0,null,0,null,0,null,0,null,0,null,0,null,98,0,null,12,0,null,0,0,null,99,0,null,0,0,null,17,0,null,null,"Paysandú..........",null," ",635,null,null,208,null,55,null,35,null,248,null,59,null,9,null,21]
["Río Negro.........",null," ",463,null,0,null,0,null,0,null,0,null,0,null,0,null,104,0,null,0,0,null,0,0,null,71,0,null,0,0,null,0,0,null,null,"Río Negro.........",null," ",288,null,null,84,null,26,null,14,null,103,null,37,null,8,null,16]
["Rivera............",null," ",1010,null,0,null,0,null,0,null,0,null,0,null,0,null,48,99,null,0,0,null,0,0,null,0,114,null,9,0,null,25,0,null,null,"Rivera............",null," ",715,null,null,328,null,58,null,26,null,217,null,59,null,7,null,20]
["Rocha.............",null," ",576,null,39,null,0,null,0,null,35,null,0,null,0,null,33,0,null,0,0,null,0,0,null,0,0,null,0,0,null,0,0,null,null,"Rocha.............",null," ",469,null,null,146,null,44,null,19,null,180,null,51,null,15,null,14]
["Salto............. ",null," ",1142,null,0,null,0,null,0,null,0,null,0,null,0,null,129,0,null,0,0,null,0,0,null,144,0,null,12,0,null,22,0,null,null,"Salto............. ",null," ",835,null,null,279,null,66,null,45,null,326,null,80,null,30,null,9]
["San José..........",null," ",842,null,0,null,0,null,0,null,0,null,0,null,0,null,133,0,null,0,0,null,0,0,null,184,0,null,0,0,null,0,0,null,null,"San José..........",null," ",525,null,null,139,null,47,null,34,null,179,null,89,null,5,null,32]
["Soriano...........",null," ",766,null,0,null,0,null,0,null,0,null,0,null,0,null,178,0,null,0,0,null,0,0,null,108,0,null,0,0,null,14,0,null,null,"Soriano...........",null," ",466,null,null,116,null,57,null,26,null,186,null,56,null,12,null,13]
["Tacuarembó........",null," ",818,null,0,null,0,null,0,null,0,null,0,null,0,null,123,0,null,0,0,null,0,0,null,100,0,null,0,0,null,0,0,null,null,"Tacuarembó........",null," ",595,null,null,195,null,50,null,41,null,215,null,62,null,15,null,17]
["Treinta y Tres....",null," ",427,null,71,null,0,null,0,null,49,null,0,null,0,null,0,0,null,0,0,null,0,0,null,0,0,null,0,0,null,0,0,null,null,"Treinta y Tres....",null," ",307,null,null,133,null,26,null,8,null,104,null,27,null,4,null,5]
["Fuente: D.E. — C.E.S.",null,null,null,null,null,null,null,null,null,null,null,null,null,null,null,null,null,null,null,null,null,null,null,null,null,null,null,null,null,null,null,"(Continúa)"]
[null,null,null,null,null,null,null,null,null,null,null,null,null,null,null,null,null,null,null,null,null,null,null,null,null,null,null,null,null,null,null,null,null,null,null,null,"Fuente: D.E. — C.E.S."]

{"sheet":"II-4.2.11 ","index":174,"n_rows":35,"n_cols":11,"rows_kept":35,"cut":false,"hidden":false,"merged":[[36,0,36,11],[35,0,35,11],[6,3,7,8],[7,0,7,1],[0,8,1,10],[4,0,4,10]]}
["CONSEJO DE EDUCACIÓN SECUNDARIA",null,null,null,null,null,null,null,"ALUMNOS MATRICULADOS"]
[]
["Cuadro Nº II-4.2.11"]
[]
["ALUMNOS MATRICULADOS DE SEXTO GRADO DE CICLO SUPERIOR DE EDUCACIÓN SECUNDARIA PRIVADA POR OPCIÓN SEGÚN DEPARTAMENTO. AÑO 2010."]
[]
[null,null,null," TODOS LOS PLANES OPCIÓN",null,null,null,null,null,null,"B.INT."]
["DEPARTAMENTO",null,null,null,null,null,null,null,null,null,"y/o BICUL."]
[null,null,"TOTAL","Social Humanístico","Social Economía","Ciencias Agrarias","Ciencias Biológicas","Físico Matemática","Matemática Diseño","Arte y Expresión","Otros (*)"]
["TOTAL.............",null,{"$f":"+C12+C13","v":4505},{"$f":"D12+D13","v":963},{"$f":"E12+E13","v":814},157,919,694,558,255,145]
[]
["MONTEVIDEO......................",null,{"$f":"+D12+E12+F12+G12+H12+I12+K12+J12","v":3558},755,687,110,639,572,441,215,139]
["RESTO DEL PAÍS......................",null,{"$f":"+D13+E13+F13+G13+H13+I13+K13+J13","v":947},{"$f":"SUM(D15:D32)","v":208},{"$f":"SUM(E15:E32)","v":127},47,280,122,117,40,6]
[]
["Artigas...........",null,{"$f":"+D15+E15+F15+G15+H15+I15+K15+J15","v":0},0,0,0,0,0,0,0,0]
["Canelones.........",null,300,53,45,22,72,46,41,21,0]
["Cerro Largo.......",null,0,0,0,0,0,0,0,0,0]
["Colonia...........",null,0,0,0,0,0,0,0,0,0]
["Durazno...........",null,0,0,0,0,0,0,0,0,0]
["Flores............",null,0,0,0,0,0,0,0,0,0]
["Florida...........",null,31,3,3,0,17,2,6,0,0]
["Lavalleja.........",null,13,6,0,0,7,0,0,0,0]
["Maldonado.........",null,406,109,41,13,121,46,51,19,6]
["Paysandú..........",null,90,22,19,9,22,5,13,0,0]
["Río Negro.........",null,0,0,0,0,0,0,0,0,0]
["Rivera............",null,19,0,11,0,8,0,0,0,0]
["Rocha.............",null,0,0,0,0,0,0,0,0,0]
["Salto............. ",null,11,5,0,0,6,0,0,0,0]
["San José..........",null,33,3,2,0,9,15,4,0,0]
["Soriano...........",null,0,0,0,0,0,0,0,0,0]
["Tacuarembó........",null,44,7,6,3,18,8,2,0,0]
["Treinta y Tres....",null,0,0,0,0,0,0,0,0,0]
[]
["Fuente: D.E. — C.E.S."]
["Nota:   Otros (*) Corresponde a los cursos de Bachillerato Internacional y Bachillerato Bicultural."]

{"sheet":"II-4.3.1 ","index":175,"n_rows":51,"n_cols":7,"rows_kept":51,"cut":false,"hidden":false,"merged":[[0,5,1,6],[4,0,4,6],[6,0,7,0],[6,1,7,1],[6,2,6,3],[6,4,7,4],[6,5,6,6]]}
["CONSEJO DE EDUCACIÓN SECUNDARIA",null,null,null,null,"PERSONAL DOCENTE"]
[]
["Cuadro Nº II-4.3.1"]
[]
["PERSONAL DOCENTE Y HORAS DOCENTES DE EDUCACIÓN MEDIA SUPERIOR PÚBLICA POR TITULACIÓN SEGÚN ASIGNATURAS. AÑO 2010."]
[]
["ASIGNATURAS","TOTAL DOCENTES","PERSONAL DOCENTE",null,"TOTAL HORAS ","HORAS DOCENTES"]
[null,null,"Titulados","No Titulados",null,"Titulados","No Titulados"]
["TOTAL............................................",{"$f":"SUM(C9:D9)","v":6796},{"$f":"SUM(C10:C49)","v":4443},{"$f":"SUM(D10:D49)","v":2353},{"$f":"SUM(F9:G9)","v":82171},{"$f":"SUM(F10:F49)","v":56731},{"$f":"SUM(G10:G49)","v":25440}]
["ASTRONOMIA..................................................................",{"$f":"+C10+D10","v":29},5,24,{"$f":"+F10+G10","v":212},60,152]
["BIOLOGIA..................................................................",{"$f":"+C11+D11","v":589},499,90,{"$f":"+F11+G11","v":6914},5964,950]
["CONTABILIDAD..................................................................",140,18,122,1179,156,1023]
["DIBUJO..................................................................",284,161,123,2646,1613,1033]
["EDUCACION FISICA..................................................................",136,97,39,1134,835,299]
["EDUCACION MUSICAL..................................................................",53,23,30,462,209,253]
["ED Y CIVICA -DERECHO-..................................................................",577,478,99,6845,5954,891]
["FILOSOFIA..................................................................",494,364,130,6018,4871,1147]
["FISICA..................................................................",468,282,186,7227,4525,2702]
["FRANCES..................................................................",4,3,1,70,50,20]
["GEOGRAFIA..................................................................",173,148,25,1454,1221,233]
["HISTORIA..................................................................",563,502,61,6495,5877,618]
["IDIOMA ESPAÑOL..................................................................",9,5,4,149,107,42]
["INGLES..................................................................",483,185,298,6115,2834,3281]
["ITALIANO..................................................................",73,29,44,798,366,432]
["LITERATURA..................................................................",570,461,109,6563,5568,995]
["FISICO - QUIMICA..................................................................",6,3,3,84,43,41]
["MATEMATICA..................................................................",974,473,501,15965,8683,7282]
["QUIMICA..................................................................",462,340,122,7288,5503,1785]
["REC.NATUR.Y PAISAJE AGRARIA..................................................................",46,32,14,112,74,38]
["GEOLOGIA..................................................................",11,5,6,56,37,19]
["DIRECTOR DE COROS..................................................................",22,8,14,178,66,112]
["PIANISTA ACOMPA･ANTE..................................................................",15,3,12,96,20,76]
["INFORMATICA..................................................................",116,28,88,1028,262,766]
["*** EDUCACION VISUAL-DIBUJO..................................................................",0,0,0,0,0,0]
["LENG.COMU.Y MEDIOS AUDIOVISUAL..................................................................",31,11,20,147,36,111]
["ESTUDIOS ECONOMICOS Y SOCIALES..................................................................",201,173,28,1342,1187,155]
["LABORATORIO INFORMATICA EDUCAT..................................................................",7,1,6,70,16,54]
["MANUALIDADES..................................................................",0,0,0,0,0,0]
["LENGUA ALEMAN..................................................................",1,0,1,4,0,4]
["TEATRO..................................................................",43,11,32,218,51,167]
["LENGUAS PORTUGUES..................................................................",0,0,0,0,0,0]
["EXPRESION CORPORAL Y TEATRO..................................................................",45,13,32,192,52,140]
["EXPRESION CORPORAL Y DANZA..................................................................",35,6,29,211,32,179]
["ACT.ADAPTADAS AL MEDIO AMBIENT..................................................................",0,0,0,0,0,0]
["ECONOMIA..................................................................",128,75,53,862,453,409]
["ESPACIO CURRICULAR ABIERTO..................................................................",6,1,5,25,6,19]
["ESPACIO ADOLESCENTE..................................................................",0,0,0,0,0,0]
["TALLER DE ARTES PLASTICAS..................................................................",0,0,0,0,0,0]
["LENGUA DE SEÑAS..................................................................",2,0,2,12,0,12]
["Fuente: Departamento de Computación - División Hacienda — C.E.S."]
["Nota: Los docentes que dictan más de una asignatura son considerados como personas distintas en cada asignatura."]

{"sheet":"II-4.3.2","index":176,"n_rows":17,"n_cols":3,"rows_kept":17,"cut":false,"hidden":false,"merged":[[0,2,1,3],[4,0,4,3],[5,0,6,0],[5,1,6,1]]}
["CONSEJO DE EDUCACIÓN TÉCNICO PROFESIONAL (U.T.U.)",null,"PERSONAL DOCENTE"]
[]
["Cuadro Nº II-3.3.2"]
[]
["PERSONAL DOCENTE EN EDUCACIÓN MEDIA SUPERIOR TECNOLÓGICA POR TIPO DE CURSO. AÑO 2010."]
["EDUCACIÓN MEDIA SUPERIOR","TOTAL"]
[]
[]
["TOTAL",{"$f":"SUM(B10:B16)","v":6127}]
["Bachillerato Figari",32]
["Bachillerato Profesional",301]
["E.M.P Especialización",22]
["Educación Media Profesional",2592]
["Educación Media Tecnológica",3078]
["Curso de Articulación",98]
["Curso Técnico",4]
["Fuente: U.T.U. División Informática."]

{"sheet":"II-4.4.1","index":177,"n_rows":38,"n_cols":6,"rows_kept":38,"cut":false,"hidden":false,"merged":[[33,0,33,7],[0,4,1,6],[4,0,4,7],[8,2,8,3],[8,5,8,6],[6,2,6,7],[5,0,8,0]]}
["CONSEJO DE EDUCACIÓN SECUNDARIA",null,null,null,"GRUPOS"]
[]
["Cuadro Nº II-4.4.1"]
[]
["GRUPOS DE EDUCACIÓN MEDIA SUPERIOR COMPARADOS CON EL TOTAL DE AMBOS CICLOS SEGÚN GRANDES ÁREAS Y FORMA DE ADMINISTRACIÓN. AÑO 2010."]
["GRANDES ÁREAS Y FORMA DE ADMINISTRACIÓN"]
[null,null,"FORMA DE ADMINISTRACIÓN"]
[]
[null,null,"Grupos",null,null,"Total de Grupos en ambos Ciclos"]
[]
["TOTAL DEL PAÍS....................................."," ",{"$f":"+C19+C26","v":4124},null,null,{"$f":"+F19+F26","v":9321}]
[]
["CICLO SUPERIOR PÚBLICA................."," ",{"$f":"+C14+C15","v":2970},null,null,{"$f":"+F14+F15","v":7142}]
["  Diurna...................................."," ",{"$f":"+C21+C28","v":2396},null,null,{"$f":"+F21+F28","v":6237}]
["  Nocturna............................................"," ",{"$f":"+C22+C29","v":574},null,null,{"$f":"+F22+F29","v":905}]
[]
["CICLO SUPERIOR PRIVADA................"," ",{"$f":"+C24+C31","v":1154},null,null,{"$f":"+F24+F31","v":2179}]
[null," "]
["TOTAL MONTEVIDEO....................","  ",{"$f":"+C20+C24","v":1668},null,null,{"$f":"+F20+F24","v":3586}]
["CICLO SUPERIOR PÚBLICA.................","  ",{"$f":"+C21+C22","v":860},null,null,{"$f":"+F21+F22","v":2141}]
["  Diurna....................................","  ",629,null,null,1787]
["  Nocturna............................................","  ",231,null,null,354]
[null,"  "]
["CICLO SUPERIOR PRIVADA..................","  ",808,null,null,1445]
[null,"  "]
["TOTAL RESTO DEL PAÍS......................","  ",{"$f":"+C27+C31","v":2456},null,null,{"$f":"+F27+F31","v":5735}]
["CICLO SUPERIOR PÚBLICA.................","  ",{"$f":"+C28+C29","v":2110},null,null,{"$f":"+F28+F29","v":5001}]
["  Diurna....................................","  ",1767,null,null,4450]
["  Nocturna............................................","  ",343,null,null,551]
[]
["CICLO SUPERIOR PRIVADA..................","  ",346,null,null,734]
[]
["Fuente: D.E. — C.E.S."]
["Nota: El “Total de ambos Ciclos” presenta de manera agregada la cantidad  total de grupos con que cuente Educación Secundaria y es el resultado de adicionar al total de Grupos del presente cuadro (Ciclo Superior de Educación Secundaria), el total de los grupos presentados en el Cuadro II-3.4.1 (Ciclo Básico de Educación Secundaria)."]
["       "]
["        "]
["        "]
["        "]

{"sheet":"OFERTA TER. NO UNIVERSITARIA","index":178,"n_rows":48,"n_cols":1,"rows_kept":48,"cut":false,"hidden":false,"merged":[[44,0,44,4],[42,0,42,4],[47,0,47,4],[71,0,71,4],[73,0,73,4],[59,0,59,4],[61,0,61,4],[63,0,63,4],[65,0,65,4],[67,0,67,4],[69,0,69,4],[27,0,27,4],[39,0,39,4],[9,0,9,4],[14,0,14,4],[19,0,19,4],[24,0,24,4],[12,0,12,4],[17,0,17,4],[22,0,22,4],[37,0,37,4],[29,0,29,4],[34,0,34,4],[32,0,32,4]]}
[]
[]
[]
[]
[]
[]
[]
[]
[]
["OFERTA TERCIARIA NO UNIVERSITARIA"]
[]
["Cuadro II-5.1.1"]
[{"$f":"'II-5.1.1 '!A5:E5","v":"MATRÍCULA Y PERSONAL DOCENTE POR SEXO SEGÚN GRANDES ÁREAS, DEPARTAMENTOS E INSTITUCIONES. AÑO 2010."}]
[]
["DIRECCIÓN DE FORMACIÓN Y PERFECCIONAMIENTO DOCENTE"]
[]
["Cuadro II-5.2.1"]
[{"$f":"'II-5.2.1 '!A5:U5","v":"ALUMNOS INGRESADOS Y MATRICULADOS EN FORMACIÓN DOCENTE POR CARRERA SEGÚN DEPARTAMENTO Y ESTABLECIMIENTO. AÑO 2010."}]
[]
["OFERTAS TERCIARIAS NO UNIVERSITARIAS DEL ÁREA SEGURIDAD Y DEFENSA"]
[]
["Cuadro II-5.2.2"]
[{"$f":"'II-5.2.2 '!A5:J5","v":"ALUMNOS INGRESADOS, MATRICULADOS Y EGRESADOS EN NIVEL TERCIARIO NO UNIVERSITARIO DEL ÁREA SEGURIDAD Y DEFENSA POR SEXO SEGÚN INSTITUCIÓN Y CARRERA. AÑO 2010."}]
[]
["OTRAS OFERTAS TERCIARIAS NO UNIVERSITARIAS"]
[]
["Cuadro II-5.2.3"]
[{"$f":"'II-5.2.3 '!A5:J5","v":"ALUMNOS INGRESADOS, MATRICULADOS Y EGRESADOS EN OTRAS OFERTAS DE NIVEL TERCIARIO NO UNIVERSITARIO POR SEXO SEGÚN INSTITUCIÓN Y CARRERA. AÑO 2010."}]
[]
["OTRAS OFERTAS TERCIARIAS NO UNIVERSITARIAS"]
[]
["Cuadro II-5.2.4"]
[{"$f":"'II-5.2.4'!A5","v":"ALUMNOS MATRICULADOS EN FORMACIÓN DOCENTE POR CARRERA Y GRADO SEGÚN DEPARTAMENTO Y ESTABLECIMIENTOS. AÑO 2010."}]
[]
["OFERTAS TERCIARIAS NO UNIVERSITARIAS DEL ÁREA SEGURIDAD Y DEFENSA"]
[]
["Cuadro II-5.3.1"]
[{"$f":"'II-5.3.1 '!A5:D5","v":"FUNCIONARIOS DE LOS INSTITUTOS DE FORMACIÓN DOCENTE POR TIPO DE FUNCIÓN SEGÚN INSTITUCIÓN.AÑO 2010."}]
[]
["PERSONAL ACADÉMICO DE NIVEL NO UNIVERSITARIO DEL ÁREA SEGURIDAD Y DEFENSA"]
[]
["Cuadro II-5.3.2"]
[{"$f":"'II-5.3.2'!A5:L5","v":"PERSONAL ACADÉMICO DE NIVEL TERCIARIO NO UNIVERSITARIO DEL ÁREA SEGURIDAD Y DEFENSA POR CARGA HORARIA, SEXO, SEGÚN INSTITUCIÓN Y FORMACIÓN. AÑO 2010."}]
[]
["OTRAS OFERTAS TERCIARIAS NO UNIVERSITARIAS "]
[]
["Cuadro II-5.3.3"]
[{"$f":"'II-5.3.3'!A5:L5","v":"PERSONAL ACADÉMICO DE NIVEL TERCIARIO NO UNIVERSITARIO POR CARGA HORARIA SEMANAL, SEXO, SEGÚN INSTITUCIÓN Y FORMACIÓN AÑO 2010."}]

{"sheet":"II-5.1.1 ","index":179,"n_rows":113,"n_cols":5,"rows_kept":113,"cut":false,"hidden":false,"merged":[[116,0,117,5],[64,4,68,4],[65,2,66,3],[67,2,68,2],[64,1,68,1],[64,0,68,0],[112,0,114,4],[63,0,63,4],[6,2,7,3],[64,2,64,3],[67,3,68,3],[5,1,9,1],[5,0,9,0],[0,3,1,4],[59,3,60,4],[5,2,5,3],[4,0,4,4],[8,2,9,2],[8,3,9,3],[5,4,9,4]]}
["OFERTA TERCIARIA NO UNIVERSITARIA",null,null,"INSTITUCIONES"]
[]
["Cuadro Nº II-5.1.1"]
[]
["MATRÍCULA Y PERSONAL DOCENTE POR SEXO SEGÚN GRANDES ÁREAS, DEPARTAMENTOS E INSTITUCIONES. AÑO 2010."]
["GRANDES ÁREAS / DEPARTAMENTO / INSTITUCIÓN","TOTAL","MATRICULA",null,"DOCENTES"]
[null,null,"SEXO"]
[]
[null,null,"M","F"]
[]
[]
["TOTAL........................................",{"$f":"+B14+B29","v":27740},"-","-",{"$f":"+E14+E29","v":3322}]
[]
["MONTEVIDEO...............................",{"$f":"SUM(B16:B27)","v":14566},"-","-",{"$f":"SUM(E16:E27)","v":1525}]
[]
["I.I.N.N......................................",2765,"-","-",249]
["I.P.A .......................................",5914,"-","-",538]
["I.N.E.T.............................................",489,"-","-",96]
["ESCUELA NAVAL..........................",{"$f":"C19+D19","v":73},53,20,128]
["ESCUELA NACIONAL DE POLICÍA..........................",{"$f":"C20+D20","v":275},215,60,101]
["ESCUELA MILITAR..........................",172,152,20,102]
["ESCUELA MILITAR DE AERONÁUTICA..........................",83,71,12,124]
["E.M.A.D....................................",91,25,66,35]
["I.N.A.U.....................................",464,75,389,36]
["C.I.E.P....................................",48,0,48,29]
["CALEN.......................................",105,58,47,87]
["UTU.......................................",4087,1539,2548,"s/d"]
[]
["RESTO DEL PAÍS.....................................",{"$f":"+B31+B34+B38+B40+B44+B47+B50+B54+B70+B74+B77+B80+B84+B86+B90+B92+B95+B98","v":13174},"-","-",{"$f":"+E31+E34+E38+E40+E44+E47+E50+E54+E70+E74+E77+E80+E84+E86+E90+E92+E95+E98","v":1797}]
[]
["Artigas......................................................",{"$f":"SUM(B32:B33)","v":458},"-","-",{"$f":"+E32+E33","v":72}]
["  IFD.............................................",378,"-","-",72]
["  UTU.............................................",{"$f":"+C33+D33","v":80},36,44,"s/d"]
["Canelones........................................",{"$f":"SUM(B35:B37)","v":1621},"-","-",{"$f":"E35+E36+E37","v":311}]
["  IFD .............................................",1133,"-","-",208]
["  CERP.............................................",289,"-","-",103]
["  UTU.............................................",{"$f":"+C37+D37","v":199},108,91,"s/d"]
["Cerro Largo - IFD.........................",447,"-","-",65]
["  UTU.............................................",{"$f":"+C39+D39","v":88},53,35,"s/d"]
["Colonia......................................................",{"$f":"SUM(B41:B43)","v":1133},"-","-",{"$f":"SUM(E41:E43)","v":172}]
["  IFD.............................................",497,"-","-",79]
["  CERP.............................................",397,"-","-",93]
["  UTU.............................................",{"$f":"+C43+D43","v":239},103,136,"s/d"]
["Durazno...................................................",{"$f":"B45+B46","v":493},"-","-",{"$f":"E45+E46","v":52}]
["  IFD .....................................................",453,"-","-",52]
["  UTU.....................................................",{"$f":"+C46+D46","v":40},20,20,"s/d"]
["Flores.......................................................",{"$f":"SUM(B48:B49)","v":187},{"$f":"SUM(C48:C49)","v":24},{"$f":"SUM(D48:D49)","v":67},{"$f":"E48+E49","v":33}]
["  IFD.............................................",96,"-","-",33]
["  UTU.............................................",{"$f":"+C49+D49","v":91},24,67,"s/d"]
["Florida......................................................",{"$f":"SUM(B51:B53)","v":643},{"$f":"SUM(C51:C53)","v":28},{"$f":"SUM(D51:D53)","v":36},{"$f":"E51+E52","v":147}]
["  IFD.............................................",335,"-","-",50]
["  CERP.............................................",244,"-","-",97]
["  UTU.............................................",{"$f":"+C53+D53","v":64},28,36,"s/d"]
["Lavalleja....................................",{"$f":"SUM(B55:B56)","v":266},{"$f":"+C55+C56","v":8},{"$f":"+D55+D56","v":10},{"$f":"E55+E56","v":54}]
["  IFD.............................................",248,"-","-",54]
["  UTU.............................................",{"$f":"+C56+D56","v":18},8,10,"s/d"]
[null,null,null,null,"(Continúa)"]
[]
[]
["OFERTA TERCIARIA NO UNIVERSITARIA",null,null,"INSTITUCIONES"]
[]
["Cuadro Nº II-5.1.1 (continuación)"]
[]
["MATRÍCULA Y PERSONAL DOCENTE POR SEXO SEGÚN GRANDES ÁREAS, DEPARTAMENTOS E INSTITUCIONES. AÑO 2010."]
["GRANDES ÁREAS / DEPARTAMENTO / INSTITUCIÓN","TOTAL",null,null,"DOCENTES"]
[]
[]
[null,null,"M","F"]
[]
["Maldonado ..................................",{"$f":"SUM(B71:B73)","v":620},"-","-",{"$f":"E71+E72+E73","v":147}]
["  IFD .............................................",189,"-","-",61]
["  CERP .............................................",290,"-","-",86]
["  UTU.............................................",{"$f":"+C73+D73","v":141},69,72,"s/d"]
["Paysandú.....................................",{"$f":"SUM(B75:B76)","v":938},{"$f":"SUM(C75:C76)","v":76},{"$f":"SUM(D75:D76)","v":240},{"$f":"E75+E76","v":87}]
["  IFD.............................................",622,"-","-",87]
["  UTU.............................................",{"$f":"+C76+D76","v":316},76,240,"s/d"]
["Río Negro...................................",{"$f":"SUM(B78:B79)","v":389},{"$f":"SUM(C78:C79)","v":27},{"$f":"SUM(D78:D79)","v":23},{"$f":"E78+E79","v":37}]
["  IFD.............................................",339,"-","-",37]
["  UTU.............................................",{"$f":"+C79+D79","v":50},27,23,"s/d"]
["Rivera......................................................",{"$f":"SUM(B81:B83)","v":1178},{"$f":"SUM(C81:C83)","v":95},{"$f":"SUM(D81:D83)","v":119},{"$f":"+E81+E82+E83","v":153}]
["  IFD.............................................",516,"-","-",75]
["  CERP .............................................",448,"-","-",78]
["  UTU.............................................",{"$f":"+C83+D83","v":214},95,119,"s/d"]
["Rocha.................................",{"$f":"SUM(B85:B85)","v":309},{"$f":"SUM(C85:C85)","v":0},{"$f":"SUM(D85:D85)","v":0},{"$f":"E85","v":59}]
["  IFD.....................................................",309,"-","-",59]
["Salto........................................",{"$f":"SUM(B87:B89)","v":1726},{"$f":"SUM(C87:C89)","v":83},{"$f":"SUM(D87:D89)","v":184},{"$f":"E87+E88+E89","v":163}]
["  IFD .............................................",697,"-","-",68]
["  CERP.............................................",762,"-","-",95]
["  UTU.............................................",{"$f":"+C89+D89","v":267},83,184,"s/d"]
["San José...................................................",231,"-","-",61]
["  UTU.............................................",{"$f":"+C91+D91","v":32},22,10,"s/d"]
["Soriano......................................................",{"$f":"SUM(B93:B94)","v":569},{"$f":"SUM(C93:C94)","v":56},{"$f":"SUM(D93:D94)","v":58},{"$f":"E93+E94","v":47}]
["  IFD .............................................",455,"-","-",47]
["  UTU.............................................",{"$f":"+C94+D94","v":114},56,58,"s/d"]
["Tacuarembó...................................................",{"$f":"SUM(B96:B97)","v":1114},{"$f":"SUM(C96:C97)","v":36},{"$f":"SUM(D96:D97)","v":48},{"$f":"E96+E97","v":75}]
["  IFD .............................................",1030,"-","-",75]
["  UTU.............................................",{"$f":"+C97+D97","v":84},36,48,"s/d"]
["Treinta y Tres.........................",{"$f":"SUM(B99:B100)","v":852},"-","-",62]
["  IFD .............................................",818,"-","-",62]
["  UTU.............................................",{"$f":"+C100+D100","v":34},13,21,"s/d"]
[]
["Fuente: Informática - D.F.P.D. "]
["        Gestión Educativa - Escuela Naval. "]
["        Jefatura de Estudios - Escuela Nacional de Policía. "]
["        Escuela Militar."]
["        Departamento de Bedelía - Escuela Militar de Aeronáutica. "]
["        Secretaría General - E.M.A.D. "]
["        CEN.FOR.ES - I.N.A.U. "]
["        C.D.I"]
["        C.I.E.P"]
["        Secretaría General - CALEN. "]
["        D.E. - U.T.U"]
["Nota: No se dispone de datos para el año 2010 de INN IPA INET y Formación Docente, incorporándose el último dato disponible. (último dato disponible 2009). INAU (último dato disponible 2008) "]

{"sheet":"II-5.2.1 ","index":180,"n_rows":55,"n_cols":21,"rows_kept":55,"cut":false,"hidden":false,"merged":[[0,15,1,20],[54,0,54,20],[55,0,55,20],[6,15,6,20],[7,15,7,18],[8,18,9,19],[4,0,4,20],[5,8,5,20],[5,0,9,1],[8,15,9,16],[5,3,7,7],[8,3,9,4],[8,6,9,7],[7,9,7,13],[8,9,9,10],[8,12,9,13]]}
["DIRECCIÓN DE FORMACIÓN Y PERFECCIONAMIENTO DOCENTE",null,null,null,null,null,null,null,null,null,null,null,null,null,null,"ALUMNOS MATRICULADOS"]
[]
["Cuadro Nº II-5.2.1"]
[]
["ALUMNOS INGRESADOS Y MATRICULADOS EN FORMACIÓN DOCENTE POR CARRERA SEGÚN DEPARTAMENTO Y ESTABLECIMIENTO. AÑO 2010."]
["DEPARTAMENTO / ESTABLECIMIENTO",null,null,"TOTAL",null,null,null,null,"CARRERA"]
[]
[null,null,null,null,null,null,null,null,null,"Magisterio",null,null,null,null,null,"Profesorado"]
[null,null,null,"Ingr.",null,null,"Matr.",null,null,"Ingr.",null,null,"Matr.",null,null,"Ingr.",null,null,"Matr."]
[]
[]
["TOTAL........................................",null," ",{"$f":"+D14+D18","v":8054},null,null,{"$f":"+G14+G18","v":20391},null,null,{"$f":"+J14+J18","v":1841},null,null,{"$f":"+M14+M18","v":7053},null,null,{"$f":"+P14+P18","v":6213},null,null,{"$f":"+S14+S18","v":13338}]
[null,null," "]
["MONTEVIDEO...............................",null," ",{"$f":"SUM(D15:D17)","v":3683},null,null,{"$f":"SUM(G15:G17)","v":9168},null,null,{"$f":"SUM(J15:J17)","v":464},null,null,{"$f":"SUM(M15:M17)","v":2765},null,null,{"$f":"SUM(P15:P17)","v":3219},null,null,{"$f":"SUM(S15:S17)","v":6403}]
["                I.I.N.N......................................",null," ",{"$f":"J15+P15","v":464},null,null,{"$f":"M15+S15","v":2765},null,null,464,null,null,2765,null,null,"N/C",null,null,"N/C"]
["                I.P.A ........................................",null," ",2865,null,null,5914,null,null,"N/C",null,null,"N/C",null,null,2865,null,null,5914]
["                I.N.E.T ............................",null," ",354,null,null,489,null,null,"N/C",null,null,"N/C",null,null,354,null,null,489]
["RESTO DEL PAÍS.....................................",null," ",4371,null,null,11223,null,null,{"$f":"J19+J20+J26+J27+J32+J31+J33+J36+J37+J40+J41+J42+J45+J46+J49+J50+J51+J52","v":1377},null,null,4288,null,null,2994,null,null,6935,0]
["Artigas         IFD Artigas..........................",null," ",206,null,null,378,null,null,96,null,null,229,null,null,110,null,null,149]
["Canelones.....................................",null," ",665,null,null,1422,null,null,{"$f":"SUM(J21:J25)","v":227},null,null,{"$f":"SUM(M21:M25)","v":632},null,null,{"$f":"SUM(P21:P25)","v":438},null,null,{"$f":"SUM(S21:S25)","v":790}]
["                IFD Canelones ....................",null," ",101,null,null,243,null,null,54,null,null,147,null,null,47,null,null,96]
["                IFD de la Costa ..............................................",null," ",140,null,null,368,null,null,60,null,null,210,null,null,80,null,null,158]
["                IFD Pando.............................................",null," ",206,null,null,370,null,null,86,null,null,195,null,null,120,null,null,175]
["                IFD San Ramón ..............................................",null," ",63,null,null,152,null,null,27,null,null,80,null,null,36,null,null,72]
["                CERP del Sur.............................................",null," ",155,null,null,289,null,null,"N/C",null,null,"N/C",null,null,155,null,null,289]
["Cerro Largo     IFD Melo.........................",null," ",228,null,null,447,null,null,61,null,null,210,null,null,167,null,null,237]
["Colonia.........................................................................",null," ",348,null,null,894,null,null,{"$f":"SUM(J28:J30)","v":47},null,null,159,null,null,301,null,null,735,0]
["                IFD Carmelo.........................................................................",null," ",161,null,null,307,null,null,30,null,null,79,null,null,131,null,null,228]
["                IFD Rosario.............................................",null," ",59,null,null,190,null,null,17,null,null,80,null,null,42,null,null,110]
["                CERP del Suroeste.............................................",null," ",128,null,null,397,null,null,"N/C",null,null,"N/C",null,null,128,null,null,397]
["Durazno         IFD Durazno ............................................................................",null," ",168,null,null,453,null,null,60,null,null,216,null,null,108,null,null,237]
["Flores          IFD Trinidad.............................",null," ",48,null,null,96,null,null,23,null,null,58,null,null,25,null,null,38]
["Florida...................................",null," ",203,null,null,579,null,null,{"$f":"SUM(J34:J35)","v":89},null,null,{"$f":"SUM(M34:M35)","v":291},null,null,{"$f":"SUM(P34:P35)","v":114},null,null,{"$f":"SUM(S34:S35)","v":288}]
["                IFD Florida.............................",null," ",89,null,null,335,null,null,89,null,null,291,null,null,0,null,null,44]
["                CERP del Centro.............................................",null," ",114,null,null,244,null,null,"N/C",null,null,"N/C",null,null,114,null,null,244]
["Lavalleja       IFD Minas....................................",null," ",102,null,null,248,null,null,40,null,null,163,null,null,62,null,null,85]
["Maldonado........................................",null," ",179,null,null,479,null,null,{"$f":"SUM(J38:J39)","v":55},null,null,173,null,null,124,null,null,306,0,0]
["                IFD Maldonado ...................................",null," ",59,null,null,189,null,null,55,null,null,173,null,null,4,null,null,16]
["                CERP del Centro ..............................................",null," ",120,null,null,290,null,null,"N/C",null,null,"N/C",null,null,120,null,null,290]
["Paysandú        IFD Paysandú.....................................",null," ",267,null,null,622,null,null,87,null,null,275,null,null,180,null,null,347]
["Río Negro       IFD Fray Bentos...................................",null," ",200,null,null,339,null,null,49,null,null,120,null,null,151,null,null,219]
["Rivera.........................................",null," ",443,null,null,964,null,null,{"$f":"+J43+J44","v":103},null,null,277,null,null,340,null,null,687,0,0]
["                IFD Rivera............................",null," ",138,null,null,516,null,null,103,null,null,277,null,null,35,null,null,239]
["                CERP del Norte ..............................................",null," ",305,null,null,448,null,null,"N/C",null,null,"N/C",null,null,305,null,null,448]
["Rocha           IFD Rocha.............................",null," ",111,null,null,309,null,null,42,null,null,140,null,null,69,null,null,169]
["Salto........................................",null," ",451,null,null,1459,null,null,{"$f":"SUM(J47:J48)","v":131},null,null,{"$f":"SUM(M47:M48)","v":525},null,null,{"$f":"SUM(P47:P48)","v":320},null,null,{"$f":"SUM(S47:S48)","v":934}]
["                IFD Salto .........................................",null," ",131,null,null,697,null,null,131,null,null,525,null,null,0,null,null,172]
["                CERP del Litoral.............................................",null," ",320,null,null,762,null,null,"N/C",null,null,"N/C",null,null,320,null,null,762]
["San José        IFD San José............................",null," ",107,null,null,231,null,null,41,null,null,95,null,null,66,null,null,136]
["Soriano         IFD Mercedes .............................",null," ",80,null,null,455,null,null,40,null,null,185,null,null,40,null,null,270]
["Tacuarembó      IFD Tacuarembó ..........................",null," ",248,null,null,1030,null,null,48,null,null,173,null,null,200,null,null,857]
["Treinta y Tres  IFD Treinta y Tres.....................",null," ",317,null,null,818,null,null,138,null,null,367,null,null,179,null,null,451]
[]
["Fuente: Informática - D.F.P.D. "]
["Nota: No se dispone de datos para el año 2010 de INN IPA INET y Formación Docente, incorporándose el último dato disponible. (último dato disponible 2009)"]

{"sheet":"II-5.2.2 ","index":181,"n_rows":36,"n_cols":10,"rows_kept":36,"cut":false,"hidden":false,"merged":[[7,5,7,6],[6,1,8,1],[6,4,8,4],[0,7,1,9],[6,8,6,9],[6,2,6,3],[7,8,7,9],[6,5,6,6],[7,2,7,3],[6,7,8,7],[4,0,4,9]]}
["OFERTAS TERCIARIAS NO UNIVERSITARIAS DEL ÁREA SEGURIDAD Y DEFENSA",null,null,null,null,null,null,"ALUMNOS MATRICULADOS"]
[]
["Cuadro Nº II-5.2.2"]
[]
["ALUMNOS INGRESADOS, MATRICULADOS Y EGRESADOS EN NIVEL TERCIARIO NO UNIVERSITARIO DEL ÁREA SEGURIDAD Y DEFENSA POR SEXO SEGÚN INSTITUCIÓN Y CARRERA. AÑO 2010."]
[]
[null,"TOTAL","INGRESADOS",null,"TOTAL","MATRICULADOS",null,"TOTAL","EGRESADOS"]
["INSTITUCION / CARRERA",null,"SEXO",null,null,"SEXO",null,null,"SEXO"]
[null,null,"M","F",null,"M","F",null,"M","F"]
["ESCUELA NAVAL....................................................................................................",{"$f":"SUM(B11:B18)","v":26},{"$f":"SUM(C11:C18)","v":21},5,73,53,20,40,30,10]
["Guardiamarina del Cuerpo de Ingenieros en máquinas y Electricidad....................................................",{"$f":"SUM(C11:D11)","v":0},0,0,{"$f":"SUM(F11:G11)","v":10},8,2,{"$f":"SUM(I11:J11)","v":3},3,0]
["Guardiamarina del Cuerpo General....................................................",16,13,3,16,11,5,16,11,5]
["Guardiamarinas de Prefectura....................................................",0,0,0,12,10,2,6,5,1]
["Guardiamarinas del Cuerpo de Aprovisionamiento y Administración....................................................",0,0,0,4,1,3,3,1,2]
["Tercer Oficial Ingeniero Mercante....................................................",2,2,0,7,6,1,1,1,0]
["Tercer Oficial Piloto Mercante......................................................",8,6,2,24,17,7,11,9,2]
["Licenciado en Sistemas Navales (a)...............................................................................................................",0,0,0,0,0,0,0,0,0]
["Licenciado en Sistemas Náuticos (a)........................................................................................................",0,0,0,0,0,0,0,0,0]
[]
["ESCUELA NACIONAL DE POLICÍA................................................",{"$f":"+C20+D20","v":59},{"$f":"+C21","v":48},{"$f":"+D21","v":11},{"$f":"+F20+G20","v":275},{"$f":"+F21","v":215},{"$f":"+G21","v":60},{"$f":"+I20+J20","v":98},{"$f":"+I21","v":83},{"$f":"+J21","v":15}]
["Curso de Ofl.Sub.Ayte. y Licenciado en Segur. Púb...........................................................................................",{"$f":"SUM(C21:D21)","v":59},48,11,{"$f":"SUM(F21:G21)","v":275},215,60,{"$f":"SUM(I21:J21)","v":98},83,15]
[]
["ESCUELA MILITAR..................................................................",{"$f":"SUM(C23:D23)","v":86},{"$f":"SUM(C24:C26)","v":65},{"$f":"SUM(D24:D26)","v":21},{"$f":"SUM(F23:G23)","v":172},{"$f":"SUM(F24:F26)","v":152},{"$f":"SUM(G24:G26)","v":20},{"$f":"SUM(I23:J23)","v":11},{"$f":"SUM(I24:I26)","v":7},{"$f":"SUM(J24:J26)","v":4}]
["Alférez del Ejército Nacional del Cuerpo Comando.........................................................................................",{"$f":"SUM(C24:D24)","v":68},53,15,{"$f":"SUM(F24:G24)","v":150},137,13,{"$f":"SUM(I24:J24)","v":0},0,0]
["C.F.O.E.A. Apoyo Administrativo.................................................................",{"$f":"SUM(C25:D25)","v":11},8,3,{"$f":"SUM(F25:G25)","v":15},11,4,{"$f":"SUM(I25:J25)","v":4},3,1]
["C.F.O.E.A. Apoyo Técnico Profesional.................................................................",{"$f":"SUM(C26:D26)","v":7},4,3,{"$f":"SUM(F26:G26)","v":7},4,3,{"$f":"SUM(I26:J26)","v":7},4,3]
[]
["ESCUELA MILITAR DE AERONÁUTICA -"]
["Formación de Oficiales de la Fuerza Aérea........................................",{"$f":"SUM(C29:D29)","v":18},14,4,{"$f":"SUM(F29:G29)","v":83},71,12,{"$f":"SUM(I29:J29)","v":20},20,0]
["Fuente: Gestión Educativa - Escuela Naval."]
["        Jefatura de Estudios - Escuela Nacional de Policía. "]
["        Escuela Militar."]
["        Departamento de Bedelía - Escuela Militar de Aeronáutica."]
["Nota:  (a) Ingresos, Matrículas y Egresos de Licenciatura en Sistemas Navales y de Licenciatura en Sistemas Náuticos,"]
["        refieren a trámite de reválidas."]
["Para la definición de ingreso, matrícula y egreso, ir a Anexo-Definiciones."]

{"sheet":"II-5.2.3 ","index":182,"n_rows":108,"n_cols":10,"rows_kept":108,"cut":false,"hidden":false,"merged":[[56,8,57,8],[56,9,57,9],[6,8,6,9],[53,7,57,7],[53,8,53,9],[55,8,55,9],[5,7,8,7],[5,5,5,6],[5,4,8,4],[53,0,57,0],[53,1,57,1],[53,2,53,3],[53,4,57,4],[56,2,57,2],[56,3,57,3],[55,2,55,3],[55,5,55,6],[53,5,53,6],[56,5,57,5],[56,6,57,6],[0,7,1,9],[7,2,8,2],[7,3,8,3],[52,0,52,9],[48,7,49,9],[4,0,4,9],[5,8,5,9],[5,1,8,1],[7,5,8,5],[7,6,8,6],[7,8,8,8],[7,9,8,9],[5,0,8,0],[6,2,6,3],[6,5,6,6],[5,2,5,3]]}
["OTRAS OFERTAS TERCIARIAS NO UNIVERSITARIAS",null,null,null,null,null,null,"ALUMNOS MATRICULADOS"]
[]
["Cuadro Nº II-5.2.3"]
[]
["ALUMNOS INGRESADOS, MATRICULADOS Y EGRESADOS EN OTRAS OFERTAS DE NIVEL TERCIARIO NO UNIVERSITARIO POR SEXO SEGÚN INSTITUCIÓN Y CARRERA. AÑO 2010."]
["INSTITUCION / CARRERA","TOTAL","INGRESADOS",null,"TOTAL","MATRICULADOS",null,"TOTAL","EGRESADOS"]
[null,null,"SEXO",null,null,"SEXO",null,null,"SEXO"]
[null,null,"M","F",null,"M","F",null,"M","F"]
[]
["E.M.A.D Margarita Xirgu................................................",{"$f":"SUM(C10:D10)","v":59},{"$f":"SUM(C11:C13)","v":23},{"$f":"SUM(D11:D13)","v":36},{"$f":"SUM(F10:G10)","v":91},{"$f":"SUM(F11:F13)","v":25},{"$f":"SUM(G11:G13)","v":66},{"$f":"SUM(I10:J10)","v":23},{"$f":"SUM(I11:I13)","v":5},{"$f":"SUM(J11:J13)","v":18}]
["Carrera de actuación............................................",{"$f":"SUM(C11:D11)","v":29},8,21,{"$f":"SUM(F11:G11)","v":49},16,33,{"$f":"SUM(I11:J11)","v":14},4,10]
["Carrera de diseño teatral............................................",{"$f":"SUM(C12:D12)","v":20},7,13,{"$f":"SUM(F12:G12)","v":34},2,32,{"$f":"SUM(I12:J12)","v":9},1,8]
["Curso de dirección teatral............................................",{"$f":"SUM(C13:D13)","v":10},8,2,{"$f":"SUM(F13:G13)","v":8},7,1,{"$f":"SUM(I13:J13)","v":0},0,0]
[]
["I.N.A.U. – CENFORES - Educador Social (*)...........................",{"$f":"SUM(C15:D15)","v":233},40,193,{"$f":"SUM(F15:G15)","v":464},75,389,{"$f":"SUM(I15:J15)","v":31},3,28]
[]
["C.I.E.P................................................",{"$f":"SUM(C17:D17)","v":52},{"$f":"SUM(C18:C19)","v":0},{"$f":"SUM(D18:D19)","v":52},{"$f":"SUM(F17:G17)","v":48},{"$f":"SUM(F18:F19)","v":0},{"$f":"SUM(G18:G19)","v":48},{"$f":"SUM(I17:J17)","v":32},{"$f":"SUM(I18:I19)","v":0},{"$f":"SUM(J18:J19)","v":32}]
["  Técnico en Educador/a Inicial............................................",{"$f":"SUM(C18:D18)","v":46},0,46,{"$f":"SUM(F18:G18)","v":42},0,42,{"$f":"SUM(I18:J18)","v":28},0,28]
["  Lic. en Educación Inicial............................................",{"$f":"SUM(C19:D19)","v":6},0,6,{"$f":"SUM(F19:G19)","v":6},0,6,{"$f":"SUM(I19:J19)","v":4},0,4]
[]
["CALEN.................................................",{"$f":"SUM(C21:D21)","v":105},{"$f":"SUM(C22:C25)","v":58},{"$f":"SUM(D22:D25)","v":47},{"$f":"SUM(F21:G21)","v":105},{"$f":"SUM(F22:F25)","v":58},{"$f":"SUM(G22:G25)","v":47},{"$f":"SUM(I21:J21)","v":73},{"$f":"SUM(I22:I25)","v":46},{"$f":"SUM(J22:J25)","v":27}]
["Especialización en Altos Estudios Nacionales..................................",{"$f":"SUM(C22:D22)","v":45},23,22,{"$f":"SUM(F22:G22)","v":45},23,22,{"$f":"SUM(I22:J22)","v":32},17,15]
["Especialización en Ejercicios Estratégicos..................................",{"$f":"SUM(C23:D23)","v":37},20,17,{"$f":"SUM(F23:G23)","v":37},20,17,{"$f":"SUM(I23:J23)","v":24},17,7]
["Especialización en Metodología de Investigación en el Ámbito de la Estrategia Nacional..................................",{"$f":"SUM(C24:D24)","v":22},15,7,{"$f":"SUM(F24:G24)","v":22},15,7,{"$f":"SUM(I24:J24)","v":16},12,4]
["Maestría en Estrategia Nacional..................................",{"$f":"SUM(C25:D25)","v":1},0,1,{"$f":"SUM(F25:G25)","v":1},0,1,{"$f":"SUM(I25:J25)","v":1},0,1]
[]
["CETP (U.T.U.)................................................","-","-","-",{"$f":"SUM(F27:G27)","v":6158},{"$f":"SUM(F28:F37)+SUM(F60:F98)","v":3754},{"$f":"SUM(G28:G37)+SUM(G60:G98)","v":2404},"-","-","-"]
["Acondicionamiento Térmico..............................................","-","-","-",11,11,0,"-","-","-"]
["Administración de Personal................................................","-","-","-",126,32,94,"-","-","-"]
["Administración Hotelera................................................","-","-","-",25,9,16,"-","-","-"]
["Administración Pública................................................","-","-","-",227,66,161,"-","-","-"]
["Analista en Marketing................................................","-","-","-",445,173,272,"-","-","-"]
["Autotronica Lab. S. de Control................................................","-","-","-",11,11,0,"-","-","-"]
["Com. Social Op. Prensa................................................","-","-","-",67,27,40,"-","-","-"]
["Com. Social Op. Publicidad................................................","-","-","-",96,42,54,"-","-","-"]
["Com. Social Op. Radiodifusión................................................","-","-","-",81,42,39,"-","-","-"]
["Com. Social Op. RR. PP.................................................","-","-","-",75,20,55,"-","-","-"]
["Fuente: Secretaría General - E.M.A.D."]
["        CEN.FOR.ES - I.N.A.U. "]
["        C.D.I"]
["        C.I.E.P"]
["        Secretaría General - CALEN. "]
["        C.E.P.T (UTU)"]
[]
["NOTA: Si bien a lo largo del Anuario el código S/D corresponde al Sin Dato, "]
["      en este cuadro, para mejorar la legibilidad, se utiliza el guión (-)."]
[]
[]
["OTRAS OFERTAS TERCIARIAS NO UNIVERSITARIAS",null,null,null,null,null,null,"ALUMNOS MATRICULADOS"]
[]
["Cuadro Nº II-5.2.3 (continuación)"]
[]
["ALUMNOS INGRESADOS, MATRICULADOS Y EGRESADOS EN OTRAS OFERTAS DE NIVEL TERCIARIO NO UNIVERSITARIO POR SEXO SEGÚN INSTITUCIÓN Y CARRERA. AÑO 2010."]
["INSTITUCION / CARRERA","TOTAL",null,null,"TOTAL",null,null,"TOTAL"]
[]
[]
[null,null,"M","F",null,"M","F",null,"M","F"]
[]
[]
["Com. Social Op. Televisión................................................","-","-","-",{"$f":"SUM(F60:G60)","v":56},22,34,"-","-","-"]
["Construcción................................................","-","-","-",110,95,15,"-","-","-"]
["Corredor de Seguros................................................","-","-","-",27,15,12,"-","-","-"]
["Diseño Grafico................................................","-","-","-",354,147,207,"-","-","-"]
["Electrónica................................................","-","-","-",468,455,13,"-","-","-"]
["Electrotecnia................................................","-","-","-",522,516,6,"-","-","-"]
["Enología Modulo Enológico II................................................","-","-","-",13,8,5,"-","-","-"]
["Enología Modulo Vitivinícola................................................","-","-","-",19,10,9,"-","-","-"]
["Forestal................................................","-","-","-",23,20,3,"-","-","-"]
["Gestion de Alojamiento................................................","-","-","-",38,16,22,"-","-","-"]
["Gestion Empresas Turísticas................................................","-","-","-",40,8,32,"-","-","-"]
["Guía y Téc. Diseño Circ. Turísticos................................................","-","-","-",31,11,20,"-","-","-"]
["Industrias Lácteas................................................","-","-","-",56,42,14,"-","-","-"]
["Infografía de Arquitectura................................................","-","-","-",94,47,47,"-","-","-"]
["Inmobiliario (Operador)................................................","-","-","-",103,43,60,"-","-","-"]
["Instalaciones Sanitarias................................................","-","-","-",38,32,6,"-","-","-"]
["Instrumentación y Control................................................","-","-","-",36,35,1,"-","-","-"]
["Mantenimiento Mecánico Industrial................................................","-","-","-",20,20,0,"-","-","-"]
["Maquinista Naval................................................","-","-","-",73,73,0,"-","-","-"]
["Mecatrónica - Autom. y Control................................................","-","-","-",5,5,0,"-","-","-"]
["Mecatrónica - Mant. Electromecánico................................................","-","-","-",21,21,0,"-","-","-"]
["Motores de Combustión Interna................................................","-","-","-",3,3,0,"-","-","-"]
["Náutica y Pesca................................................","-","-","-",13,11,2,"-","-","-"]
["Óptico................................................","-","-","-",128,50,78,"-","-","-"]
["Pequeña y Mediana Empresa................................................","-","-","-",30,7,23,"-","-","-"]
["Prevencionista en Seg. Industrial................................................","-","-","-",813,423,390,"-","-","-"]
["Producción Agrícola Ganadera................................................","-","-","-",132,99,33,"-","-","-"]
["Producción Lechera................................................","-","-","-",41,29,12,"-","-","-"]
["Producciones Vegetales Intensivas................................................","-","-","-",6,2,4,"-","-","-"]
["Redes y Telecomunicaciones................................................","-","-","-",129,113,16,"-","-","-"]
["Rematador................................................","-","-","-",101,58,43,"-","-","-"]
["Rematador - Op. Inmobiliario................................................","-","-","-",290,172,118,"-","-","-"]
["Sistemas de Prod. Arroz-Pasturas................................................","-","-","-",31,20,11,"-","-","-"]
["Técnico en Comunicación Social................................................","-","-","-",356,140,216,"-","-","-"]
["Tecnólogo Agroenergético................................................","-","-","-",36,24,12,"-","-","-"]
["Tecnólogo Cárnico................................................","-","-","-",40,19,21,"-","-","-"]
["Tecnólogo en Informática................................................","-","-","-",265,230,35,"-","-","-"]
["Tecnólogo Mecánico................................................","-","-","-",240,229,11,"-","-","-"]
["Tecnólogo Químico................................................","-","-","-",193,51,142,"-","-","-"]
["Fuente: Secretaría General - E.M.A.D."]
["        CEN.FOR.ES - I.N.A.U. "]
["        C.D.I"]
["        C.I.E.P"]
["        Secretaría General - CALEN. "]
["        C.E.P.T (UTU)"]
[]
["NOTA: Si bien a lo largo del Anuario el código S/D corresponde al Sin Dato, "]
["      en este cuadro, para mejorar la legibilidad, se utiliza el guión (-)."]
["      No se dispone de datos para el año 2010 de INAU incorporándose el último dato (último dato disponible 2008)"]

{"sheet":"II-5.2.4","index":183,"n_rows":48,"n_cols":13,"rows_kept":48,"cut":false,"hidden":false,"merged":[[0,10,1,12],[8,6,8,7],[7,4,7,7],[8,9,8,12],[6,4,6,12],[7,9,7,12]]}
["DIRECCIÓN DE FORMACIÓN Y PERFECCIONAMIENTO DOCENTE",null,null,null,null,null,null,null,null,null,"ALUMNOS MATRICULADOS"]
[]
["Cuadro Nº II-5.2.4"]
[]
["ALUMNOS MATRICULADOS EN FORMACIÓN DOCENTE POR CARRERA Y GRADO SEGÚN DEPARTAMENTO Y ESTABLECIMIENTOS. AÑO 2010."]
[]
[null,null,null,null,"CARRERA"]
["DEPARTAMENTO / ESTABLECIMIENTO",null,null,null,"Magisterio",null,null,null,null,"Profesorado"]
[]
[null,"TOTAL",null,"TOTAL","Primero","Segundo","Tercero","Cuarto","TOTAL","Primero","Segundo","Tercero","Cuarto"]
[]
["TOTAL........................................",{"$f":"+B14+B18","v":17401}," ",{"$f":"+D14+D18","v":6493},2236,1716,1187,777,10908,5557,1640,1691,1332]
[]
["MONTEVIDEO...............................",{"$f":"SUM(B15:B17)","v":8608}," ",{"$f":"SUM(D15:D17)","v":2205},946,617,435,207,6403,3219,972,1257,955]
["                I.I.N.N......................................",{"$f":"SUM(D15+I15)","v":2205}," ",{"$f":"SUM(E15:H15)","v":2205},946,617,435,207,{"$f":"SUM(J15:M15)","v":0},"N/C","N/C","N/C","N/C"]
["                I.P.A.......................................",{"$f":"SUM(D16+I16)","v":5914}," ",0,"N/C","N/C","N/C","N/C",{"$f":"SUM(J16:M16)","v":5914},2865,847,1247,955]
["                I.N.E.T...........................",{"$f":"SUM(D17+I17)","v":489}," ",0,"N/C","N/C","N/C","N/C",{"$f":"SUM(J17:M17)","v":489},354,125,10,"N/C"]
["RESTO DEL PAÍS.....................................",{"$f":"+B19+B20+B25+B26+B29+B30+B31+B32+B33+B34+B35+B36+B37+B38+B39+B40+B41+B42","v":8793}," ",{"$f":"+D19+D20+D25+D26+D29+D30+D31+D32+D33+D34+D35+D36+D37+D38+D39+D40+D41+D42","v":4288},1290,1099,752,570,4505,2338,668,434,377]
["Artigas...................................................................",{"$f":"SUM(D19+I19)","v":378}," ",{"$f":"SUM(E19:H19)","v":229},66,74,34,55,{"$f":"SUM(J19:M19)","v":149},81,32,18,18]
["Canelones.....................................................................................",{"$f":"SUM(B21:B24)","v":1133}," ",{"$f":"SUM(D21:D24)","v":632},234,162,137,99,501,291,84,65,61]
["                IFD Canelones...................",{"$f":"SUM(D21+I21)","v":243}," ",{"$f":"SUM(E21:H21)","v":147},53,39,31,24,{"$f":"SUM(J21:M21)","v":96},46,24,12,14]
["                IFD de la Costa.............................................",{"$f":"SUM(D22+I22)","v":368}," ",{"$f":"SUM(E22:H22)","v":210},69,67,45,29,{"$f":"SUM(J22:M22)","v":158},89,21,29,19]
["                IFD Pando.............................................",{"$f":"SUM(D23+I23)","v":370}," ",{"$f":"SUM(E23:H23)","v":195},86,32,39,38,{"$f":"SUM(J23:M23)","v":175},108,31,17,19]
["                IFD San Ramón.............................................",{"$f":"SUM(D24+I24)","v":152}," ",{"$f":"SUM(E24:H24)","v":80},26,24,22,8,{"$f":"SUM(J24:M24)","v":72},48,8,7,9]
["Cerro Largo..................................................",{"$f":"SUM(D25+I25)","v":447}," ",210,"S/D","S/D","S/D","S/D",237,"S/D","S/D","S/D","S/D"]
["Colonia.........................................................................",{"$f":"SUM(B27:B28)","v":497}," ",{"$f":"SUM(D27:D28)","v":159},42,36,56,25,338,189,66,41,42]
["                IFD Carmelo.........................................................................",{"$f":"SUM(D27+I27)","v":307}," ",{"$f":"SUM(E27:H27)","v":79},27,12,32,8,{"$f":"SUM(J27:M27)","v":228},140,37,29,22]
["                IFD Rosario.............................................",190," ",80,15,24,24,17,110,49,29,12,20]
["Durazno...........................................................................",453," ",216,94,65,32,25,237,179,36,9,13]
["Flores............................................",96," ",58,24,17,10,7,38,20,10,5,3]
["Florida..........................................................",335," ",291,95,93,61,42,44,"S/D",11,11,22]
["Lavalleja.........................................................",248," ",163,42,50,33,38,85,60,10,10,5]
["Maldonado.........................................................",189," ",173,56,42,53,22,16,2,4,6,4]
["Paysandú.........................................................",622," ",275,99,77,61,38,347,226,76,24,21]
["Río Negro.........................................................",339," ",120,46,44,24,6,219,156,31,13,19]
["Rivera.........................................................",516," ",277,91,81,56,49,239,54,75,62,48]
["Rocha.........................................................",309," ",140,44,41,28,27,169,70,45,35,19]
["Salto.........................................................",697," ",525,199,191,80,55,172,28,69,39,36]
["San José.........................................................",231," ",95,32,22,23,18,136,65,9,40,22]
["Soriano.........................................................",455," ",185,78,54,30,23,270,187,31,19,33]
["Tacuarembó.........................................................",1030," ",173,48,50,34,41,857,730,79,37,11]
["Treinta y Tres.........................................................",818," ",367,"S/D","S/D","S/D","S/D",451,"S/D","S/D","S/D","S/D"]
[]
["Fuente: Informática - D.F.P.D. "]
["Nota:   Los cursos de INET tiene como duración un año."]
["        No incluye CERP ya que no se cuenta con información de matrícula desagregada por grado."]
["        No se dispone de datos para el año 2010 de INN IPA INET y Formación Docente, incorporándose el último dato disponible. "]
["        (último dato disponible 2009)"]

{"sheet":"II-5.3.1 ","index":184,"n_rows":57,"n_cols":5,"rows_kept":57,"cut":false,"hidden":false,"merged":[[0,4,1,5],[53,0,53,3],[4,0,4,3],[5,0,8,0],[5,1,5,3],[6,1,6,3],[7,1,8,1]]}
["DIRECCIÓN DE FORMACIÓN Y PERFECCIONAMIENTO DOCENTE",null,null,null,"FUNCIONARIOS"]
[]
["Cuadros Nº II-5.3.1"]
[]
["FUNCIONARIOS DE LOS INSTITUTOS DE FORMACIÓN DOCENTE POR TIPO DE FUNCIÓN SEGÚN INSTITUCIÓN.AÑO 2010."]
["DEPARTAMENTO / INSTITUCIÓN","TIPO DE FUNCIÓN"]
[null,"DOCENTES"]
[null,"TOTAL"]
[null,null,"Docencia Directa","Docencia Indirecta"]
[]
["TOTAL........................................",{"$f":"+B13+B17","v":2680},{"$f":"+C13+C17","v":2376},{"$f":"+D13+D17","v":304}]
[]
["MONTEVIDEO...............................",{"$f":"SUM(B14:B16)","v":883},{"$f":"SUM(C14:C16)","v":791},{"$f":"SUM(D14:D16)","v":92}]
["Montevideo......I.I.N.N......................................",{"$f":"+C14+D14","v":249},209,40]
["                I.P.A ........................................",{"$f":"+C15+D15","v":538},495,43]
["                I.N.E.T ............................",{"$f":"+C16+D16","v":96},87,9]
["RESTO DEL PAÍS.....................................",{"$f":"+C17+D17","v":1797},{"$f":"+C18+C19+C25+C26+C30+C31+C32+C35+C36+C39+C40+C41+C44+C45+C48+C49+C50+C51","v":1585},{"$f":"+D18+D19+D25+D26+D30+D31+D32+D35+D36+D39+D40+D41+D44+D45+D48+D49+D50+D51","v":212}]
["Artigas...................................................................",{"$f":"+C18+D18","v":72},62,10]
["Canelones.....................................................................................",{"$f":"SUM(B20:B24)","v":311},{"$f":"SUM(C20:C24)","v":276},{"$f":"SUM(D20:D24)","v":35}]
["                IFD Canelones ......................................................................................",{"$f":"+C20+D20","v":57},47,10]
["                IFD de la Costa ..............................................",46,41,5]
["                IFD Pando.............................................",62,53,9]
["                IFD San Ramón ..............................................",43,35,8]
["                CERP del Sur.............................................",103,100,3]
["Cerro Largo..................................................",65,59,6]
["Colonia.........................................................................",{"$f":"SUM(B27:B29)","v":172},{"$f":"SUM(C27:C29)","v":152},{"$f":"SUM(D27:D29)","v":20}]
["                IFD Carmelo.........................................................................",{"$f":"+C27+D27","v":38},33,5]
["                IFD Rosario ..............................................",41,33,8]
["                CERP del Suroeste.............................................",93,86,7]
["Durazno ............................................................................",52,45,7]
["Flores............................................",33,25,8]
["Florida...................................",147,{"$f":"+C33+C34","v":134},{"$f":"+D33+D34","v":13}]
["                IFD Florida.............................",50,45,5]
["                CERP del Centro.............................................",97,89,8]
["Lavalleja.........................................................",54,42,12]
["Maldonado ..............................................",147,{"$f":"+C37+C38","v":136},{"$f":"+D37+D38","v":11}]
["                IFD Maldonado..............",61,54,7]
["                CERP del Centro.............................................",86,82,4]
["Paysandú.........................................................",87,76,11]
["Río Negro.........................................................",37,31,6]
["Rivera.........................................................",153,{"$f":"+C42+C43","v":135},{"$f":"+D42+D43","v":18}]
["                IFD Rivera.............................",75,62,13]
["                CERP del Norte.............................................",78,73,5]
["Rocha.........................................................",59,50,9]
["Salto ..............................................",163,{"$f":"+C46+C47","v":148},{"$f":"+D46+D47","v":15}]
["                IFD Salto.............................",68,58,10]
["                CERP del Litoral.............................................",95,90,5]
["San José.........................................................",61,54,7]
["Soriano ..........................................................",47,39,8]
["Tacuarembó ..........................................................",75,66,9]
["Treinta y Tres.........................................................",62,55,7]
[]
["Fuente: Departamento Estudiantil - D.F.P.D. "]
["Nota: No incluye información correspondiente al CERP DEL ESTE."]
["      No se dispone de datos para el año 2010 de INN IPA INET y Formación "]
["      Docente, incorporándose el último dato disponible. "]
["      (último dato disponible 2009)"]

{"sheet":"II-5.3.2","index":185,"n_rows":38,"n_cols":12,"rows_kept":38,"cut":false,"hidden":false,"merged":[[37,0,37,11],[4,0,4,11],[5,0,8,0],[5,1,8,1],[5,3,5,11],[6,3,8,3],[6,4,6,5],[6,6,8,6],[6,7,6,8],[6,9,8,9],[6,10,6,11],[0,4,1,6],[7,4,7,5],[7,7,7,8],[7,10,7,11],[36,0,36,11]]}
["OFERTAS TERCIARIAS NO UNIVERSITARIAS DEL ÁREA SEGURIDAD Y DEFENSA",null,null,null,"PERSONAL ACADÉMICO"]
[]
["Cuadro Nº II-5.3.2"]
[]
["PERSONAL ACADÉMICO DE NIVEL TERCIARIO NO UNIVERSITARIO DEL ÁREA SEGURIDAD Y DEFENSA POR CARGA HORARIA, SEXO, SEGÚN INSTITUCIÓN Y FORMACIÓN. AÑO 2010."]
["INSTITUCIONES / FORMACIÓN","TOTAL",null,"HORAS SEMANALES"]
[null,null,null,"Total","20 horas o menos",null,"Total","Entre 21 y 30 horas",null,"Total","31 horas y más"]
[null,null,null,null,"SEXO",null,null,"SEXO",null,null,"SEXO"]
[null,null,null,null,"M","F",null,"M","F",null,"M","F"]
["ESCUELA NAVAL........................................",{"$f":"D10+G10+J10","v":128},null,{"$f":"E10+F10","v":128},{"$f":"SUM(E11:E14)","v":104},{"$f":"SUM(F11:F14)","v":24},{"$f":"H10+I10","v":0},{"$f":"SUM(H11:H14)","v":0},{"$f":"SUM(I11:I14)","v":0},{"$f":"K10+L10","v":0},{"$f":"SUM(K11:K14)","v":0},{"$f":"SUM(L11:L14)","v":0}]
["  Sin formación degrado completa.........................................................",{"$f":"D11+G11+J11","v":23},null,{"$f":"E11+F11","v":23},7,16,{"$f":"H11+I11","v":0},0,0,{"$f":"K11+L11","v":0},0,0]
["  Con formación de grado...........................................................................",103,null,103,97,6,0,0,0,0,0,0]
["  Con postgrado de especialización o maestría............................................",2,null,2,0,2,0,0,0,0,0,0]
["  Con doctorado..........................................................",0,null,0,0,0,0,0,0,0,0,0]
[]
["ESCUELA NACIONAL DE POLICÍA........................................",{"$f":"D16+G16+J16","v":101},null,{"$f":"E16+F16","v":101},{"$f":"SUM(E17:E20)","v":75},{"$f":"SUM(F17:F20)","v":26},{"$f":"H16+I16","v":0},{"$f":"SUM(H17:H20)","v":0},{"$f":"SUM(I17:I20)","v":0},{"$f":"K16+L16","v":0},{"$f":"SUM(K17:K20)","v":0},{"$f":"SUM(L17:L20)","v":0}]
["  Sin formación degrado completa.........................................................",{"$f":"D17+G17+J17","v":13},null,{"$f":"E17+F17","v":13},8,5,{"$f":"H17+I17","v":0},0,0,{"$f":"K17+L17","v":0},0,0]
["  Con formación de grado...........................................................................",87,null,87,66,21,0,0,0,0,0,0]
["  Con postgrado de especialización o maestría............................................",1,null,1,1,0,0,0,0,0,0,0]
["  Con doctorado..........................................................",0,null,0,0,0,0,0,0,0,0,0]
[]
["ESCUELA MILITAR........................................",{"$f":"D22+G22+J22","v":102},null,{"$f":"E22+F22","v":97},{"$f":"SUM(E23:E26)","v":81},{"$f":"SUM(F23:F26)","v":16},{"$f":"H22+I22","v":2},{"$f":"SUM(H23:H26)","v":2},{"$f":"SUM(I23:I26)","v":0},{"$f":"K22+L22","v":3},{"$f":"SUM(K23:K26)","v":2},{"$f":"SUM(L23:L26)","v":1}]
["  Sin formación degrado completa.........................................................",{"$f":"D23+G23+J23","v":4},null,{"$f":"E23+F23","v":4},0,4,{"$f":"H23+I23","v":0},0,0,{"$f":"K23+L23","v":0},0,0]
["  Con formación de grado...........................................................................",95,null,90,78,12,2,2,0,3,2,1]
["  Con postgrado de especialización o maestría............................................",3,null,3,3,0,0,0,0,0,0,0]
["  Con doctorado..........................................................",0,null,0,0,0,0,0,0,0,0,0]
[]
["ESCUELA MILITAR DE AERONÁUTICA.........................................",{"$f":"D28+G28+J28","v":124},null,{"$f":"E28+F28","v":124},{"$f":"SUM(E29:E32)","v":102},{"$f":"SUM(F29:F32)","v":22},{"$f":"H28+I28","v":0},{"$f":"SUM(H29:H32)","v":0},{"$f":"SUM(I29:I32)","v":0},{"$f":"K28+L28","v":0},{"$f":"SUM(K29:K32)","v":0},{"$f":"SUM(L29:L32)","v":0}]
["  Sin formación degrado completa.........................................................",{"$f":"D29+G29+J29","v":0},null,{"$f":"E29+F29","v":0},0,0,{"$f":"H29+I29","v":0},0,0,{"$f":"K29+L29","v":0},0,0]
["  Con formación de grado...........................................................................",118,null,118,97,21,0,0,0,0,0,0]
["  Con postgrado de especialización o maestría............................................",6,null,6,5,1,0,0,0,0,0,0]
["  Con doctorado..........................................................",0,null,{"$f":"E32+F32","v":0},0,0,{"$f":"H32+I32","v":0},0,0,{"$f":"K32+L32","v":0},0,0]
["Fuente: Gestión Educativa - Escuela Naval."]
["        Jefatura de Estudios - Escuela Nacional de Policía. "]
["        Escuela Militar."]
["        Departamento de Bedelía - Escuela Militar de Aeronáutica."]
["Nota: Sin formación de grado completa incluye docentes que no alcanzaron el grado o contaban con formación terciaria no universitaria."]
["           Escuela Militar, se incluyen 8 docentes que corresponden al Instituto Militar de las Armas y Especialidades/ Escuela de Administración Militar."]

{"sheet":"II-5.3.3","index":186,"n_rows":39,"n_cols":12,"rows_kept":39,"cut":false,"hidden":false,"merged":[[7,7,7,8],[7,10,7,11],[0,3,1,5],[4,0,4,11],[5,0,8,0],[5,1,8,1],[5,3,5,11],[6,3,8,3],[6,4,6,5],[6,6,8,6],[6,7,6,8],[6,9,8,9],[6,10,6,11],[7,4,7,5]]}
["OTRAS OFERTAS TERCIARIAS NO UNIVERSITARIAS ",null,null,"PERSONAL ACADÉMICO"]
[]
["Cuadro Nº II-5.3.3"]
[]
["PERSONAL ACADÉMICO DE NIVEL TERCIARIO NO UNIVERSITARIO POR CARGA HORARIA SEMANAL, SEXO, SEGÚN INSTITUCIÓN Y FORMACIÓN AÑO 2010."]
["INSTITUCIONES / FORMACIÓN","TOTAL",null,"HORAS SEMANALES"]
[null,null,null,"Total","20 horas o menos",null,"Total","Entre 21 y 30 horas",null,"Total","31 horas y más"]
[null,null,null,null,"SEXO",null,null,"SEXO",null,null,"SEXO"]
[null,null,null,null,"M","F",null,"M","F",null,"M","F"]
["E.M.A.D Margarita Xirgu................................................",{"$f":"D10+G10+J10","v":35},null,{"$f":"E10+F10","v":34},{"$f":"SUM(E11:E14)","v":19},{"$f":"SUM(F11:F14)","v":15},{"$f":"H10+I10","v":1},{"$f":"SUM(H11:H14)","v":0},{"$f":"SUM(I11:I14)","v":1},{"$f":"K10+L10","v":0},{"$f":"SUM(K11:K14)","v":0},{"$f":"SUM(L11:L14)","v":0}]
["  Sin formación degrado completa.........................................................",{"$f":"D11+G11+J11","v":32},null,{"$f":"E11+F11","v":32},18,14,{"$f":"H11+I11","v":0},0,0,{"$f":"K11+L11","v":0},0,0]
["  Con formación de grado...........................................................................",3,null,2,1,1,1,0,1,0,0,0]
["  Con postgrado de especialización o maestría............................................",0,null,0,0,0,0,0,0,0,0,0]
["  Con doctorado..........................................................",0,null,0,0,0,0,0,0,0,0,0]
[]
["I.N.A.U (*)..............................................",{"$f":"D16+G16+J16","v":36},null,18,{"$f":"SUM(E17:E20)","v":0},{"$f":"SUM(F17:F20)","v":0},18,{"$f":"SUM(H17:H20)","v":0},{"$f":"SUM(I17:I20)","v":0},{"$f":"K16+L16","v":0},{"$f":"SUM(K17:K20)","v":0},{"$f":"SUM(L17:L20)","v":0}]
["  Sin formación degrado completa.........................................................",{"$f":"D17+G17+J17","v":3},null,3,"s/d","s/d",{"$f":"H17+I17","v":0},"s/d","s/d",{"$f":"K17+L17","v":0},0,0]
["  Con formación de grado...........................................................................",13,null,13,"s/d","s/d",0,"s/d","s/d",0,0,0]
["  Con postgrado de especialización o maestría............................................",1,null,1,"s/d","s/d",0,"s/d","s/d",0,0,0]
["  Con doctorado..........................................................",1,null,1,"s/d","s/d",0,"s/d","s/d",0,0,0]
[]
["C.I.E.P.................................................",{"$f":"D22+G22+J22","v":29},null,{"$f":"E22+F22","v":29},{"$f":"SUM(E23:E26)","v":2},{"$f":"SUM(F23:F26)","v":27},{"$f":"H22+I22","v":0},{"$f":"SUM(H23:H26)","v":0},{"$f":"SUM(I23:I26)","v":0},{"$f":"K22+L22","v":0},{"$f":"SUM(K23:K26)","v":0},{"$f":"SUM(L23:L26)","v":0}]
["  Sin formación degrado completa.........................................................",{"$f":"D23+G23+J23","v":0},null,{"$f":"E23+F23","v":0},0,0,{"$f":"H23+I23","v":0},0,0,{"$f":"K23+L23","v":0},0,0]
["  Con formación de grado...........................................................................",18,null,18,1,17,0,0,0,0,0,0]
["  Con postgrado de especialización o maestría............................................",2,null,2,1,1,0,0,0,0,0,0]
["  Con doctorado..........................................................",9,null,{"$f":"E26+F26","v":9},0,9,{"$f":"H26+I26","v":0},0,0,{"$f":"K26+L26","v":0},0,0]
[]
["CALEN...................................................",{"$f":"D28+G28+J28","v":87},null,{"$f":"E28+F28","v":0},{"$f":"SUM(E29:E32)","v":0},0,{"$f":"H28+I28","v":87},{"$f":"SUM(H29:H32)","v":75},12,{"$f":"K28+L28","v":0},{"$f":"SUM(K29:K32)","v":0},0]
["  Sin formación degrado completa.........................................................",{"$f":"D29+G29+J29","v":1},null,0,0,0,1,1,0,0,0,0]
["  Con formación de grado...........................................................................",{"$f":"D30+G30+J30","v":9},null,0,0,0,9,8,1,0,0,0]
["  Con postgrado de especialización o maestría............................................",68,null,0,0,0,68,58,10,0,0,0]
["  Con doctorado..........................................................",9,null,0,0,0,9,8,1,0,0,0]
[]
["Fuente: Secretaría General - E.M.A.D."]
["        CEN.FOR.ES - I.N.A.U. "]
["        C.D.I"]
["        C.I.E.P"]
["        Secretaría General - CALEN. "]
["Nota: No se cuenta con datos de personal académico en nivel terciario de UTU."]

{"sheet":"EDUCACIÓN UNIVERSITARIA ","index":187,"n_rows":36,"n_cols":1,"rows_kept":36,"cut":false,"hidden":false,"merged":[[9,0,9,4],[33,0,33,4],[27,0,27,4],[29,0,29,4],[11,0,11,4],[13,0,13,4],[15,0,15,4],[17,0,17,4],[35,0,35,4],[31,0,31,4],[19,0,19,4],[21,0,21,4],[23,0,23,4],[25,0,25,4]]}
[]
[]
[]
[]
[]
[]
[]
[]
[]
["ALUMNOS INGRESADOS, MATRICULADOS Y EGRESADOS DE UNIVERSIDADES E INSTITUTOS UNIVERSITARIOS"]
["Cuadro II-6.1.1"]
[{"$f":"'II-6.1.1 '!A5:G5","v":"ALUMNOS MATRICULADOS EN PROGRAMAS DE GRADO POR SEXO SEGÚN GRANDES ÁREAS, DEPARTAMENTO E INSTITUCIÓN. AÑO 2010."}]
["Cuadro II-6.2.1"]
[{"$f":"'II-6.2.1'!A5:G5","v":"ALUMNOS MATRICULADOS, INGRESADOS Y EGRESADOS EN PROGRAMAS DE GRADO POR SEXO SEGÚN INSTITUCIÓN. AÑO 2010."}]
["Cuadro II-6.2.2"]
[{"$f":"'II-6.2.2 '!A5:G5","v":"ALUMNOS INGRESADOS, MATRICULADOS Y EGRESADOS EN PROGRAMAS DE GRADO POR SEXO SEGÚN SERVICIO UNIVERSITARIO Y CARRERA. AÑO 2010."}]
["Cuadro II-6.2.3"]
[{"$f":"'II-6.2.3 '!A5:J5","v":"ALUMNOS INGRESADOS, MATRICULADOS Y EGRESADOS EN PROGRAMAS DE GRADO DE UNIVERSIDADES PRIVADAS POR SEXO SEGÚN UNIVERSIDAD Y CARRERA. AÑO 2010."}]
["Cuadro II-6.2.4"]
[{"$f":"'II-6.2.4'!A5:J5","v":"ALUMNOS INGRESADOS, MATRICULADOS Y EGRESADOS EN PROGRAMAS DE GRADO DE INSTITUTOS UNIVERSITARIOS POR SEXO SEGÚN INSTITUTO UNIVERSITARIO Y CARRERA. AÑO 2010."}]
["Cuadro II-6.2.5"]
[{"$f":"'II-6.2.5'!A5:E5","v":"ALUMNOS MATRICULADOS Y PERSONAL DOCENTE EN PROGRAMAS DE POSTGRADO POR SEXO SEGÚN INSTITUCIÓN. AÑO 2010."}]
["Cuadro II-6.2.6 "]
[{"$f":"'II-6.2.6'!A5:G5","v":"ALUMNOS INGRESADOS Y EGRESADOS EN PROGRAMAS DE POSTGRADO POR SEXO SEGÚN INSTITUCIÓN. AÑO 2010."}]
["Cuadro II-6.2.7"]
[{"$f":"'II-6.2.7'!A5:G5","v":"ALUMNOS MATRICULADOS, INGRESADOS Y EGRESADOS EN PROGRAMAS DE POSTGRADO DE LA UNIVERSIDAD DE LA REPÚBLICA POR SEXO SEGÚN SERVICIO UNIVERSITARIO Y ACREDITACIÓN. AÑO 2010."}]
["Cuadro II-6.2.8 "]
[{"$f":"'II-6.2.8 '!A5:J5","v":"ALUMNOS INGRESADOS, MATRICULADOS Y EGRESADOS EN PROGRAMAS DE POSTGRADO DE UNIVERSIDADES PRIVADAS POR SEXO SEGÚN UNIVERSIDAD Y ACREDITACIÓN. AÑO 2010."}]
["Cuadro II-6.2.9 "]
[{"$f":"'II-6.2.9 '!A5:J5","v":"ALUMNOS INGRESADOS, MATRICULADOS Y EGRESADOS EN PROGRAMAS DE POSTGRADO DE INSTITUTOS UNIVERSITARIOS POR SEXO SEGÚN INSTITUTO UNIVERSITARIO Y ACREDITACIÓN. AÑO 2010."}]
["Cuadro II-6.2.11 "]
[{"$f":"'II-6.2.11 '!A5:E5","v":"ALUMNOS INGRESADOS Y MATRICULADOS DE GRADO EN UNIVERSIDADES E INSTITUTOS UNIVERSITARIOS, SEGÚN INSTITUCIÓN Y LUGAR DE ORIGEN. AÑO 2010."}]
[]
["PERSONAL ACADÉMICO DE INSTITUCIONES UNIVERSITARIAS PÚBLICAS Y PRIVADAS EXPRESADAS EN POSICIONES FUNCIONALES POR CARGA HORARIA SEMANAL SEGÚN INSTITUCIÓN Y ACTIVIDAD. AÑO 2009"]
["Cuadro II-6.2.10 "]
[{"$f":"'II-6.2.10 '!A5:I5","v":"PERSONAL DOCENTE Y NO DOCENTE DE INSTITUCIONES UNIVERSITARIAS PUBLICAS Y PRIVADAS EXPRESADAS EN POSICIONES FUNCIONALES POR CARGA HORARIA SEMANAL SEGÚN INSTITUCIÓN, ACTIVIDAD Y SEXO. AÑO 2010."}]

{"sheet":"II-6.1.1 ","index":188,"n_rows":49,"n_cols":5,"rows_kept":49,"cut":false,"hidden":false,"merged":[[41,0,41,6],[40,0,40,6],[0,3,1,5],[5,0,7,1],[39,0,39,6],[4,0,4,6],[5,2,7,2],[6,3,6,4],[5,3,5,4]]}
["OFERTA UNIVERSITARIA DE GRADO",null,null,"INSTITUCIONES"]
[]
["Cuadro Nº II-6.1.1"]
[]
["ALUMNOS MATRICULADOS EN PROGRAMAS DE GRADO POR SEXO SEGÚN GRANDES ÁREAS, DEPARTAMENTO E INSTITUCIÓN. AÑO 2010."]
["GRANDES ÁREAS / DEPARTAMENTO / INSTITUCIÓN",null,"TOTAL","MATRICULA"]
[null,null,null,"SEXO"]
[null,null,null,"M","F"]
["TOTAL.............................................................",null,{"$f":"+D9+E9","v":131013},{"$f":"+D11+D26","v":51234},{"$f":"+E11+E26","v":79779}]
[]
["MONTEVIDEO....................................................",null,{"$f":"SUM(D11:E11)","v":129818},{"$f":"SUM(D13:D24)","v":50793},{"$f":"SUM(E13:E24)","v":79025}]
[]
["UdelaR*...........................................................",null,{"$f":"SUM(D13:E13)","v":112707},41901,70806]
["U.C.U.D.A.L.......................................",null,5604,2347,3257]
["Universidad ORT Uruguay...........................",null,6607,3918,2689]
["Universidad de Montevideo.........................",null,1650,784,866]
["Universidad de la Empresa..........................",null,1826,985,841]
["Inst. Univ. Autónomo del Sur..........................",null,605,508,97]
["Inst. Univ. Asociación Cristiana de Jóvenes..........................",null,427,263,164]
["Inst. Metodista Univ. Crandon.....................................",null,74,3,71]
["Inst. Univ. Monseñor Mariano Soler......................................",null,42,41,1]
["Inst. Univ. Bios.......................................",null,66,31,35]
["Inst. Univ. CEDIIAP.......................................",null,186,6,180]
["Inst. Univ. C.L.A.E.H ...................................",null,{"$f":"SUM(D24:E24)","v":24},6,18]
[]
["RESTO DEL PAÍS.....................................",null,{"$f":"+D26+E26","v":1195},{"$f":"+D28+D29+D34+D37","v":441},{"$f":"+E28+E29+E34+E37","v":754}]
[]
["Colonia - UdelaR......................................",null,"S/D","S/D","S/D"]
["Maldonado.......................................................",null,{"$f":"SUM(D29:E29)","v":740},{"$f":"SUM(D30:D33)","v":286},{"$f":"SUM(E30:E33)","v":454}]
["  UdelaR......................................",null,"S/D","S/D","S/D"]
["  U.C.U.D.A.L.......................................",null,{"$f":"SUM(D31:E31)","v":169},91,78]
["  Inst. Univ. Francisco de Asís ....................................",null,{"$f":"SUM(D32:E32)","v":380},117,263]
["  Inst. Univ. C.L.A.E.H ...................................",null,{"$f":"SUM(D33:E33)","v":191},78,113]
["Paysandú..........................................................",null,{"$f":"SUM(D34:E34)","v":0},0,0]
["  UdelaR......................................",null,"S/D","S/D","S/D"]
["  U.C.U.D.A.L .......................................",null,{"$f":"SUM(D36:E36)","v":0},0,0]
["Salto.............................................................",null,{"$f":"SUM(D37:E37)","v":455},{"$f":"SUM(D38:D39)","v":155},{"$f":"SUM(E38:E39)","v":300}]
["  UdelaR ......................................",null,{"$f":"SUM(D38:E38)","v":184},37,147]
["  U.C.U.D.A.L.......................................",null,{"$f":"SUM(D39:E39)","v":271},118,153]
["Fuente: Oficinas Productoras de cada una de las Instituciones. "]
["Nota: * no se dispone de datos correspondientes al año 2010, se incorpora el último dato disponible. (último dato disponible CENSO 2007)."]
["Las expresión “Estudiantes” hace referencia a relaciones entre personas e instituciones y no al conteo de personas físicas. De manera que una persona puede ser estudiante de más de una institución o región, ostentando en cualquiera de ambas categorías inserciones múltiples."]
[]
["        "]
["        "]
["        "]
["        "]
["        "]
["        "]

{"sheet":"II-6.2.1","index":189,"n_rows":24,"n_cols":7,"rows_kept":24,"cut":false,"hidden":false,"merged":[[0,4,1,6],[5,0,7,0],[4,0,4,6],[23,0,23,6],[6,5,6,6],[5,1,7,1],[5,4,7,4],[5,5,5,6],[6,2,6,3],[5,2,5,3]]}
["OFERTA UNIVERSITARIA DE GRADO",null,null,null,"ALUMNOS MATRICULADOS"]
[]
["Cuadro Nº II-6.2.1"]
[]
["ALUMNOS MATRICULADOS, INGRESADOS Y EGRESADOS EN PROGRAMAS DE GRADO POR SEXO SEGÚN INSTITUCIÓN. AÑO 2010."]
["INSTITUCIONES","TOTAL","INGRESADOS",null,"TOTAL","EGRESADOS"]
[null,null,"SEXO",null,null,"SEXO"]
[null,null,"M","F",null,"M","F"]
["TOTAL.............................................................",{"$f":"SUM(C9:D9)","v":23597},{"$f":"SUM(C11:C23)","v":9104},{"$f":"SUM(D11:D23)","v":14493},{"$f":"SUM(F9:G9)","v":6017},{"$f":"SUM(F11:F23)","v":2069},{"$f":"SUM(G11:G23)","v":3948}]
[]
["UdelaR ...........................................................",{"$f":"SUM(C11:D11)","v":19467},7045,12422,{"$f":"SUM(F11:G11)","v":4784},1555,3229]
["U.C.U.D.A.L.......................................",1405,576,829,436,175,261]
["Universidad ORT Uruguay...........................",1152,673,479,288,126,162]
["Universidad de Montevideo.........................",363,178,185,200,84,116]
["Universidad de la Empresa..........................",599,322,277,184,99,85]
["Inst. Univ. Autónomo del Sur..........................",122,108,14,10,8,2]
["Inst. Univ. Asociación Cristiana de Jóvenes..........................",185,111,74,39,11,28]
["Inst. Univ. C.L.A.E.H ....................................",52,17,35,0,0,0]
["Inst. Metodista Univ. Crandon.....................................",25,1,24,35,1,34]
["Inst. Univ. Monseñor Mariano Soler......................................",18,17,1,8,0,8]
["Inst. Univ. Francisco de Asís ....................................",118,39,79,6,0,6]
["Inst. Univ. Bios.......................................",27,10,17,14,10,4]
["Inst. Univ. CEDIIAP.......................................",64,7,57,13,0,13]
["Fuente: Oficinas Productoras de cada una de las Instituciones. "]

{"sheet":"II-6.2.2 ","index":190,"n_rows":274,"n_cols":9,"rows_kept":274,"cut":false,"hidden":false,"merged":[[0,6,1,8],[5,1,7,1],[5,2,5,3],[5,4,7,4],[5,5,5,6],[6,2,6,3],[6,5,6,6],[4,0,4,6],[93,6,94,8],[98,1,100,1],[98,2,98,3],[98,4,100,4],[98,5,98,6],[99,2,99,3],[99,5,99,6],[97,0,97,6],[160,6,161,8],[165,1,167,1],[165,2,165,3],[165,4,167,4],[165,5,165,6],[166,2,166,3],[166,5,166,6],[164,0,164,6],[164,7,164,9],[220,6,221,8],[225,1,227,1],[225,2,225,3],[225,4,227,4],[225,5,225,6],[226,2,226,3],[226,5,226,6],[224,0,224,6],[224,7,224,9]]}
["UNIVERSIDAD DE LA REPÚBLICA: OFERTA DE GRADO",null,null,null,null,null,"ALUMNOS MATRICULADOS"]
[]
["Cuadro Nº II-6.2.2"]
[]
["ALUMNOS INGRESADOS, MATRICULADOS Y EGRESADOS EN PROGRAMAS DE GRADO POR SEXO SEGÚN SERVICIO UNIVERSITARIO Y CARRERA. AÑO 2010."]
[null,"TOTAL","INGRESADOS",null,"TOTAL","EGRESADOS"]
["SERVICIO UNIVERSITARIO / CARRERA",null,"SEXO",null,null,"SEXO"]
[null,null,"M","F",null,"M","F"]
["TOTAL.............................................................",{"$f":"SUM(C9:D9)","v":19467},{"$f":"+C11+C26+C30+C37+C44+C56+C84+C102+C105+C108+C119+C124+C129+C137+C143+C147+C169+C173+C177+C205+C229+C243+C251+C257+C264+C78+C81+C87+C70+C74+C269+C272+C90","v":7045},{"$f":"+D11+D26+D30+D37+D44+D56+D84+D102+D105+D108+D119+D124+D129+D137+D143+D147+D169+D173+D177+D205+D229+D243+D251+D257+D264+D78+D81+D87+D70+D74+D269+D272+D90","v":12422},{"$f":"SUM(F9:G9)","v":4784},{"$f":"+F11+F26+F30+F37+F44+F56+F84+F102+F105+F108+F119+F124+F129+F137+F143+F147+F169+F173+F177+F205+F229+F243+F251+F257+F264+F78+F81+F87+F70+F74+F269+F272+F90","v":1555},{"$f":"+G11+G26+G30+G37+G44+G56+G84+G102+G105+G108+G119+G124+G129+G137+G143+G147+G169+G173+G177+G205+G229+G243+G251+G257+G264+G78+G81+G87+G70+G74+G269+G272+G90","v":3229}]
[]
["FACULTAD DE HUMANIDADES Y CIENCIAS DE LA EDUCACIÓN...........................................................",{"$f":"SUM(C11:D11)","v":887},{"$f":"SUM(C12:C24)","v":280},{"$f":"SUM(D12:D24)","v":607},{"$f":"SUM(F11:G11)","v":72},{"$f":"SUM(F12:F24)","v":28},{"$f":"SUM(G12:G24)","v":44}]
["Téc. Universitario en Turismo.......................................",{"$f":"SUM(C12:D12)","v":7},3,4,0,0,0]
["Téc. Universitario en Turismo (Maldonado).......................................",129,31,98,6,2,4]
["Lic. Binacional en Turismo (Salto)....................................","S/D",null,null,3,2,1]
["Lic. en Ciencias Antropológicas..........................................",127,48,79,17,4,13]
["Lic. en Ciencias de la Educación...........................................",155,42,113,12,7,5]
["Lic. en Ciencias Históricas....................................................",114,51,63,5,2,3]
["Lic. en Filosofía....................................................",99,46,53,13,7,6]
["Lic. en Letras..............................................................................",118,31,87,2,0,2]
["Lic. en Turismo..............................................................................","S/D",null,null,3,3,0]
["Lic. en Lingüística.......................................................",63,16,47,6,1,5]
["Lic. en Historia.......................................................","S/D",null,null,1,0,1]
["Téc. Universitario en Interpretación LSU ........................................","S/D",null,null,"S/D"]
["Téc. Universitario en Corrección de Estilo........................................",75,12,63,4,0,4]
[]
["FACULTAD DE AGRONOMÍA -",{"$f":"SUM(C26:D26)","v":391},{"$f":"SUM(C27:C28)","v":283},{"$f":"SUM(D27:D28)","v":108},{"$f":"SUM(F26:G26)","v":113},{"$f":"SUM(F27:F28)","v":90},{"$f":"SUM(G27:G28)","v":23}]
["Ingeniero Agrónomo...............................................................................................",{"$f":"SUM(C27:D27)","v":346},257,89,{"$f":"SUM(F27:G27)","v":113},90,23]
["Ingeniero Agrónomo (Salto)...............................................................................................",{"$f":"SUM(C28:D28)","v":45},26,19,"S/D"]
[]
["FACULTAD DE ARQUITECTURA -",{"$f":"SUM(C30:D30)","v":813},{"$f":"SUM(C31:C35)","v":292},{"$f":"SUM(D31:D35)","v":521},{"$f":"SUM(F30:G30)","v":295},{"$f":"SUM(F31:F35)","v":143},{"$f":"SUM(G31:G35)","v":152}]
["Arquitecto...........................................................",525,224,301,{"$f":"SUM(F31:G31)","v":295},143,152]
["Arquitecto (Salto)...........................................................",25,12,13,"-"]
["Licenciado en Diseño Industrial...........................................................",90,27,63,"-"]
["Licenciado en Diseño Textil y Moda...........................................................",95,4,91,"-"]
["Diseño de Paisaje(Maldonado)...........................................................",78,25,53,"-"]
[]
["FACULTAD DE CIENCIAS ECONÓMICAS Y ADMINISTRACIÓN..........................................................",{"$f":"SUM(C37:D37)","v":1787},{"$f":"SUM(C38:C42)","v":791},{"$f":"SUM(D38:D42)","v":996},{"$f":"SUM(F37:G37)","v":502},{"$f":"SUM(F38:F42)","v":185},{"$f":"SUM(G38:G42)","v":317}]
["Ciclo Básico...................................................",{"$f":"SUM(C38:D38)","v":1720},760,960,"N/C"]
["Lic. en Estadística........................................................",{"$f":"SUM(C39:D39)","v":67},31,36,{"$f":"SUM(F39:G39)","v":3},1,2]
["Contador Público..................................................","N/C",null,null,{"$f":"SUM(F40:G40)","v":405},155,250]
["Lic. en Economía (Plan 1990)..................................................","N/C",null,null,{"$f":"SUM(F41:G41)","v":69},24,45]
["Lic. en Administración-Contador (Plan 1990).....................................","N/C",null,null,{"$f":"SUM(F42:G42)","v":25},5,20]
[]
["FACULTAD DE DERECHO..........................................................",{"$f":"SUM(C44:D44)","v":2745},{"$f":"SUM(C45:C54)","v":790},{"$f":"SUM(D45:D54)","v":1955},{"$f":"SUM(F44:G44)","v":734},{"$f":"SUM(F45:F54)","v":183},{"$f":"SUM(G45:G54)","v":551}]
["Téc. en Relaciones Laborales...................................................",899,215,684,{"$f":"SUM(F45:G45)","v":52},11,41]
["Téc. en Relaciones Laborales (Rocha)...................................................",104,26,78,"N/C"]
["Dr. en Derecho – Escribano Público...................................................",1120,333,787,"N/C"]
["Dr. en Derecho – Escribano Público (Salto)...................................................",101,30,71,"N/C"]
["Traductor Público..................................................",37,4,33,18,1,17]
["Dr. en Derecho.........................................................","N/C",null,null,341,101,240]
["Dr. en Derecho (Salto)..................................................","N/C",null,null,18,10,8]
["Escribano Público.....................................................","N/C",null,null,206,35,171]
["Escribano Público (Salto)...............................................","N/C",null,null,14,2,12]
[null,{"$f":"SUM(C54:D54)","v":484},182,302,85,23,62]
[]
["FACULTAD DE INGENIERÍA..........................................................",{"$f":"SUM(C56:D56)","v":1279},{"$f":"SUM(C57:C68)","v":1027},{"$f":"SUM(D57:D68)","v":252},{"$f":"SUM(F56:G56)","v":250},{"$f":"SUM(F57:F68)","v":194},{"$f":"SUM(G57:G68)","v":56}]
["Tecnólogo Mecánico..............................................",37,37,0,{"$f":"SUM(F57:G57)","v":19},17,2]
["Tecnólogo Mecánico (Paysandú)..............................................",26,26,0,"S/D"]
["Tecnólogo Informática..............................................",7,7,0,"S/D"]
["Tecnólogo Informática (Paysandú)..............................................",28,26,2,"S/D"]
["Tecnólogo Informática (Maldonado)..............................................",15,11,4,"S/D"]
["Tecnólogo en Telecomunicaciones (Rocha)..............................................",16,14,2,"S/D"]
["Ingeniero Naval............................................................",14,12,2,{"$f":"SUM(F63:G63)","v":1},1,0]
["Ingeniero Civil.............................................................",168,96,72,57,37,20]
["Ingeniero Industrial Mecánico.................................................",154,128,26,23,16,7]
["Ingeniero Electricista.............................................",137,115,22,45,41,4]
["Ingeniero en Computación.......................................................",664,546,118,99,78,21]
["Agrimensura................................................................",13,9,4,6,4,2]
[]
["FACULTAD DE INGENIERÍA y QUÍMICA........................................................",{"$f":"SUM(C70:D70)","v":176},{"$f":"SUM(C71:C72)","v":69},{"$f":"SUM(D71:D72)","v":107},{"$f":"SUM(F70:G70)","v":47},{"$f":"SUM(F71:F72)","v":26},{"$f":"SUM(G71:G72)","v":21}]
["Ingeniero Químico................................................................",{"$f":"SUM(C71:D71)","v":173},67,106,{"$f":"SUM(F71:G71)","v":47},26,21]
["Ingeniero Químico (Salto)................................................................",{"$f":"SUM(C72:D72)","v":3},2,1,"-"]
[]
["FACULTAD DE AGRONOMÍA, INGENIERÍA, QUÍMICA y VETERINARIA........................................................",{"$f":"SUM(C74:D74)","v":114},{"$f":"SUM(C75:C76)","v":22},{"$f":"SUM(D75:D76)","v":92},{"$f":"SUM(F74:G74)","v":27},{"$f":"SUM(F75:F76)","v":4},{"$f":"SUM(G75:G76)","v":23}]
["Ingeniero Alimentario................................................................",{"$f":"SUM(C75:D75)","v":113},21,92,{"$f":"SUM(F75:G75)","v":27},4,23]
["Ingeniero Alimentario (Salto)................................................................",{"$f":"SUM(C76:D76)","v":1},1,0,"-"]
[]
["FACULTAD DE INGENIERÍA y CIENCIAS..............................................",{"$f":"SUM(C78:D78)","v":11},{"$f":"+SUM(C79)","v":4},{"$f":"+SUM(D79)","v":7},{"$f":"SUM(F78:G78)","v":0},{"$f":"+SUM(F79)","v":0},{"$f":"+SUM(G79)","v":0}]
["Lic. en Ciencias de la Atmósfera................................................................",{"$f":"SUM(C79:D79)","v":11},4,7,"S/D"]
[]
["FACULTAD DE ARQUITECTURA y I.N.B.A. ..............................................",{"$f":"SUM(C81:D81)","v":123},{"$f":"+SUM(C82)","v":36},{"$f":"+SUM(D82)","v":87},{"$f":"SUM(F81:G81)","v":0},{"$f":"+SUM(F82)","v":0},{"$f":"+SUM(G82)","v":0}]
["Lic. en Diseño de Comunicación Visual................................................................",{"$f":"SUM(C82:D82)","v":123},36,87,"S/D"]
[]
["FACULTAD DE AGRONOMÍA y QUÍMICA ........................................................",{"$f":"SUM(C84:D84)","v":2},{"$f":"+C85","v":1},{"$f":"+D85","v":1},{"$f":"SUM(F84:G84)","v":0},{"$f":"+F85","v":0},{"$f":"+G85","v":0}]
["Licenciatura en Vitivinicultura..................................................................",{"$f":"SUM(C85:D85)","v":2},1,1,"S/D"]
[]
["FACULTAD DE AGRONOMÍA, INGENIERÍA, QUÍMICA y UTU........................................................",{"$f":"SUM(C87:D87)","v":18},{"$f":"SUM(C88)","v":13},{"$f":"SUM(D88)","v":5},{"$f":"SUM(F87:G87)","v":0},{"$f":"SUM(F88)","v":0},{"$f":"SUM(G88)","v":0}]
["Tecnólogo Agroenergético (Artigas)................................................................",{"$f":"SUM(C88:D88)","v":18},13,5,"S/D"]
[]
["FACULTAD DE AGRONOMÍA, INGENIERÍA, QUÍMICA, VETERINARIA y UTU........................................................",{"$f":"SUM(C90:D90)","v":71},{"$f":"SUM(C91)","v":36},{"$f":"SUM(D91)","v":35},{"$f":"SUM(F90:G90)","v":0},{"$f":"SUM(F91)","v":0},{"$f":"SUM(G91)","v":0}]
["Tecnólogo Cárnico (Tacuarembó)................................................................",{"$f":"SUM(C91:D91)","v":71},36,35,"S/D"]
[null,null,null,null,null,null,null,null,"(Continúa)"]
[]
["UNIVERSIDAD DE LA REPÚBLICA: OFERTA DE GRADO",null,null,null,null,null,"ALUMNOS MATRICULADOS"]
[]
["Cuadro Nº II-6.2.2  (continuación)"]
[]
["ALUMNOS INGRESADOS, MATRICULADOS Y EGRESADOS EN PROGRAMAS DE GRADO POR SEXO SEGÚN SERVICIO UNIVERSITARIO Y CARRERA. AÑO 2010."]
[null,"TOTAL","INGRESADOS",null,"TOTAL","EGRESADOS"]
["SERVICIO UNIVERSITARIO / CARRERA",null,"SEXO",null,null,"SEXO"]
[null,null,"M","F",null,"M","F"]
["FACULTAD DE MEDICINA............................................",{"$f":"SUM(C102:D102)","v":1079},{"$f":"SUM(C103)","v":316},{"$f":"SUM(D103)","v":763},{"$f":"SUM(F102:G102)","v":542},{"$f":"SUM(F103)","v":183},{"$f":"SUM(G103)","v":359}]
["Dr. en Medicina..............................................................",{"$f":"SUM(C103:D103)","v":1079},316,763,{"$f":"SUM(F103:G103)","v":542},183,359]
[]
["FACULTAD DE ODONTOLOGÍA ............................................",{"$f":"SUM(C105:D105)","v":248},{"$f":"SUM(C106)","v":65},{"$f":"SUM(D106)","v":183},{"$f":"SUM(F105:G105)","v":168},{"$f":"SUM(F106)","v":48},{"$f":"SUM(G106)","v":120}]
["Dr. en Odontología............................................................",{"$f":"SUM(C106:D106)","v":248},65,183,{"$f":"SUM(F106:G106)","v":168},48,120]
[]
["FACULTAD DE QUÍMICA........................................................",{"$f":"SUM(C108:D108)","v":331},{"$f":"SUM(C109:C117)","v":78},{"$f":"SUM(D109:D117)","v":253},{"$f":"SUM(F108:G108)","v":85},{"$f":"SUM(F109:F117)","v":24},{"$f":"SUM(G109:G117)","v":61}]
["Téc. Químico.............................................................",{"$f":"SUM(C109:D109)","v":14},2,12,6,2,4]
["Bioquímico Clínico..............................................",{"$f":"SUM(C110:D110)","v":93},20,73,15,2,13]
["Bioquímico Clínico (Salto)..............................................",3,2,1,"-"]
["Licenciatura en Química.................................................","S/D",null,null,10,6,4]
["Mag. en Química (Plan 1987)............................................","N/C",null,null,1,0,1]
["Químico Farmacéutico.........................................................",159,32,127,40,9,31]
["Químico Farmacéutico (Salto)..........................................",3,2,1,"-"]
["Químico (Plan 2000)..................................................................................................",58,20,38,13,5,8]
["Químico (Salto)..................................................................................................",1,0,1,"-"]
[]
["FACULTAD DE VETERINARIA ............................................",{"$f":"SUM(C119:D119)","v":496},{"$f":"SUM(C120:C122)","v":193},{"$f":"SUM(D120:D122)","v":303},{"$f":"SUM(F119:G119)","v":91},{"$f":"SUM(F120:F122)","v":35},{"$f":"SUM(G120:G122)","v":56}]
["Dr. en Ciencias Veterinarias..................................................",{"$f":"SUM(C120:D120)","v":446},173,273,{"$f":"SUM(F120:G120)","v":84},33,51]
["Dr. en Ciencias Veterinarias (Salto)..................................................",{"$f":"SUM(C121:D121)","v":50},20,30,"-"]
["Dr. en Medicina y Tecnología Veterinaria..................................................","N/C",null,null,{"$f":"SUM(F122:G122)","v":7},2,5]
[]
["ESCUELA UNIV. DE BIBLIOTECOLOGÍA Y CS. AFINES........................................",{"$f":"SUM(C124:D124)","v":122},{"$f":"SUM(C125:C127)","v":28},{"$f":"SUM(D125:D127)","v":94},{"$f":"SUM(F124:G124)","v":25},{"$f":"SUM(F125:F127)","v":5},{"$f":"SUM(G125:G127)","v":20}]
["Archivólogo........................................................",{"$f":"SUM(C125:D125)","v":66},16,50,{"$f":"SUM(F125:G125)","v":10},2,8]
["Archivólogo (Rivera)...............................................","S/D",null,null,{"$f":"SUM(F126:G126)","v":1},0,1]
["Lic. en Bibliotecología...........................................",{"$f":"SUM(C127:D127)","v":56},12,44,{"$f":"SUM(F127:G127)","v":14},3,11]
[]
["INSTITUTO ESCUELA NACIONAL DE BELLAS ARTES ....................................",{"$f":"+C129+D129","v":538},{"$f":"SUM(C130:C135)","v":195},{"$f":"SUM(D130:D135)","v":343},{"$f":"+F129+G129","v":81},{"$f":"SUM(F130:F135)","v":30},{"$f":"SUM(G130:G135)","v":51}]
["Creador Plástico....................................................","N/C","N/C","N/C",{"$f":"SUM(F130:G130)","v":63},28,35]
["Lic. en Artes....................................................",{"$f":"SUM(C131:D131)","v":538},195,343,"N/C"]
["Lic. en Artes - Artes Plásticas y Visuales.......................","N/C",null,null,{"$f":"SUM(F132:G132)","v":12},1,11]
["Lic. en Artes - Dibujo y Pintura.................................","N/C",null,null,{"$f":"SUM(F133:G133)","v":3},1,2]
["Lic. en Artes - Diseño Gráfico..................................","N/C",null,null,{"$f":"SUM(F134:G134)","v":2},0,2]
["Lic. en Artes - Fotografía.......................................","N/C",null,null,{"$f":"SUM(F135:G135)","v":1},0,1]
[]
["FACULTAD DE ENFERMERÍA ................................................",{"$f":"SUM(C137:D137)","v":729},{"$f":"SUM(C138:C141)","v":100},{"$f":"SUM(D138:D141)","v":629},{"$f":"SUM(F137:G137)","v":273},{"$f":"SUM(F138:F141)","v":38},{"$f":"SUM(G138:G141)","v":235}]
["Carrera Escalonada.................................................",{"$f":"SUM(C138:D138)","v":271},32,239,"N/C"]
["Carrera Escalonada (Rivera)................................................",{"$f":"SUM(C139:D139)","v":28},3,25,"N/C"]
["Lic. en Enfermería................................................",{"$f":"SUM(C140:D140)","v":339},52,287,{"$f":"SUM(F140:G140)","v":217},26,191]
["Lic. en Enfermería (Salto)................................................",{"$f":"SUM(C141:D141)","v":91},13,78,{"$f":"SUM(F141:G141)","v":56},12,44]
[]
["ESCUELA DE NUTRICIÓN Y DIETÉTICA..........................................",{"$f":"SUM(C143:D143)","v":362},{"$f":"+C144+C145","v":50},{"$f":"+D144+D145","v":312},{"$f":"+F143+G143","v":128},{"$f":"+F144+F145","v":7},{"$f":"+G144+G145","v":121}]
["Lic. en Nutrición....................................................",{"$f":"SUM(C144:D144)","v":362},50,312,{"$f":"SUM(F144:G144)","v":126},7,119]
["Nutricionista Dietista....................................................","N/C",null,null,{"$f":"SUM(F145:G145)","v":2},0,2]
[]
["ESCUELA UNIVERSITARIA DE MÚSICA........................................",{"$f":"SUM(C147:D147)","v":58},{"$f":"SUM(C148:C152)","v":40},{"$f":"SUM(D148:D152)","v":18},{"$f":"SUM(F147:G147)","v":4},{"$f":"SUM(F148:F152)","v":4},{"$f":"SUM(G148:G152)","v":0}]
["Téc. en Dirección de Coros (Salto)......................................",3,2,1,"S/D"]
["Técnico en Interpretación Musical (Salto)........................................................................................",6,2,4,"S/D"]
["Lic. en Interpretación Instrumental..........................................","N/C",null,null,{"$f":"SUM(F150:G150)","v":2},2,0]
["Lic. en Interpretación Musical...........................................",26,20,6,{"$f":"SUM(F151:G151)","v":2},2,0]
["Licenciado en Música..........................................................",23,16,7,"S/D"]
[]
[null,null,null,null,null,null,null,null,"(Continúa)"]
[]
[]
[]
[]
[]
[]
["UNIVERSIDAD DE LA REPÚBLICA: OFERTA DE GRADO",null,null,null,null,null,"ALUMNOS MATRICULADOS"]
[]
["Cuadro Nº II-6.2.2  (continuación)"]
[]
["ALUMNOS INGRESADOS, MATRICULADOS Y EGRESADOS EN PROGRAMAS DE GRADO POR SEXO SEGÚN SERVICIO UNIVERSITARIO Y CARRERA. AÑO 2010."]
[null,"TOTAL","INGRESADOS",null,"TOTAL","EGRESADOS"]
["SERVICIO UNIVERSITARIO / CARRERA",null,"SEXO",null,null,"SEXO"]
[null,null,"M","F",null,"M","F"]
["ESCUELA DE PARTERAS................................................................",{"$f":"SUM(C169:D169)","v":372},{"$f":"SUM(C170:C171)","v":31},{"$f":"SUM(D170:D171)","v":341},{"$f":"SUM(F169:G169)","v":61},{"$f":"SUM(F170:F171)","v":0},{"$f":"SUM(G170:G171)","v":61}]
["Obstetra - Partera...............................................",{"$f":"SUM(C170:D170)","v":316},31,285,{"$f":"SUM(F170:G170)","v":27},0,27]
["Obstétrica (Carrera Binacional)....................................................",{"$f":"SUM(C171:D171)","v":56},0,56,{"$f":"SUM(F171:G171)","v":34},0,34]
[]
["FACULTAD DE PSICOLOGÍA..................................................",{"$f":"SUM(C173:D173)","v":1337},{"$f":"SUM(C174:C175)","v":329},{"$f":"SUM(D174:D175)","v":1008},{"$f":"SUM(F173:G173)","v":321},{"$f":"SUM(F174:F175)","v":61},{"$f":"SUM(G174:G175)","v":260}]
["Lic. en Psicología...........................................................",{"$f":"SUM(C174:D174)","v":1337},329,1008,{"$f":"SUM(F174:G174)","v":320},61,259]
["Lic. en Psicología (Salto)................................................","-",null,null,{"$f":"SUM(F175:G175)","v":1},0,1]
[]
["ESCUELA DE TECNOLOGÍA MEDICA........................................",{"$f":"SUM(C177:D177)","v":522},{"$f":"SUM(C178:C203)","v":115},{"$f":"SUM(D178:D203)","v":407},{"$f":"SUM(F177:G177)","v":183},{"$f":"SUM(F178:F203)","v":40},{"$f":"SUM(G178:G203)","v":143}]
["Técnico en Anatomía Patológica........................................",12,1,11,7,1,6]
["Técnico en Anatomía Patológica (Paysandú)........................................",10,7,3,1,0,1]
["Técnico en Cosmetología Médica........................................",33,0,33,21,0,21]
["Técnico en Hemoterapia................................................................",13,0,13,4,3,1]
["Técnico en Hemoterapia (Paysandú)........................................",10,1,9,3,1,2]
["Técnico en Podología Médica (Paysandú)........................................",22,10,12,6,0,6]
["Técnico en Podología Médica........................................",24,7,17,0,0,0]
["Técnico en Radioisótopos........................................",9,3,6,1,1,0]
["Técnico en Radioterapia....................................................",10,3,7,1,0,1]
["Técnico en Radioterapia (Paysandú)........................................",10,2,8,0,0,0]
["Licenciado en Fisioterapia........................................",26,7,19,13,5,8]
["Licenciado en Fisioterapia (Paysandú)........................................",22,6,16,11,4,7]
["Licenciado en Fonoaudiología......................................",19,1,18,16,1,15]
["Licenciado en Imagenología........................................",23,11,12,6,2,4]
["Licenciado en Imagenología (Paysandú)........................................",25,13,12,5,0,5]
["Licenciado en Instrumentación Quirúrgica........................................",26,6,20,17,0,17]
["Licenciado en Instrumentación Quirúrgica (Paysandú)........................................",16,4,12,8,3,5]
["Licenciado en Laboratorio Clínico........................................",38,7,31,20,5,15]
["Licenciado en Laboratorio Clínico (Paysandú)........................................",15,2,13,7,3,4]
["Licenciado en Neumocardiología........................................",19,4,15,16,7,9]
["Licenciado en Neurofisiología Clínica........................................",16,3,13,8,3,5]
["Licenciado en Oftalmología........................................",23,6,17,2,0,2]
["Licenciado en Psicomotricidad........................................",17,0,17,8,0,8]
["Licenciado en Psicomotricidad (Paysandú)........................................",14,3,11,1,0,1]
["Licenciado en Registros Médicos........................................",48,7,41,1,1,0]
["Licenciado en Terapia Ocupacional........................................",22,1,21,"S/D"]
[]
["CIENCIAS DE LA COMUNICACIÓN..................................................",{"$f":"SUM(C205:D205)","v":594},{"$f":"SUM(C206:C206)","v":245},{"$f":"SUM(D206:D206)","v":349},{"$f":"SUM(F205:G205)","v":137},{"$f":"SUM(F206:F206)","v":42},{"$f":"SUM(G206:G206)","v":95}]
["Lic. en Ciencias de la Comunicación (Plan 1999).........................",{"$f":"SUM(C206:D206)","v":594},245,349,{"$f":"SUM(F206:G206)","v":137},42,95]
[]
[null,null,null,null,null,null,null,null,"(Continúa)"]
[]
[]
[]
[]
[]
[]
[]
[]
[]
[]
[]
[]
["UNIVERSIDAD DE LA REPÚBLICA: OFERTA DE GRADO",null,null,null,null,null,"ALUMNOS MATRICULADOS"]
[]
["Cuadro Nº II-6.2.2  (continuación)"]
[]
["ALUMNOS INGRESADOS, MATRICULADOS Y EGRESADOS EN PROGRAMAS DE GRADO POR SEXO SEGÚN SERVICIO UNIVERSITARIO Y CARRERA. AÑO 2010."]
[null,"TOTAL","INGRESADOS",null,"TOTAL","EGRESADOS"]
["SERVICIO UNIVERSITARIO / CARRERA",null,"SEXO",null,null,"SEXO"]
[null,null,"M","F",null,"M","F"]
["FACULTAD DE CIENCIAS....................................................",{"$f":"SUM(C229:D229)","v":668},{"$f":"SUM(C230:C241)","v":310},{"$f":"SUM(D230:D241)","v":358},{"$f":"SUM(F229:G229)","v":139},{"$f":"SUM(F230:F241)","v":55},{"$f":"SUM(G230:G241)","v":84}]
["Téc. en Gestión de Recursos Naturales......................................",53,20,33,2,0,2]
["Téc. en Gestión de Recursos Naturales (Rivera)......................................",7,1,6,2,2,0]
["Licenciado en Biología Humana......................................",39,16,23,7,3,4]
["Licenciado en Biología Humana (Paysandú)......................................",6,2,4,"S/D"]
["Licenciado en Biología Humana (Rivera)......................................",1,0,1,"S/D"]
["Licenciado en Biología Humana (Salto)......................................",4,2,2,"S/D"]
["Licenciado en Bioquímica..................................................",114,41,73,35,12,23]
["Licenciado en Ciencias Biológicas......................................",196,55,141,71,21,50]
["Licenciado en Física..................................................",103,80,23,4,4,0]
["Licenciado en Geografía..................................................",29,15,14,3,2,1]
["Licenciado en Geología..................................................",34,20,14,7,6,1]
["Licenciado en Matemática..................................................",82,58,24,8,5,3]
[]
["FACULTAD DE CIENCIAS SOCIALES........................................",{"$f":"SUM(C243:D243)","v":1094},{"$f":"SUM(C244:C249)","v":283},{"$f":"SUM(D244:D249)","v":811},{"$f":"SUM(F243:G243)","v":193},{"$f":"SUM(F244:F249)","v":43},{"$f":"SUM(G244:G249)","v":150}]
["Estudios Iniciales en CCSS........................................",{"$f":"SUM(C244:D244)","v":944},252,692,"N/C"]
["Licenciado en Ciencias Sociales (Salto)........................................",{"$f":"SUM(C245:D245)","v":30},9,21,5,3,2]
["Licenciado en Trabajo Social (Salto)........................................",{"$f":"SUM(C246:D246)","v":120},22,98,40,5,35]
["Licenciado en Sociología........................................","N/C",null,null,42,19,23]
["Licenciado en Ciencia Política........................................","N/C",null,null,23,12,11]
["Licenciado en Trabajo Social........................................","N/C",null,null,83,4,79]
[]
["INSTITUTO SUPERIOR DE EDUCACIÓN FÍSICA......................................",{"$f":"SUM(C251:D251)","v":265},{"$f":"SUM(C252:C255)","v":168},{"$f":"SUM(D252:D255)","v":97},{"$f":"SUM(F251:G251)","v":39},{"$f":"SUM(F252:F255)","v":17},{"$f":"SUM(G252:G255)","v":22}]
["Técnico en Fútbol.................................................",{"$f":"SUM(C252:D252)","v":48},47,1,{"$f":"SUM(F252:G252)","v":0},0,0]
["Lic. en Educación Física.................................................",{"$f":"SUM(C253:D253)","v":75},37,38,{"$f":"SUM(F253:G253)","v":18},7,11]
["Lic. en Educación Física (Maldonado).................................................",{"$f":"SUM(C254:D254)","v":72},45,27,{"$f":"SUM(F254:G254)","v":3},3,0]
["Lic. en Educación Física (Paysandú).................................................",{"$f":"SUM(C255:D255)","v":70},39,31,{"$f":"SUM(F255:G255)","v":18},7,11]
[]
["ESCUELA DE ADMINISTRACIÓN......................................",{"$f":"SUM(C257:D257)","v":1963},{"$f":"SUM(C258:C262)","v":784},{"$f":"SUM(D258:D262)","v":1179},{"$f":"SUM(F257:G257)","v":147},{"$f":"SUM(F258:F262)","v":46},{"$f":"SUM(G258:G262)","v":101}]
["Técnico en Administración Pública.....................................","N/C","N/C","N/C",{"$f":"SUM(F258:G258)","v":1},0,1]
["Técnico en Administración de Empresas.....................................","N/C","N/C","N/C",{"$f":"SUM(F259:G259)","v":3},1,2]
["Técnico Universitario en Administración - Plan 2000.....................................",{"$f":"SUM(C260:D260)","v":1318},498,820,{"$f":"SUM(F260:G260)","v":137},44,93]
["Técnico Universitario en Administración - Plan 2000 (Maldonado)..............","-",null,null,{"$f":"SUM(F261:G261)","v":6},1,5]
["Técnico en Gestión Universitaria.................................................",{"$f":"SUM(C262:D262)","v":645},286,359]
[]
["ESCUELA DE TECNOLOGÍA ODONTOLÓGICA........................................",{"$f":"SUM(C264:D264)","v":168},{"$f":"SUM(C265:C267)","v":27},{"$f":"SUM(D265:D267)","v":141},{"$f":"SUM(F264:G264)","v":127},{"$f":"SUM(F265:F267)","v":24},{"$f":"SUM(G265:G267)","v":103}]
["Asistente en Odontología........................................",{"$f":"SUM(C265:D265)","v":41},0,41,{"$f":"SUM(F265:G265)","v":32},1,31]
["Higienista en Odontología.........................................",{"$f":"SUM(C266:D266)","v":40},4,36,{"$f":"SUM(F266:G266)","v":19},0,19]
["Laboratorista en Odontología......................................",{"$f":"SUM(C267:D267)","v":87},23,64,{"$f":"SUM(F267:G267)","v":76},23,53]
[]
["CURE.....................................................................",{"$f":"SUM(C269:D269)","v":61},{"$f":"SUM(C270:C270)","v":24},{"$f":"SUM(D270:D270)","v":37}]
["Ciclo Inicial Optativo................................................................",{"$f":"SUM(C270:D270)","v":61},24,37,null,"N/C","N/C"]
[]
["REGIONAL NORTE ............................................................",{"$f":"SUM(C272:D272)","v":43},{"$f":"SUM(C273:C273)","v":20},{"$f":"SUM(D273:D273)","v":23}]
["Ciclo Inicial Optativo................................................................",{"$f":"SUM(C273:D273)","v":43},20,23,null,"N/C","N/C"]
["Fuente: División Estadística - Dirección General de Planeamiento - UdelaR."]

{"sheet":"II-6.2.3 ","index":191,"n_rows":173,"n_cols":32,"rows_kept":173,"cut":false,"hidden":false,"merged":[[135,0,135,9],[131,6,132,8],[136,8,136,9],[137,8,137,9],[136,7,138,7],[137,2,137,3],[137,5,137,6],[136,0,138,0],[136,1,138,1],[136,2,136,3],[136,4,138,4],[136,5,136,6],[0,6,1,8],[4,0,4,9],[5,2,5,3],[5,1,7,1],[5,4,7,4],[90,0,92,0],[91,5,91,6],[89,0,89,9],[48,1,50,1],[6,2,6,3],[5,0,7,0],[6,5,6,6],[5,8,5,9],[6,8,6,9],[5,5,5,6],[5,7,7,7],[85,6,86,8],[49,5,49,6],[48,2,48,3],[49,2,49,3],[90,1,92,1],[43,6,44,8],[48,8,48,9],[48,4,50,4],[48,5,48,6],[49,8,49,9],[47,0,47,9],[48,0,50,0],[48,7,50,7],[90,2,90,3],[90,4,92,4],[90,8,90,9],[90,7,92,7],[90,5,90,6],[91,2,91,3],[91,8,91,9]]}
["UNIVERSIDADES PRIVADAS: OFERTA DE GRADO",null,null,null,null,null,"ALUMNOS MATRICULADOS"]
[]
["Cuadro Nº II-6.2.3"]
[]
["ALUMNOS INGRESADOS, MATRICULADOS Y EGRESADOS EN PROGRAMAS DE GRADO DE UNIVERSIDADES PRIVADAS POR SEXO SEGÚN UNIVERSIDAD Y CARRERA. AÑO 2010."]
["UNIVERSIDAD / CARRERA","TOTAL","INGRESADOS",null,"TOTAL","MATRICULADOS",null,"TOTAL","EGRESADOS"]
[null,null,"SEXO",null,null,"SEXO",null,null,"SEXO"]
[null,null,"    M","   F",null,"M","F",null,"M","F"]
["TOTAL................................................................",{"$f":"SUM(C9:D9)","v":3519},{"$f":"+C11+C71+C109+C148","v":1749},{"$f":"+D11+D71+D109+D148","v":1770},{"$f":"SUM(F9:G9)","v":16127},{"$f":"+F11+F71+F109+F148","v":8243},{"$f":"+G11+G71+G109+G148","v":7884},{"$f":"SUM(I9:J9)","v":1108},{"$f":"+I11+I71+I109+I148","v":484},{"$f":"+J11+J71+J109+J148","v":624},null,null,null,null,null,null,null,null,null,null,null,null,null,null,null,null,null,{"$f":"+AE9+AF9","v":3},null,null,1,2]
[null,null,null,null,null,null,null,null,null,null,null,null,null,null,null,null,null,null,null,null,null,null,null,null,null,null,null,{"$f":"+AE10+AF10","v":24},null,null,10,14]
["U.C.U.D.A.L.................................................................................................................",{"$f":"SUM(C11:D11)","v":1405},{"$f":"+C13+C20+C32+C52+C57+C61+C69","v":576},{"$f":"+D13+D20+D32+D52+D57+D61+D69","v":829},{"$f":"SUM(F11:G11)","v":6044},{"$f":"+F13+F20+F32+F52+F57+F61+F69","v":2556},{"$f":"+G13+G20+G32+G52+G57+G61+G69","v":3488},{"$f":"SUM(I11:J11)","v":436},{"$f":"+I13+I20+I32+I52+I57+I61+I69","v":175},{"$f":"+J13+J20+J32+J52+J57+J61+J69","v":261}]
[]
["FACULTAD DE CIENCIAS HUMANAS..........................................................",{"$f":"SUM(C13:D13)","v":219},{"$f":"SUM(C14:C18)","v":57},{"$f":"SUM(D14:D18)","v":162},{"$f":"SUM(F13:G13)","v":1087},{"$f":"SUM(F14:F18)","v":354},{"$f":"SUM(G14:G18)","v":733},{"$f":"SUM(I13:J13)","v":68},{"$f":"SUM(I14:I18)","v":15},{"$f":"SUM(J14:J18)","v":53}]
["Técnico en educación, Tiempo Libre y Recreación.......................................................................",26,16,10,75,41,34,4,0,4]
["Licenciatura en educación, Tiempo Libre y Recreación.......................................................................",7,1,6,7,1,6,0,0,0]
["Lic. en Comunicación Social..................................................",143,35,108,806,286,520,53,15,38]
["Lic. en Ciencias Sociales..................................................",17,4,13,96,25,71,3,0,3]
["Lic. en Educación Inicial......................................................",26,1,25,103,1,102,8,0,8]
[]
["FACULTAD DE CIENCIAS EMPRESARIALES.........................................................",{"$f":"SUM(C20:D20)","v":604},{"$f":"SUM(C21:C30)","v":278},{"$f":"SUM(D21:D30)","v":326},{"$f":"SUM(F20:G20)","v":2562},{"$f":"SUM(F21:F30)","v":1219},{"$f":"SUM(G21:G30)","v":1343},{"$f":"SUM(I20:J20)","v":142},{"$f":"SUM(I21:I30)","v":60},{"$f":"SUM(J21:J30)","v":82}]
["Contador Público...................................................",165,60,105,847,388,459,64,27,37]
["Contador Público (Maldonado)...................................",53,30,23,83,42,41,0,0,0]
["Contador Público (Salto)..................................................",78,33,45,194,83,111,0,0,0]
["Lic. en Dirección de Empresas...................................................",69,46,23,400,232,168,26,8,18]
["Lic. en Dirección de Empresas (Maldonado)...................................................",23,9,14,80,46,34,7,4,3]
["Lic. en Dirección de Empresas (Salto)..................................................",21,7,14,55,22,33,0,0,0]
["Lic. en Negocios Internacionales..................................................",100,53,47,481,255,226,27,13,14]
["Lic. en Recursos Humanos y Relaciones Laborales..................................................",41,10,31,157,31,126,7,4,3]
["Lic. en Economía.................................................",32,21,11,139,80,59,7,4,3]
["Lic. en Dirección de Empresas Turísticas..................................................",22,9,13,126,40,86,4,0,4]
[]
["FACULTAD DE INGENIERÍA Y TECNOLOGÍAS.........................................................",{"$f":"SUM(C32:D32)","v":206},{"$f":"SUM(C33:C40)","v":159},{"$f":"SUM(D33:D40)","v":47},{"$f":"SUM(F32:G32)","v":836},{"$f":"SUM(F33:F40)","v":685},{"$f":"SUM(G33:G40)","v":151},{"$f":"SUM(I32:J32)","v":78},{"$f":"SUM(I33:I40)","v":62},{"$f":"SUM(J33:J40)","v":16}]
["Ingeniería en Informática.................................................",85,72,13,399,335,64,30,23,7]
["Ingeniería en Informática (Salto).................................................",{"$f":"SUM(C34:D34)","v":22},13,9,{"$f":"SUM(F34:G34)","v":22},13,9,{"$f":"SUM(I34:J34)","v":0},0,0]
["Ingeniería en Electrónica.................................................",18,14,4,89,72,17,9,7,2]
["Ingeniería en Telecomunicación.................................................",10,6,4,72,57,15,7,5,2]
["Lic. en Informática.................................................",21,17,4,90,82,8,32,27,5]
["Ingeniería Industrial.................................................",27,21,6,90,71,19,0,0,0]
["Ingeniería en Sistemas Eléctricos de Potencia.....................",2,0,2,6,4,2,0,0,0]
["Licenciatura en Ingeniería Audiovisual.................................................",21,16,5,68,51,17,0,0,0]
[null,null,null,null,null,null,null,null,"(Continúa)"]
[]
[]
["UNIVERSIDADES PRIVADAS: OFERTA DE GRADO",null,null,null,null,null,"ALUMNOS MATRICULADOS"]
[]
["Cuadro Nº II-6.2.3 (continuación)"]
[]
["ALUMNOS INGRESADOS, MATRICULADOS Y EGRESADOS EN PROGRAMAS DE GRADO DE UNIVERSIDADES PRIVADAS POR SEXO SEGÚN UNIVERSIDAD Y CARRERA. AÑO 2010."]
["UNIVERSIDAD / CARRERA","TOTAL","INGRESADOS",null,"TOTAL","MATRICULADOS",null,"TOTAL","EGRESADOS"]
[null,null,"SEXO",null,null,"SEXO",null,null,"SEXO"]
[null,null,"    M","   F",null,"M","F",null,"M","F"]
["FACULTAD DE DERECHO..........................................................",{"$f":"SUM(C52:D52)","v":96},{"$f":"SUM(C53:C55)","v":43},{"$f":"SUM(D53:D55)","v":53},{"$f":"SUM(F52:G52)","v":352},{"$f":"SUM(F53:F55)","v":145},{"$f":"SUM(G53:G55)","v":207},{"$f":"SUM(I52:J52)","v":47},{"$f":"SUM(I53:I55)","v":20},{"$f":"SUM(J53:J55)","v":27}]
["Dr. en Derecho.................................................",{"$f":"SUM(C53:D53)","v":86},41,45,{"$f":"SUM(F53:G53)","v":305},130,175,{"$f":"SUM(I53:J53)","v":30},15,15]
["Dr. en Derecho (Maldonado).................................................",{"$f":"SUM(C54:D54)","v":0},0,0,{"$f":"SUM(F54:G54)","v":6},3,3,{"$f":"SUM(I54:J54)","v":1},1,0]
["Notariado..........................................................................",{"$f":"SUM(C55:D55)","v":10},2,8,{"$f":"SUM(F55:G55)","v":41},12,29,{"$f":"SUM(I55:J55)","v":16},4,12]
[]
["FACULTAD DE PSICOLOGÍA.........................................................",{"$f":"SUM(C57:D57)","v":134},{"$f":"SUM(C58:C59)","v":19},{"$f":"SUM(D58:D59)","v":115},{"$f":"SUM(F57:G57)","v":568},{"$f":"SUM(F58:F59)","v":85},{"$f":"SUM(G58:G59)","v":483},{"$f":"SUM(I57:J57)","v":33},{"$f":"SUM(I58:I59)","v":8},{"$f":"SUM(J58:J59)","v":25}]
["Lic. en Psicología.................................................",{"$f":"SUM(C58:D58)","v":101},18,83,{"$f":"SUM(F58:G58)","v":501},83,418,{"$f":"SUM(I58:J58)","v":33},8,25]
["Lic. en Psicopedagogía.................................................",{"$f":"SUM(C59:D59)","v":33},1,32,{"$f":"SUM(F59:G59)","v":67},2,65,{"$f":"SUM(I59:J59)","v":0},0,0]
[]
["FACULTAD DE ENFERMERÍA Y TECNOLOGÍAS DE LA SALUD..........................................................",{"$f":"SUM(C61:D61)","v":137},{"$f":"SUM(C62:C66)","v":16},{"$f":"SUM(D62:D66)","v":121},{"$f":"SUM(F61:G61)","v":530},{"$f":"SUM(F62:F66)","v":42},{"$f":"SUM(G62:G66)","v":488},{"$f":"SUM(I61:J61)","v":51},{"$f":"SUM(I62:I66)","v":7},{"$f":"SUM(J62:J66)","v":44}]
["Técnico en Acompañamiento Terapéutico.......................................................................",11,1,10,30,2,28,13,5,8]
["Lic. en Enfermería.................................................",16,3,13,76,9,67,6,1,5]
["Licenciatura en Enfermería - Profesionalización.................................................",13,2,11,54,7,47,9,1,8]
["Lic. en Psicomotricidad.................................................",43,4,39,167,9,158,11,0,11]
["Lic. en Nutrición.................................................",54,6,48,203,15,188,12,0,12]
[]
["FACULTAD DE ODONTOLOGÍA -"]
["Dr. en Odontología..........................................................",{"$f":"SUM(C69:D69)","v":9},4,5,{"$f":"SUM(F69:G69)","v":109},26,83,{"$f":"SUM(I69:J69)","v":17},3,14]
[]
["UNIVERSIDAD ORT URUGUAY.................................................................................................................",{"$f":"SUM(C71:D71)","v":1152},{"$f":"+C73+C79+C94+C102","v":673},{"$f":"+D73+D79+D94+D102","v":479},{"$f":"SUM(F71:G71)","v":6607},{"$f":"+F73+F79+F94+F102","v":3918},{"$f":"+G73+G79+G94+G102","v":2689},{"$f":"SUM(I71:J71)","v":288},{"$f":"+I73+I79+I94+I102","v":126},{"$f":"+J73+J79+J94+J102","v":162}]
[null,null,null,null,null,null,null,null,null,null,null,null,null,null,null,null,null,null,null,null,null,null,null,null,null,null,null,null,null,null,17,15]
["FACULTAD DE ADMINISTRACIÓN Y CIENCIAS SOCIALES..........................................................",{"$f":"SUM(C73:D73)","v":421},{"$f":"SUM(C74:C77)","v":244},{"$f":"SUM(D74:D77)","v":177},{"$f":"SUM(F73:G73)","v":2272},{"$f":"SUM(F74:F77)","v":1271},{"$f":"SUM(G74:G77)","v":1001},{"$f":"SUM(I73:J73)","v":113},{"$f":"SUM(I74:I77)","v":42},{"$f":"SUM(J74:J77)","v":71},null,null,null,null,null,null,null,null,null,null,null,null,null,null,null,null,null,null,null,null,22,33]
["Contador Público.................................................",{"$f":"SUM(C74:D74)","v":131},69,62,{"$f":"SUM(F74:G74)","v":794},414,380,{"$f":"SUM(I74:J74)","v":36},10,26]
["Lic. en Economía.................................................",{"$f":"SUM(C75:D75)","v":34},24,10,{"$f":"SUM(F75:G75)","v":192},121,71,{"$f":"SUM(I75:J75)","v":20},12,8]
["Lic. en Estudios Internacionales.................................................",{"$f":"SUM(C76:D76)","v":67},32,35,{"$f":"SUM(F76:G76)","v":310},146,164,{"$f":"SUM(I76:J76)","v":16},6,10]
["Lic. en Gerencia y Administración.................................................",{"$f":"SUM(C77:D77)","v":189},119,70,{"$f":"SUM(F77:G77)","v":976},590,386,{"$f":"SUM(I77:J77)","v":41},14,27]
[]
["FACULTAD DE ARQUITECTURA..........................................................",{"$f":"SUM(C79:D79)","v":112},{"$f":"SUM(C80:C81)","v":42},{"$f":"SUM(D80:D81)","v":70},{"$f":"SUM(F79:G79)","v":678},{"$f":"SUM(F80:F81)","v":256},{"$f":"SUM(G80:G81)","v":422},{"$f":"SUM(I79:J79)","v":41},{"$f":"SUM(I80:I81)","v":16},{"$f":"SUM(J80:J81)","v":25}]
["Arquitectura........................................................",{"$f":"SUM(C80:D80)","v":82},38,44,{"$f":"SUM(F80:G80)","v":503},238,265,{"$f":"SUM(I80:J80)","v":34},16,18]
["Lic. en Diseño de Interiores.................................................",{"$f":"SUM(C81:D81)","v":30},4,26,{"$f":"SUM(F81:G81)","v":175},18,157,{"$f":"SUM(I81:J81)","v":7},0,7]
[null,null,null,null,null,null,null,null,"(Continúa)"]
[]
[]
[]
["UNIVERSIDADES PRIVADAS: OFERTA DE GRADO",null,null,null,null,null,"ALUMNOS MATRICULADOS"]
[]
["Cuadro Nº II-6.2.3 (continuación)"]
[]
["ALUMNOS INGRESADOS, MATRICULADOS Y EGRESADOS EN PROGRAMAS DE GRADO DE UNIVERSIDADES PRIVADAS POR SEXO SEGÚN UNIVERSIDAD Y CARRERA. AÑO 2010."]
["UNIVERSIDAD / CARRERA","TOTAL","INGRESADOS",null,"TOTAL","MATRICULADOS",null,"TOTAL","EGRESADOS"]
[null,null,"SEXO",null,null,"SEXO",null,null,"SEXO"]
[null,null,"    M","   F",null,"M","F",null,"M","F"]
["FACULTAD DE COMUNICACIÓN Y DISEÑO...............................",{"$f":"SUM(C94:D94)","v":255},{"$f":"SUM(C95:C100)","v":103},{"$f":"SUM(D95:D100)","v":152},{"$f":"SUM(F94:G94)","v":1442},{"$f":"SUM(F95:F100)","v":541},{"$f":"SUM(G95:G100)","v":901},{"$f":"SUM(I94:J94)","v":75},{"$f":"SUM(I95:I100)","v":20},{"$f":"SUM(J95:J100)","v":55}]
["Lic. en Comunicación.................................................",82,27,55,556,223,333,19,6,13]
["Lic. en Diseño Gráfico.................................................",61,21,40,459,200,259,34,12,22]
["Lic. en Diseño de Modas.................................................",34,0,34,214,4,210,14,0,14]
["Lic. en Diseño Industrial.................................................",16,10,6,118,51,67,8,2,6]
["Lic. en Diseño Multimedia..................................",15,12,3,46,28,18,0,0,0]
["Licenciatura en Animación y Videojuegos..........................",47,33,14,49,35,14,0,0,0]
[]
["FACULTAD DE INGENIERÍA..........................................................",{"$f":"SUM(C102:D102)","v":364},{"$f":"SUM(C103:C107)","v":284},{"$f":"SUM(D103:D107)","v":80},{"$f":"SUM(F102:G102)","v":2215},{"$f":"SUM(F103:F107)","v":1850},{"$f":"SUM(G103:G107)","v":365},{"$f":"SUM(I102:J102)","v":59},{"$f":"SUM(I103:I107)","v":48},{"$f":"SUM(J103:J107)","v":11}]
["Ingeniería en Electrónica.................................................",26,24,2,155,141,14,10,8,2]
["Ingeniería en Sistemas.................................................",155,134,21,972,831,141,26,22,4]
["Ingeniería en Telecomunicaciones.................................................",15,14,1,187,160,27,4,4,0]
["Lic. en Sistemas.................................................",123,97,26,856,703,153,19,14,5]
["Licenciatura en Biotecnología.................................................",45,15,30,45,15,30,0,0,0]
[]
["UNIVERSIDAD DE MONTEVIDEO.........................................................",{"$f":"SUM(C109:D109)","v":363},{"$f":"+C111+C116+C121+C140+C144","v":178},{"$f":"+D111+D116+D121+D140+D144","v":185},{"$f":"SUM(F109:G109)","v":1650},{"$f":"+F111+F116+F121+F140+F144","v":784},{"$f":"+G111+G116+G121+G140+G144","v":866},{"$f":"SUM(I109:J109)","v":200},{"$f":"+I111+I116+I121+I140+I144","v":84},{"$f":"+J111+J116+J121+J140+J144","v":116}]
[]
["FACULTAD DE CIENCIAS EMPRESARIALES Y ECONOMÍA..............................",{"$f":"SUM(C111:D111)","v":185},{"$f":"SUM(C112:C114)","v":94},{"$f":"SUM(D112:D114)","v":91},{"$f":"SUM(F111:G111)","v":767},{"$f":"SUM(F112:F114)","v":383},{"$f":"SUM(G112:G114)","v":384},{"$f":"SUM(I111:J111)","v":95},{"$f":"SUM(I112:I114)","v":44},{"$f":"SUM(J112:J114)","v":51}]
["Lic. en Dirección y Administración de Empresas...................",{"$f":"SUM(C112:D112)","v":39},21,18,{"$f":"SUM(F112:G112)","v":160},77,83,{"$f":"SUM(I112:J112)","v":18},5,13]
["Licenciatura en Economía................................................................................................",{"$f":"SUM(C113:D113)","v":28},20,8,{"$f":"SUM(F113:G113)","v":134},87,47,{"$f":"SUM(I113:J113)","v":19},13,6]
["Contador Público..........................................................",{"$f":"SUM(C114:D114)","v":118},53,65,{"$f":"SUM(F114:G114)","v":473},219,254,{"$f":"SUM(I114:J114)","v":58},26,32]
[]
["FACULTAD DE INGENIERÍA..........................................................",{"$f":"SUM(C116:D116)","v":62},{"$f":"SUM(C117:C119)","v":41},{"$f":"SUM(D117:D119)","v":21},{"$f":"SUM(F116:G116)","v":271},{"$f":"SUM(F117:F119)","v":198},{"$f":"SUM(G117:G119)","v":73},{"$f":"SUM(I116:J116)","v":27},{"$f":"SUM(I117:I119)","v":20},{"$f":"SUM(J117:J119)","v":7}]
["Ingeniería Civil..........................................................",{"$f":"SUM(C117:D117)","v":25},11,14,{"$f":"SUM(F117:G117)","v":90},53,37,{"$f":"SUM(I117:J117)","v":9},6,3]
["Ingeniería Industrial..........................................................",{"$f":"SUM(C118:D118)","v":25},20,5,{"$f":"SUM(F118:G118)","v":118},96,22,{"$f":"SUM(I118:J118)","v":13},11,2]
["Ingeniería Telemática..........................................................",{"$f":"SUM(C119:D119)","v":12},10,2,{"$f":"SUM(F119:G119)","v":63},49,14,{"$f":"SUM(I119:J119)","v":5},3,2]
[]
["FACULTAD DE HUMANIDADES.................................................",{"$f":"SUM(C121:D121)","v":17},{"$f":"SUM(C122:C127)","v":5},{"$f":"SUM(D122:D127)","v":12},{"$f":"SUM(F121:G121)","v":108},{"$f":"SUM(F122:F127)","v":34},{"$f":"SUM(G122:G127)","v":74},{"$f":"SUM(I121:J121)","v":16},{"$f":"SUM(I122:I127)","v":3},{"$f":"SUM(J122:J127)","v":13}]
["Licenciatura en Humanidades..........................................................",17,5,12,69,20,49,4,2,2]
["Profesorado en Filosofía..........................................................",0,"s/d","s/d",8,3,5,0,0,0]
["Profesorado en Historia..........................................................",0,"s/d","s/d",4,2,2,2,0,2]
["Profesorado en Matemática..........................................................",0,"s/d","s/d",16,2,14,4,1,3]
["Profesorado en Literatura..........................................................",0,"s/d","s/d",3,0,3,1,0,1]
["Profesorado de Inglés..........................................................",0,"s/d","s/d",8,7,1,5,0,5]
[null,null,null,null,null,null,null,null,"(Continúa)"]
[]
[]
[]
["UNIVERSIDADES PRIVADAS: OFERTA DE GRADO",null,null,null,null,null,"ALUMNOS MATRICULADOS"]
[]
["Cuadro Nº II-6.2.3 (continuación)"]
[]
["ALUMNOS INGRESADOS, MATRICULADOS Y EGRESADOS EN PROGRAMAS DE GRADO DE UNIVERSIDADES PRIVADAS POR SEXO SEGÚN UNIVERSIDAD Y CARRERA. AÑO 2010."]
["UNIVERSIDAD / CARRERA","TOTAL","INGRESADOS",null,"TOTAL","MATRICULADOS",null,"TOTAL","EGRESADOS"]
[null,null,"SEXO",null,null,"SEXO",null,null,"SEXO"]
[null,null,"    M","   F",null,"M","F",null,"M","F"]
["FACULTAD DE DERECHO..........................................................",{"$f":"SUM(C140:D140)","v":46},{"$f":"SUM(C141:C142)","v":17},{"$f":"SUM(D141:D142)","v":29},{"$f":"SUM(F140:G140)","v":249},{"$f":"SUM(F141:F142)","v":98},{"$f":"SUM(G141:G142)","v":151},{"$f":"SUM(I140:J140)","v":42},{"$f":"SUM(I141:I142)","v":12},{"$f":"SUM(J141:J142)","v":30}]
["Derecho..........................................................",{"$f":"SUM(C141:D141)","v":38},16,22,{"$f":"SUM(F141:G141)","v":183},85,98,{"$f":"SUM(I141:J141)","v":35},10,25]
["Escribanía..........................................................",{"$f":"SUM(C142:D142)","v":8},1,7,{"$f":"SUM(F142:G142)","v":66},13,53,{"$f":"SUM(I142:J142)","v":7},2,5]
[]
["FACULTAD DE COMUNICACIÓN......................................................",{"$f":"SUM(C144:D144)","v":53},{"$f":"SUM(C145:C146)","v":21},{"$f":"SUM(D145:D146)","v":32},{"$f":"SUM(F144:G144)","v":255},{"$f":"SUM(F145:F146)","v":71},{"$f":"SUM(G145:G146)","v":184},{"$f":"SUM(I144:J144)","v":20},{"$f":"SUM(I145:I146)","v":5},{"$f":"SUM(J145:J146)","v":15}]
["Licenciatura en Comunicación.........................................................",{"$f":"SUM(C145:D145)","v":36},15,21,{"$f":"SUM(F145:G145)","v":198},61,137,{"$f":"SUM(I145:J145)","v":20},5,15]
["Licenciatura en Traducción e Interpretación...............",{"$f":"SUM(C146:D146)","v":17},6,11,{"$f":"SUM(F146:G146)","v":57},10,47,{"$f":"SUM(I146:J146)","v":0},0,0]
[]
["UNIVERSIDAD DE LA EMPRESA........................................................",{"$f":"SUM(C148:D148)","v":599},{"$f":"+C150+C154+C159+C166","v":322},{"$f":"+D150+D154+D159+D166","v":277},{"$f":"SUM(F148:G148)","v":1826},{"$f":"+F150+F154+F159+F166","v":985},{"$f":"+G150+G154+G159+G166","v":841},{"$f":"SUM(I148:J148)","v":184},{"$f":"+I150+I154+I159+I166","v":99},{"$f":"+J150+J154+J159+J166","v":85}]
[]
["FACULTAD DE CIENCIAS JURÍDICAS..........................................",{"$f":"SUM(C150:D150)","v":51},{"$f":"SUM(C151:C152)","v":20},{"$f":"SUM(D151:D152)","v":31},{"$f":"SUM(F150:G150)","v":172},{"$f":"SUM(F151:F152)","v":65},{"$f":"SUM(G151:G152)","v":107},{"$f":"SUM(I150:J150)","v":18},{"$f":"SUM(I151:I152)","v":5},{"$f":"SUM(J151:J152)","v":13}]
["Dr. en Derecho..........................................................",{"$f":"SUM(C151:D151)","v":30},15,15,{"$f":"SUM(F151:G151)","v":98},47,51,{"$f":"SUM(I151:J151)","v":6},1,5]
["Escribano Público..........................................................",{"$f":"SUM(C152:D152)","v":21},5,16,{"$f":"SUM(F152:G152)","v":74},18,56,{"$f":"SUM(I152:J152)","v":12},4,8]
[]
["FACULTAD DE DISEÑO Y COMUNICACIÓN.............................",{"$f":"SUM(C154:D154)","v":34},{"$f":"SUM(C155:C157)","v":2},{"$f":"SUM(D155:D157)","v":32},{"$f":"SUM(F154:G154)","v":138},{"$f":"SUM(F155:F157)","v":11},{"$f":"SUM(G155:G157)","v":127},{"$f":"SUM(I154:J154)","v":28},{"$f":"SUM(I155:I157)","v":2},{"$f":"SUM(J155:J157)","v":26}]
["Lic. en Diseño Aplicado..........................................................",{"$f":"SUM(C155:D155)","v":0},0,0,{"$f":"SUM(F155:G155)","v":35},8,27,{"$f":"SUM(I155:J155)","v":7},2,5]
["Lic. en Indumentaria..........................................................,",{"$f":"SUM(C156:D156)","v":27},0,27,{"$f":"SUM(F156:G156)","v":88},1,87,{"$f":"SUM(I156:J156)","v":12},0,12]
["Diseño de Interiores......................................",{"$f":"SUM(C157:D157)","v":7},2,5,{"$f":"SUM(F157:G157)","v":15},2,13,{"$f":"SUM(I157:J157)","v":9},0,9]
[]
["FACULTAD DE CIENCIAS EMPRESARIALES................................",{"$f":"SUM(C159:D159)","v":297},{"$f":"SUM(C160:C164)","v":144},{"$f":"SUM(D160:D164)","v":153},{"$f":"SUM(F159:G159)","v":961},{"$f":"SUM(F160:F164)","v":467},{"$f":"SUM(G160:G164)","v":494},{"$f":"SUM(I159:J159)","v":38},{"$f":"SUM(I160:I164)","v":15},{"$f":"SUM(J160:J164)","v":23}]
["Lic. en Administración de Empresas..........................................................",67,39,28,232,128,104,8,7,1]
["Lic. en Marketing..........................................................",70,38,32,255,137,118,9,3,6]
["Lic. en Comercio Exterior..........................................................",17,11,6,41,27,14,0,0,0]
["Lic. en Recursos Humanos..........................................................",9,2,7,37,11,26,0,0,0]
["Contador Público..........................................................",134,54,80,396,164,232,21,5,16]
[]
["FACULTAD DE CIENCIAS AGRARIAS................................",{"$f":"SUM(C166:D166)","v":217},{"$f":"SUM(C167:C171)","v":156},{"$f":"SUM(D167:D171)","v":61},{"$f":"SUM(F166:G166)","v":555},{"$f":"SUM(F167:F171)","v":442},{"$f":"SUM(G167:G171)","v":113},{"$f":"SUM(I166:J166)","v":100},{"$f":"SUM(I167:I171)","v":77},{"$f":"SUM(J167:J171)","v":23}]
["Lic. en Gestión Agropecuaria................................",68,46,22,243,198,45,42,35,7]
["Técnico Agropecuario.......................................................................",62,49,13,152,122,30,26,21,5]
["Técnico Asistente Veterinario.......................................................................",20,8,12,49,27,22,11,7,4]
["Técnico Forestal.......................................................................",19,13,6,63,55,8,21,14,7]
["Ingeniero Agrónomo.......................................................................",48,40,8,48,40,8,0,0,0]
["Fuente: Oficinas Productoras de cada una de las Instituciones. "]
["Nota: Los profesorados de la Universidad de Montevideo, corresponden a  alumnos matriculados en planes de estudio anteriores al 2008. "]

{"sheet":"II-6.2.4","index":192,"n_rows":50,"n_cols":10,"rows_kept":50,"cut":false,"hidden":false,"merged":[[0,6,1,8],[4,0,4,9],[5,0,7,0],[5,1,7,1],[5,4,7,4],[5,8,5,9],[6,2,6,3],[6,5,6,6],[6,8,6,9],[5,7,7,7],[5,2,5,3],[5,5,5,6]]}
["INSTITUTOS UNIVERSITARIOS: OFERTA DE GRADO",null,null,null,null,null,"ALUMNOS MATRICULADOS"]
[]
["Cuadro Nº II-6.2.4"]
[]
["ALUMNOS INGRESADOS, MATRICULADOS Y EGRESADOS EN PROGRAMAS DE GRADO DE INSTITUTOS UNIVERSITARIOS POR SEXO SEGÚN INSTITUTO UNIVERSITARIO Y CARRERA. AÑO 2010."]
["INSTITUTO UNIVERSITARIO / CARRERA","TOTAL","INGRESADOS",null,"TOTAL","MATRICULADOS",null,"TOTAL","EGRESADOS"]
[null,null,"SEXO",null,null,"SEXO",null,null,"SEXO"]
[null,null,"M","F",null,"M","F",null,"M","F"]
["TOTAL..............................................................................",{"$f":"SUM(C9:D9)","v":611},{"$f":"+C11+C19+C23+C27+C33+C35+C41+C46","v":310},{"$f":"+D11+D19+D23+D27+D33+D35+D41+D46","v":301},{"$f":"SUM(F9:G9)","v":1995},{"$f":"+F11+F19+F23+F27+F33+F35+F41+F46","v":1053},{"$f":"+G11+G19+G23+G27+G33+G35+G41+G46","v":942},{"$f":"SUM(I9:J9)","v":125},{"$f":"+I11+I19+I23+I27+I33+I35+I41+I46","v":30},{"$f":"+J11+J19+J23+J27+J33+J35+J41+J46","v":95}]
[]
["INST. UNIV. AUTÓNOMO DEL SUR.................................................................................................................",{"$f":"SUM(C11:D11)","v":122},{"$f":"SUM(C12:C17)","v":108},{"$f":"SUM(D12:D17)","v":14},{"$f":"SUM(F11:G11)","v":605},{"$f":"SUM(F12:F17)","v":508},{"$f":"SUM(G12:G17)","v":97},{"$f":"SUM(I11:J11)","v":10},{"$f":"SUM(I12:I17)","v":8},{"$f":"SUM(J12:J17)","v":2}]
["Licenciatura en Informática.....................................................",{"$f":"SUM(C12:D12)","v":70},63,7,353,303,50,9,8,1]
["Ingeniería de Informática...................................................................",7,7,0,67,53,14,1,0,1]
["Analista en Informática.......................................................................",38,31,7,96,84,12,0,0,0]
["Analista en Ingeniería Informática.......................................................................",7,7,0,67,53,14,0,0,0]
["Licenciatura en Administración y Marketing............................",{"$f":"SUM(C16:D16)","v":0},0,0,{"$f":"SUM(F16:G16)","v":12},8,4,{"$f":"SUM(I16:J16)","v":0},0,0]
["Contador Público.........................................................",0,0,0,10,7,3,0,0,0]
[]
["INST. UNIV. ASOCIACIÓN CRISTIANA DE JÓVENES....................................................",{"$f":"SUM(C19:D19)","v":185},{"$f":"SUM(C20:C21)","v":111},{"$f":"SUM(D20:D21)","v":74},{"$f":"SUM(F19:G19)","v":427},{"$f":"SUM(F20:F21)","v":263},{"$f":"SUM(G20:G21)","v":164},{"$f":"SUM(I19:J19)","v":39},{"$f":"SUM(I20:I21)","v":11},{"$f":"SUM(J20:J21)","v":28}]
["Licenciatura en Educación Física, Recreación y Deporte..................................................",{"$f":"SUM(C20:D20)","v":108},78,30,{"$f":"SUM(F20:G20)","v":297},212,85,{"$f":"SUM(I20:J20)","v":17},8,9]
["Tecnicatura en Fitness..........................................................",{"$f":"SUM(C21:D21)","v":77},33,44,{"$f":"SUM(F21:G21)","v":130},51,79,{"$f":"SUM(I21:J21)","v":22},3,19]
[]
["INST. UNIV. C.L.A.E.H -",{"$f":"SUM(C23:D23)","v":52},{"$f":"SUM(C24:C25)","v":17},{"$f":"SUM(D24:D25)","v":35},{"$f":"SUM(F23:G23)","v":215},{"$f":"SUM(F24:F25)","v":84},{"$f":"SUM(G24:G25)","v":131},{"$f":"SUM(I23:J23)","v":0},{"$f":"SUM(I24:I25)","v":0},{"$f":"SUM(J24:J25)","v":0}]
["Dr. en Medicina ..............................................................................................................................",{"$f":"SUM(C24:D24)","v":22},11,11,{"$f":"SUM(F24:G24)","v":191},78,113,{"$f":"SUM(I24:J24)","v":0},0,0]
["Licenciatura en Gestión Cultural ..........................................................",{"$f":"SUM(C25:D25)","v":30},6,24,{"$f":"SUM(F25:G25)","v":24},6,18,{"$f":"SUM(I25:J25)","v":0},0,0]
[]
["INST. METODISTA UNIV. CRANDON...............................................",{"$f":"SUM(C27:D27)","v":25},{"$f":"SUM(C28:C30)","v":1},{"$f":"SUM(D28:D30)","v":24},{"$f":"SUM(F27:G27)","v":74},{"$f":"SUM(F28:F30)","v":3},{"$f":"SUM(G28:G30)","v":71},{"$f":"SUM(I27:J27)","v":35},{"$f":"SUM(I28:I30)","v":1},{"$f":"SUM(J28:J30)","v":34}]
["Licenciatura en Gestión de Empresas................................................................................................................",{"$f":"SUM(C28:D28)","v":0},0,0,{"$f":"SUM(F28:G28)","v":12},2,10,{"$f":"SUM(I28:J28)","v":3},1,2]
["Secretariado Ejecutivo..........................................................................",{"$f":"SUM(C29:D29)","v":23},0,23,{"$f":"SUM(F29:G29)","v":60},0,60,{"$f":"SUM(I29:J29)","v":32},0,32]
["Asistente Ejecutivo..........................................................................",{"$f":"SUM(C30:D30)","v":2},1,1,{"$f":"SUM(F30:G30)","v":2},1,1,{"$f":"SUM(I30:J30)","v":0},0,0]
[]
["INST. UNIV. MONSEÑOR MARIANO SOLER - "]
["Licenciatura en Ciencias Teológicas.................................................................................................................",{"$f":"SUM(C33:D33)","v":18},17,1,{"$f":"SUM(F33:G33)","v":42},41,1,{"$f":"SUM(I33:J33)","v":8},0,8]
[]
["INST. UNIV. FRANCISCO DE ASÍS ....................................................................",{"$f":"+C35+D35","v":118},{"$f":"SUM(C36:C39)","v":39},{"$f":"SUM(D36:D39)","v":79},{"$f":"+F35+G35","v":380},{"$f":"SUM(F36:F39)","v":117},{"$f":"SUM(G36:G39)","v":263},{"$f":"+I35+J35","v":6},{"$f":"SUM(I36:I39)","v":0},{"$f":"SUM(J36:J39)","v":6}]
["Licenciatura en Administración y Dirección de Empresas .................................................",{"$f":"+C36+D36","v":11},6,5,{"$f":"+F36+G36","v":90},39,51,{"$f":"+I36+J36","v":2},0,2]
["Contador Público ....................................................................................",{"$f":"+C37+D37","v":82},31,51,{"$f":"+F37+G37","v":155},54,101,{"$f":"+I37+J37","v":0},0,0]
["Licenciatura en Psicología ..................................................................................................",{"$f":"+C38+D38","v":15},1,14,{"$f":"+F38+G38","v":77},11,66,{"$f":"+I38+J38","v":4},0,4]
["Licenciatura en Turismo ..................................................................................................",{"$f":"+C39+D39","v":10},1,9,{"$f":"+F39+G39","v":58},13,45,{"$f":"+I39+J39","v":0},0,0]
[]
["INST. UNIV. BIOS....................................................................",{"$f":"SUM(C41:D41)","v":27},{"$f":"SUM(C42:C44)","v":10},{"$f":"SUM(D42:D44)","v":17},{"$f":"SUM(F41:G41)","v":66},{"$f":"SUM(F42:F44)","v":31},{"$f":"SUM(G42:G44)","v":35},{"$f":"SUM(I41:J41)","v":14},{"$f":"SUM(I42:I44)","v":10},{"$f":"SUM(J42:J44)","v":4}]
["Licenciatura en Diseño Gráfico.................................................",{"$f":"SUM(C42:D42)","v":16},8,8,{"$f":"SUM(F42:G42)","v":59},29,30,{"$f":"SUM(I42:J42)","v":7},7,0]
["Licenciatura en Diseño Industrial.................................................",{"$f":"SUM(C43:D43)","v":0},0,0,{"$f":"SUM(F43:G43)","v":0},0,0,{"$f":"SUM(I43:J43)","v":1},1,0]
["Tecnicatura en Enseñanza Informática.......................................................................",{"$f":"SUM(C44:D44)","v":11},2,9,{"$f":"SUM(F44:G44)","v":7},2,5,{"$f":"SUM(I44:J44)","v":6},2,4]
[]
["INST. UNIV. CEDIIAP....................................................................",{"$f":"+C46+D46","v":64},{"$f":"SUM(C47:C49)","v":7},{"$f":"SUM(D47:D49)","v":57},{"$f":"+F46+G46","v":186},{"$f":"SUM(F47:F49)","v":6},{"$f":"SUM(G47:G49)","v":180},{"$f":"+I46+J46","v":13},{"$f":"SUM(I47:I49)","v":0},{"$f":"SUM(J47:J49)","v":13}]
["Licenciatura en Psicomotricidad...............................................",{"$f":"+C47+D47","v":29},4,25,{"$f":"+F47+G47","v":108},6,102,{"$f":"+I47+J47","v":6},0,6]
["Licenciatura en Psicopedagogía...............................................",{"$f":"+C48+D48","v":19},0,19,{"$f":"+F48+G48","v":78},0,78,{"$f":"+I48+J48","v":7},0,7]
["Licenciatura en Musicoterapia...............................................",{"$f":"+C49+D49","v":16},3,13,{"$f":"+F49+G49","v":0},0,0,{"$f":"+I49+J49","v":0},0,0]
["Fuente: Oficinas Productoras de cada una de las Instituciones. "]

{"sheet":"II-6.2.5","index":193,"n_rows":21,"n_cols":5,"rows_kept":21,"cut":false,"hidden":false,"merged":[[5,2,5,3],[0,2,1,4],[5,0,7,0],[4,0,4,4],[5,1,7,1],[5,4,7,4],[6,2,6,3]]}
["OFERTA UNIVERSITARIA DE POSTGRADO",null,"INSTITUCIONES"]
[]
["Cuadro Nº II-6.2.5"]
[]
["ALUMNOS MATRICULADOS Y PERSONAL DOCENTE EN PROGRAMAS DE POSTGRADO POR SEXO SEGÚN INSTITUCIÓN. AÑO 2010."]
["INSTITUCIÓN","TOTAL","MATRICULADOS",null,"Docentes"]
[null,null,"SEXO"]
[null,null,"M","F"]
["TOTAL..............................................................................",{"$f":"SUM(C9:D9)","v":4275},{"$f":"SUM(C11:C20)","v":1457},{"$f":"SUM(D11:D20)","v":2818},{"$f":"SUM(E11:E20)","v":630}]
[]
["UdelaR (*)....................................................................................","S/D","s/d","s/d","s/d"]
["U.C.U.D.A.L.....................................................................................",{"$f":"SUM(C12:D12)","v":1952},496,1456,44]
["Universidad ORT Uruguay....................................................................................",592,258,334,350]
["Universidad de Montevideo....................................................................................",525,232,293,0]
["Universidad de la Empresa....................................................................................",639,349,290,98]
["Inst. Univ. C.L.A.E.H .....................................................................................",436,102,334,76]
["Inst. Univ. de Postgrado en Psicoanálisis....................................................................................",40,6,34,31]
["Inst. Univ. BIOS....................................................................................",43,14,29,13]
["Inst. Metodista Univ. Crandon.....................................",4,0,4,18]
["Inst. Univ. CEDIIAP....................................................................................",44,0,44,0]
["Fuente: Oficinas Productoras de cada una de las Instituciones. "]

{"sheet":"II-6.2.6","index":194,"n_rows":21,"n_cols":7,"rows_kept":21,"cut":false,"hidden":false,"merged":[[0,4,1,6],[5,2,5,3],[5,0,7,0],[4,0,4,6],[5,1,7,1],[5,4,7,4],[5,5,5,6],[6,2,6,3],[6,5,6,6]]}
["OFERTA UNIVERSITARIA DE POSTGRADO",null,null,null,"ALUMNOS MATRICULADOS"]
[]
["Cuadro Nº II-6.2.6"]
[]
["ALUMNOS INGRESADOS Y EGRESADOS EN PROGRAMAS DE POSTGRADO POR SEXO SEGÚN INSTITUCIÓN. AÑO 2010."]
["INSTITUCIÓN","TOTAL","INGRESADOS",null,"TOTAL","EGRESADOS"]
[null,null,"SEXO",null,null,"SEXO"]
[null,null,"M","F",null,"M","F"]
["TOTAL..............................................................................",{"$f":"SUM(C9:D9)","v":2760},{"$f":"SUM(C11:C20)","v":1011},{"$f":"SUM(D11:D20)","v":1749},{"$f":"SUM(F9:G9)","v":1206},{"$f":"SUM(F11:F20)","v":446},{"$f":"SUM(G11:G20)","v":760}]
[]
["UdelaR....................................................................................",{"$f":"SUM(C11:D11)","v":1442},588,854,{"$f":"SUM(F11:G11)","v":739},292,447]
["U.C.U.D.A.L.....................................................................................",563,143,420,145,35,110]
["Universidad ORT Uruguay....................................................................................",185,81,104,138,42,96]
["Universidad de Montevideo....................................................................................",180,68,112,85,48,37]
["Universidad de la Empresa....................................................................................",189,90,99,33,16,17]
["Inst. Univ. C.L.A.E.H .....................................................................................",179,39,140,51,11,40]
["Inst. Univ. de Postgrado en Psicoanálisis....................................................................................",8,2,6,7,2,5]
["Inst. Univ. BIOS....................................................................................",0,0,0,0,0,0]
["Inst. Metodista Univ. Crandon.....................................",4,0,4,4,0,4]
["Inst. Univ. CEDIIAP....................................................................................",10,0,10,4,0,4]
["Fuente: Oficinas Productoras de cada una de las Instituciones. "]

{"sheet":"II-6.2.7","index":195,"n_rows":207,"n_cols":7,"rows_kept":207,"cut":false,"hidden":false,"merged":[[0,4,1,6],[4,0,4,6],[5,0,7,0],[5,1,7,1],[5,2,5,3],[5,4,7,4],[5,5,5,6],[6,2,6,3],[6,5,6,6],[79,4,80,6],[83,0,83,6],[84,0,86,0],[84,1,86,1],[84,2,84,3],[84,4,86,4],[84,5,84,6],[85,2,85,3],[85,5,85,6]]}
["UNIVERSIDAD DE LA REPÚBLICA: OFERTA DE POSTGRADO",null,null,null,"ALUMNOS MATRICULADOS"]
[]
["Cuadro Nº II-6.2.7"]
[]
["ALUMNOS MATRICULADOS, INGRESADOS Y EGRESADOS EN PROGRAMAS DE POSTGRADO DE LA UNIVERSIDAD DE LA REPÚBLICA POR SEXO SEGÚN SERVICIO UNIVERSITARIO Y ACREDITACIÓN. AÑO 2010."]
["SERVICIO UNIVERSITARIO / ACREDITACIÓN","TOTAL","INGRESADOS",null,"TOTAL","EGRESADOS"]
[null,null,"SEXO",null,null,"SEXO"]
[null,null,"M","F",null,"M","F"]
["TOTAL..............................................................................",{"$f":"SUM(C9:D9)","v":1442},{"$f":"+C11+C20+C26+C45+C88+C151+C156+C164+C170+C178+C186+C196+C200+C67+C70+C147+C204","v":588},{"$f":"+D11+D20+D26+D45+D88+D151+D156+D164+D170+D178+D186+D196+D200+D67+D70+D147+D204","v":854},{"$f":"SUM(F9:G9)","v":739},{"$f":"+F11+F20+F26+F45+F88+F151+F156+F164+F170+F178+F186+F196+F200+F67+F70+F147+F204","v":292},{"$f":"+G11+G20+G26+G45+G88+G151+G156+G164+G170+G178+G186+G196+G200+G67+G70+G147+G204","v":447}]
[]
["FACULTAD DE CIENCIAS ECONÓMICAS Y ADMINISTRACIÓN.......................................................",{"$f":"+C11+D11","v":130},{"$f":"SUM(C12:C18)","v":66},{"$f":"SUM(D12:D18)","v":64},{"$f":"+F11+G11","v":83},{"$f":"SUM(F12:F18)","v":43},{"$f":"SUM(G12:G18)","v":40}]
["Diploma de Especialización en Costos y Gestión Empresarial.......................................................",15,4,11,0,0,0]
["Posgrado de Especialización en Administración.......................................................",17,10,7,6,1,5]
["Posgrado de Especialización en Finanzas.......................................................",26,9,17,26,9,17]
["Posgrado de Especialización en Marketing.......................................................",38,23,15,38,23,15]
["Maestría en Gerencia y Administración (MBA).......................................................",24,16,8,10,7,3]
["Maestría en Finanzas.......................................................",9,3,6,3,3,0]
["Maestría en Marketing.......................................................",1,1,0,0,0,0]
[]
["FACULTAD DE DERECHO.......................................................",{"$f":"+C20+D20","v":75},{"$f":"SUM(C21:C24)","v":30},{"$f":"SUM(D21:D24)","v":45}]
["Especialización en Derecho Procesal......................................................",{"$f":"+C21+D21","v":32},13,19,null,"s/d","s/d"]
["Maestría en Derecho del Trabajo y de la Seguridad Social......................................................",{"$f":"+C22+D22","v":12},3,9,null,"s/d","s/d"]
["Maestría en Derecho de Daños......................................................",{"$f":"+C23+D23","v":15},9,6,null,"s/d","s/d"]
["Maestría en Relaciones Internacionales......................................................",{"$f":"+C24+D24","v":16},5,11,null,"s/d","s/d"]
[]
["FACULTAD DE INGENIERÍA.......................................................",{"$f":"+C26+D26","v":142},{"$f":"SUM(C27:C43)","v":106},{"$f":"SUM(D27:D43)","v":36},{"$f":"+F26+G26","v":42},{"$f":"SUM(F27:F43)","v":29},{"$f":"SUM(G27:G43)","v":13}]
["Diploma de Especialización en Estudios Avanzados en Computación.......................",4,4,0,3,1,2]
["Diploma de Especialización en Gestión de Tecnologías..................................................",23,17,6,8,5,3]
["Diploma de Especialización en Telecomunicaciones ..........................................................",1,1,0,4,3,1]
["Maestría en Informática (PEDECIBA)................................................",14,10,4,5,4,1]
["Maestría en Ingeniería en Mecánica de los Fluidos Aplicada .................................",4,3,1,1,1,0]
["Maestría en Ingeniería Ambiental................................................",5,3,2,0,0,0]
["Maestría en Ingeniería de Celulosa y Papel...............................................................",14,10,4,2,1,1]
["Maestría en Ingeniería Eléctrica...........................................",13,11,2,1,1,0]
["Maestría en Ingeniería en Computación..........................................",1,0,1,7,4,3]
["Maestría en Ingeniería en Química..........................................................",3,2,1,0,0,0]
["Maestría en Ingeniería Estructural..........................................................",3,3,0,0,0,0]
["Maestría en Ingeniería Matemática..........................................................",12,10,2,8,6,2]
["Maestría en Ingeniería de la Energía..........................................................",29,21,8,0,0,0]
["Doctorado en Informática (PEDECIBA)....................................",7,6,1,1,1,0]
["Doctorado en Ingeniería Mecánica de los Fluidos Aplicada....................................",2,1,1,1,1,0]
["Doctorado en Ingeniería Eléctrica...............................................",4,4,0,1,1,0]
["Doctorado en Ingeniería Química..........................................................",3,0,3,0,0,0]
[]
["FACULTAD DE CIENCIAS SOCIALES.......................................................",{"$f":"+C45+D45","v":198},{"$f":"SUM(C46:C65)","v":73},{"$f":"SUM(D46:D65)","v":125},{"$f":"+F45+G45","v":74},{"$f":"SUM(F46:F65)","v":28},{"$f":"SUM(G46:G65)","v":46}]
["Certificado en Economía......................................................",0,0,0,1,0,1]
["Certificado en Economía para No Economistas......................................................",0,0,0,1,1,0]
["Certificado en Métodos Sociodemográficos......................................................",0,0,0,1,0,1]
["Certificado en Análisis Sociodemográficos aplicado a la Gestión......................................................",0,0,0,5,3,2]
["Diploma en Economía para No Economistas......................................................",0,0,0,10,4,6]
["Diploma en Historia Económica......................................................",0,0,0,3,2,1]
["Diploma en Investigación Social Aplicada a Estudios del Mercado, Publicidad y Opinión Pública...........................................",0,0,0,4,3,1]
["Diploma en Análisis de Información Sociodemográfica aplicados a la Gestión................................................................",0,0,0,1,0,1]
["Diploma en Intervención Familiar......................................................",0,0,0,2,0,2]
["Diploma en Economía y Gestión Bancaria......................................................",0,0,0,6,0,6]
["Diploma de Especialización en Estudios Internacionales, Sistema Internacional e Integración ...........................................",31,10,21,12,3,9]
["Diploma en Ciencia Política......................................................",0,0,0,3,3,0]
["Diploma en Políticas Sociales......................................................",0,0,0,4,1,3]
["Maestría en Economía Internacional.......................................................",{"$f":"+C59+D59","v":0},0,0,{"$f":"+F59+G59","v":5},1,4]
["Maestría en Historia Económica......................................................",27,14,13,1,0,1]
["Maestría en Trabajo Social......................................................",26,2,24,0,0,0]
["Maestría en Ciencia Política......................................................",31,14,17,3,0,3]
["Maestría en Demografía y Estudios de Población......................................................",34,10,24,0,0,0]
["Maestría en Sociología......................................................",32,13,19,6,4,2]
["Doctor en Ciencias Sociales......................................................",17,10,7,6,3,3]
[]
["FACULTAD DE CIENCIAS ECONÓMICAS Y ADMINISTRACIÓN, FAC. DE CIENCIAS SOCIALES Y UNIVERSIDAD DE SIENA........................................",{"$f":"+C67+D67","v":0},{"$f":"SUM(C68)","v":0},{"$f":"SUM(D68)","v":0},{"$f":"+F67+G67","v":4},{"$f":"SUM(F68)","v":1},{"$f":"SUM(G68)","v":3}]
["Maestría en Economía y Gestión del Turismo Sustentable.......................................................",{"$f":"+C68+D68","v":0},0,0,{"$f":"+F68+G68","v":4},1,3]
[]
["FACULTAD DE CS. ECONÓMICAS Y ADM. Y FACULTAD DE MEDICINA ...........",{"$f":"+C70+D70","v":45},{"$f":"SUM(C71)","v":16},{"$f":"SUM(D71)","v":29},{"$f":"+F70+G70","v":45},{"$f":"SUM(F71)","v":16},{"$f":"SUM(G71)","v":29}]
["Posgrado de Especialización en Gestión de Servicios de Salud.......................................................",{"$f":"+C71+D71","v":45},16,29,{"$f":"+F71+G71","v":45},16,29]
[]
[]
[]
[null,null,null,null,null,"(Continúa)"]
[]
[]
[]
[]
["UNIVERSIDAD DE LA REPÚBLICA: OFERTA DE POSTGRADO",null,null,null,"ALUMNOS MATRICULADOS"]
[]
["Cuadro Nº II-6.2.7 (continuación)"]
[]
["ALUMNOS MATRICULADOS INGRESADOS Y EGRESADOS EN PROGRAMAS DE POSTGRADO DE LA UNIVERSIDAD DE LA REPÚBLICA POR SEXO SEGÚN SERVICIO UNIVERSITARIO Y ACREDITACIÓN. AÑO 2010."]
["SERVICIO UNIVERSITARIO / ACREDITACIÓN","TOTAL","INGRESADOS",null,"TOTAL","EGRESADOS"]
[null,null,"SEXO",null,null,"SEXO"]
[null,null,"M","F",null,"M","F"]
["FACULTAD DE MEDICINA .......................................................",{"$f":"+C88+D88","v":518},{"$f":"SUM(C89:C145)","v":149},{"$f":"SUM(D89:D145)","v":369},{"$f":"+F88+G88","v":323},{"$f":"SUM(F89:F145)","v":103},{"$f":"SUM(G89:G145)","v":220}]
["Especialización en Oftalmología.......................................................",13,4,9,4,2,2]
["Especialización en Administración de Servicios de Salud.......................................................",6,5,1,4,1,3]
["Especialización en Anatomía Patológica.......................................................",3,0,3,0,0,0]
["Especialización en Anestesiología.......................................................",17,8,9,7,2,5]
["Especialización en Cardiología.......................................................",25,13,12,17,7,10]
["Especialización en Cardiología Pediátrica.......................................................",1,0,1,0,0,0]
["Especialización en Cirugía Cardíaca.......................................................",1,1,0,1,1,0]
["Especialización en Cirugía General.......................................................",8,4,4,8,8,0]
["Especialización en Cirugía Pediátrica.......................................................",1,1,0,0,0,0]
["Especialización en Cirugía Plástica, Reparadora y Estética.......................................................",3,0,3,9,5,4]
["Especialización en Cirugía Vascular Periférica.......................................................",5,1,4,0,0,0]
["Especialización en Cuidados Paliativos del Adulto.......................................................",0,0,0,43,16,27]
["Especialización en Dermatología.......................................................",7,0,7,6,0,6]
["Especialización en Endocrinología y Metabolismo.......................................................",12,1,11,7,2,5]
["Especialización en Enfermedades Infecciosas.......................................................",4,0,4,4,1,3]
["Especialización en Epidemiología.......................................................",3,2,1,1,1,0]
["Especialización en Farmacología  y Terapéutica.......................................................",0,0,0,1,1,0]
["Especialización en Gastroenterología.......................................................",14,3,11,5,1,4]
["Especialización en Genética Médica........................................................",0,0,0,5,2,3]
["Especialización en Geriatría.......................................................",6,1,5,7,2,5]
["Especialización en Ginecotocología.......................................................",17,3,14,17,4,13]
["Especialización en Hematología.......................................................",7,1,6,5,0,5]
["Especialización en Hemoterapia y Medicina Transfusional.......................................................",8,4,4,5,1,4]
["Especialización en Imagenología.......................................................",17,6,11,3,2,1]
["Especialización en Infectología Pediátrica.......................................................",3,1,2,0,0,0]
["Especialización en Laboratorio de Patología Clínica.......................................................",7,2,5,7,1,6]
["Especialización en Medicina del Deporte.......................................................",13,9,4,4,3,1]
["Especialización en Medicina Familiar y Comunitaria.......................................................",32,9,23,8,0,8]
["Especialización en Medicina Intensiva.......................................................",28,9,19,15,9,6]
["Especialización en Medicina Interna.......................................................",47,15,32,28,7,21]
["Especialización en Medicina Legal.......................................................",7,1,6,4,3,1]
["Especialización en Medicina Nuclear.......................................................",6,2,4,0,0,0]
["Especialización en Microbiología.......................................................",2,0,2,0,0,0]
["Especialización en Nefrología.......................................................",15,7,8,2,0,2]
["Especialización en Neonatología.......................................................",7,2,5,10,3,7]
["Especialización en Neumología.......................................................",3,0,3,0,0,0]
["Especialización en Neurocirugía.......................................................",2,1,1,1,0,1]
["Especialización en Neurología.......................................................",4,2,2,5,1,4]
["Especialización en Neuropediatría.......................................................",2,0,2,1,0,1]
["Especialización en Oncología Médica.......................................................",7,1,6,3,2,1]
["Especialización en Oncología Radioterápica.......................................................",2,2,0,1,0,1]
["Especialización en Otorrinolaringología.......................................................",8,4,4,2,1,1]
["Especialización en Pediatría.......................................................",88,9,79,43,4,39]
["Especialización en Psicoterapia en los Servicios de Salud.......................................................",22,1,21,0,0,0]
["Especialización en Psiquiatría.......................................................",3,1,2,4,1,3]
["Especialización en Psiquiatría Pediátrica.......................................................",3,0,3,7,1,6]
["Especialización en Rehabilitación y Medicina Física.......................................................",4,1,3,0,0,0]
["Especialización en Reumatología.......................................................",2,0,2,1,0,1]
["Especialización en Salud Ocupacional.......................................................",5,0,5,0,0,0]
["Especialización en Terapia Intensiva Pediátrica.......................................................",4,1,3,3,1,2]
["Especialización en Toxicología Clínica.......................................................",1,0,1,0,0,0]
["Especialización en Traumatología y Ortopedia.......................................................",7,7,0,5,3,2]
["Especialización en Urología.......................................................",3,3,0,3,2,1]
["Diploma en Coordinación de Trasplantes....................................................... ",3,1,2,0,0,0]
["Diploma en Endoscopía Digestiva.......................................................",0,0,0,1,0,1]
["Maestría PROINBIO (Ciencias Biomédicas).......................................................",0,0,0,4,1,3]
["Doctor PROINBIO (Ciencias Biomédicas).......................................................",0,0,0,2,1,1]
[]
["FACULTAD DE ODONTOLOGÍA .......................................................",{"$f":"+C147+D147","v":8},{"$f":"SUM(C148:C149)","v":2},{"$f":"SUM(D148:D149)","v":6},{"$f":"+F147+G147","v":11},{"$f":"SUM(F148:F149)","v":0},{"$f":"SUM(G148:G149)","v":11}]
["Especialización en Odontología Restauradora Integral.......................................................",{"$f":"+C148+D148","v":8},2,6,{"$f":"+F148+G148","v":0},0,0]
["Especialización en Odontopediatría.......................................................",{"$f":"+C149+D149","v":0},0,0,{"$f":"+F149+G149","v":11},0,11]
[]
["FACULTAD DE HUMANIDADES Y CIENCIAS DE LA EDUCACIÓN.......................................................",{"$f":"+C151+D151","v":0},{"$f":"SUM(C152:C154)","v":0},{"$f":"SUM(D152:D154)","v":0},{"$f":"+F151+G151","v":5},{"$f":"SUM(F152:F154)","v":4},{"$f":"SUM(G152:G154)","v":1}]
["Maestría en Ciencias Humanas - Estudios Fronterizos.......................................................",{"$f":"+C152+D152","v":0},0,0,{"$f":"+F152+G152","v":1},1,0]
["Maestría en Ciencias Humanas - Opc. Maestría en Antropología de la Cuenca del Plata.......................................................",{"$f":"+C153+D153","v":0},0,0,{"$f":"+F153+G153","v":1},1,0]
["Maestría en Ciencias Humanas - Opc. Maestría en Literatura Latinoamericana........................................................",{"$f":"+C154+D154","v":0},0,0,{"$f":"+F154+G154","v":3},2,1]
[]
["FACULTAD DE AGRONOMÍA.......................................................",{"$f":"+C156+D156","v":105},{"$f":"SUM(C157:C162)","v":69},{"$f":"SUM(D157:D162)","v":36},{"$f":"+F156+G156","v":64},{"$f":"SUM(F157:F162)","v":38},{"$f":"SUM(G157:G162)","v":26}]
["Especialización en Industria Cárnica.......................................................",{"$f":"+C157+D157","v":40},27,13,{"$f":"+F157+G157","v":40},27,13]
["Especialización en Agronomía.Op.Prod.Vegetal,Suelo,Aguas,Protección Vegetal................................................................",21,15,6,0,0,0]
["Magister en Agronomía.Op.Prod.Vegetal,Suelo,Aguas,Protección Vegetal.................................................................",8,7,1,0,0,0]
["Magister en Ciencias Agrarias...................................................",31,18,13,22,9,13]
["Magister en Desarrollo Rural Sustentable...................................................",0,0,0,2,2,0]
["Doctor en Ciencias Agrarias...................................................",5,2,3,0,0,0]
[]
["FACULTAD DE ARQUITECTURA...................................................",{"$f":"+C164+D164","v":30},{"$f":"SUM(C165:C168)","v":13},{"$f":"SUM(D165:D168)","v":17},{"$f":"+F164+G164","v":5},{"$f":"SUM(F165:F168)","v":1},{"$f":"SUM(G165:G168)","v":4}]
["Diploma en Construcción  de Obras de Arquitectura......................",{"$f":"+C165+D165","v":0},0,0,{"$f":"+F165+G165","v":4},1,3]
["Diploma de Especialización en Diseño de Estructuras en la Arquitectura.......................",{"$f":"+C166+D166","v":22},11,11,{"$f":"+F166+G166","v":0},0,0]
["Especialización en Intervención en el Patrimonio Arquitectónico.......................................................",{"$f":"+C167+D167","v":8},2,6,{"$f":"+F167+G167","v":0},0,0]
["Doctor en Teoría Práctica del Proyecto de Arquitectura .......................",{"$f":"+C168+D168","v":0},0,0,{"$f":"+F168+G168","v":1},0,1]
[]
["FACULTAD DE QUÍMICA.......................................................",{"$f":"+C170+D170","v":31},{"$f":"SUM(C171:C176)","v":9},{"$f":"SUM(D171:D176)","v":22},{"$f":"+F170+G170","v":20},{"$f":"SUM(F171:F176)","v":5},{"$f":"SUM(G171:G176)","v":15}]
["Especialización en Farmacia Hospitalaria.......................................................",{"$f":"+C171+D171","v":4},0,4,{"$f":"+F171+G171","v":2},0,2]
["Magister en Química......................................................",5,1,4,2,1,1]
["Magister en Química (Orientación Educación en Química)......................................................",1,1,0,0,0,0]
["Doctor en Farmacia (Plan 97)......................................................",0,0,0,2,0,2]
["Doctor en Química (Plan 2004)......................................................",21,7,14,13,4,9]
["Doctor en Química por Tesis (Plan 96)......................................................",0,0,0,1,0,1]
[]
["FACULTAD DE VETERINARIA.......................................................",{"$f":"+C178+D178","v":12},{"$f":"SUM(C179:C184)","v":3},{"$f":"SUM(D179:D184)","v":9},{"$f":"+F178+G178","v":14},{"$f":"SUM(F179:F184)","v":6},{"$f":"SUM(G179:G184)","v":8}]
["Maestría en Nutrición de Rumiantes.......................................",0,0,0,3,2,1]
["Maestría en Producción Animal...................................................",1,0,1,5,0,5]
["Maestría en Reproducción Animal..............................................................................",4,1,3,3,2,1]
["Maestría en Salud Animal........................................................",1,0,1,3,2,1]
["Doctorado en Producción Animal........................................................",5,2,3,0,0,0]
["Doctorado en Salud Animal........................................................",1,0,1,0,0,0]
[]
["FACULTAD DE CIENCIAS.......................................................",{"$f":"+C186+D186","v":102},{"$f":"SUM(C187:C194)","v":38},{"$f":"SUM(D187:D194)","v":64},{"$f":"+F186+G186","v":43},{"$f":"SUM(F187:F194)","v":17},{"$f":"SUM(G187:G194)","v":26}]
["Magister en Biotecnología......................................................",{"$f":"+C187+D187","v":10},4,6,3,2,1]
["Magister en Ciencias Ambientales......................................................",0,0,0,2,0,2]
["Magister en Ciencias Biológicas (PEDECIBA)......................................................",68,17,51,22,7,15]
["Magister en Física (PEDECIBA)......................................................",4,4,0,3,1,2]
["Magister en Matemática (PEDECIBA)......................................................",4,3,1,3,3,0]
["Doctor en Ciencias Biológicas (PEDECIBA)......................................................",11,6,5,9,3,6]
["Doctor en Física (PEDECIBA)......................................................",3,2,1,1,1,0]
["Doctor en Matemática (PEDECIBA)..........................................................",{"$f":"+C194+D194","v":2},2,0,{"$f":"+F194+G194","v":0},0,0]
[]
["FACULTAD DE ENFERMERÍA.......................................................",{"$f":"+C196+D196","v":0},{"$f":"SUM(C197:C198)","v":0},{"$f":"SUM(D197:D198)","v":0},{"$f":"+F196+G196","v":3},{"$f":"SUM(F197:F198)","v":1},{"$f":"SUM(G197:G198)","v":2}]
["Magister en Salud Mental.........................................................",{"$f":"+C197+D197","v":0},0,0,{"$f":"+F197+G197","v":2},1,1]
["Magister en Atención de Salud en Primer Nivel.......................................................",{"$f":"+C198+D198","v":0},0,0,{"$f":"+F198+G198","v":1},0,1]
[]
["FACULTAD DE PSICOLOGÍA.......................................................",{"$f":"+C200+D200","v":0},{"$f":"SUM(C201:C202)","v":0},{"$f":"SUM(D201:D202)","v":0},{"$f":"+F200+G200","v":3},{"$f":"SUM(F201:F202)","v":0},{"$f":"SUM(G201:G202)","v":3}]
["Maestría en Psicología y Educación.........................................................",{"$f":"+C201+D201","v":0},0,0,{"$f":"+F201+G201","v":1},0,1]
["Maestría en Derechos de Infancia y Políticas Públicas......................................................",{"$f":"+C202+D202","v":0},0,0,{"$f":"+F202+G202","v":2},0,2]
[]
["ÁREA SOCIAL - COMISIÓN SECTORIAL DE ENSEÑANZA .......................................................",{"$f":"+C204+D204","v":46},{"$f":"SUM(C205:C205)","v":14},{"$f":"SUM(D205:D205)","v":32},{"$f":"+F204+G204","v":0},{"$f":"SUM(F205:F205)","v":0},{"$f":"SUM(G205:G205)","v":0}]
["Maestría en Enseñanza Universitaria.......................................................",{"$f":"+C205+D205","v":46},14,32,{"$f":"+F205+G205","v":0},0,0]
[]
["Fuente: División Estadística - Dirección General de Planeamiento - UdelaR."]

{"sheet":"II-6.2.8 ","index":196,"n_rows":143,"n_cols":10,"rows_kept":143,"cut":false,"hidden":false,"merged":[[5,0,7,0],[5,2,5,3],[0,6,1,8],[4,0,4,9],[5,1,7,1],[6,2,6,3],[6,5,6,6],[6,8,6,9],[5,4,7,4],[5,7,7,7],[5,5,5,6],[5,8,5,9]]}
["UNIVERSIDADES PRIVADAS: OFERTA DE POSTGRADO",null,null,null,null,null,"ALUMNOS MATRICULADOS"]
[]
["Cuadro Nº II-6.2.8"]
[]
["ALUMNOS INGRESADOS, MATRICULADOS Y EGRESADOS EN PROGRAMAS DE POSTGRADO DE UNIVERSIDADES PRIVADAS POR SEXO SEGÚN UNIVERSIDAD Y ACREDITACIÓN. AÑO 2010."]
["UNIVERSIDAD / ACREDITACIÓN","TOTAL","INGRESADOS",null,"TOTAL","MATRICULADOS",null,"TOTAL","EGRESADOS"]
[null,null,"SEXO",null,null,"SEXO",null,null,"SEXO"]
[null,null,"M","F",null,"M","F",null,"M","F"]
["TOTAL..............................................................................",{"$f":"SUM(C9:D9)","v":1117},{"$f":"C11+C75+C104+C126","v":382},{"$f":"D11+D75+D104+D126","v":735},{"$f":"SUM(F9:G9)","v":3708},{"$f":"F11+F75+F104+F126","v":1335},{"$f":"G11+G75+G104+G126","v":2373},{"$f":"SUM(I9:J9)","v":401},{"$f":"I11+I75+I104+I126","v":141},{"$f":"J11+J75+J104+J126","v":260}]
[]
["U.C.U.D.A.L.................................................................................................................",{"$f":"SUM(C11:D11)","v":563},{"$f":"+C13+C22+C38+C56+C62+C64+C68","v":143},{"$f":"+D13+D22+D38+D56+D62+D64+D68","v":420},{"$f":"SUM(F11:G11)","v":1952},{"$f":"+F13+F22+F38+F56+F62+F64+F68","v":496},{"$f":"+G13+G22+G38+G56+G62+G64+G68","v":1456},{"$f":"SUM(I11:J11)","v":145},{"$f":"+I13+I22+I38+I56+I62+I64+I68","v":35},{"$f":"+J13+J22+J38+J56+J62+J64+J68","v":110}]
[]
["FACULTAD DE CIENCIAS EMPRESARIALES.....................................................",{"$f":"+C13+D13","v":167},{"$f":"SUM(C14:C20)","v":78},{"$f":"SUM(D14:D20)","v":89},{"$f":"+F13+G13","v":436},{"$f":"SUM(F14:F20)","v":223},{"$f":"SUM(G14:G20)","v":213},{"$f":"+I13+J13","v":43},{"$f":"SUM(I14:I20)","v":14},{"$f":"SUM(J14:J20)","v":29}]
["Postgrado en Finanzas Corporativas.....................................................",24,10,14,52,23,29,2,1,1]
["Postgrado en Finanzas Bancarias.....................................................",12,3,9,22,8,14,0,0,0]
["Postgrado en Tributaria.....................................................",12,6,6,53,20,33,13,2,11]
["Postgrado en Marketing.....................................................",21,10,11,47,20,27,1,0,1]
["Postgrado en Gestión de RRHH.....................................................",30,6,24,62,15,47,12,3,9]
["Postgrado en Dirección y Administración de Empresas.....................................................",35,24,11,74,44,30,7,3,4]
["Maestría en Dirección de Empresas.....................................................",33,19,14,126,93,33,8,5,3]
[]
["FACULTAD DE CIENCIAS HUMANAS...........................................................",{"$f":"+C22+D22","v":146},{"$f":"SUM(C23:C36)","v":30},{"$f":"SUM(D23:D36)","v":116},{"$f":"+F22+G22","v":537},{"$f":"SUM(F23:F36)","v":123},{"$f":"SUM(G23:G36)","v":414},{"$f":"+I22+J22","v":41},{"$f":"SUM(I23:I36)","v":10},{"$f":"SUM(J23:J36)","v":31}]
["Postgrado en Currículum y Evaluación......................................................",{"$f":"+C23+D23","v":0},0,0,{"$f":"+F23+G23","v":4},1,3,{"$f":"+I23+J23","v":1},0,1]
["Postgrado en Didáctica de la Matemática.......................................................",{"$f":"+C24+D24","v":0},0,0,{"$f":"+F24+G24","v":14},1,13,{"$f":"+I24+J24","v":0},0,0]
["Postgrado en Gestión de Centros Educativos.........................................................",{"$f":"+C25+D25","v":42},10,32,{"$f":"+F25+G25","v":123},20,103,{"$f":"+I25+J25","v":4},0,4]
["Postgrado en Educación en Valores........................................................",{"$f":"+C26+D26","v":0},0,0,{"$f":"+F26+G26","v":1},0,1,{"$f":"+I26+J26","v":0},0,0]
["Postgrado en Dificultades de Aprendizaje del Lenguaje y Razonamiento.......................................................",{"$f":"+C28+D28","v":0},2,48,{"$f":"+F27+G27","v":120},10,110,{"$f":"+I27+J27","v":24},5,19]
["Postgrado en Docencia Universitaria.....................................................",1,0,0,17,6,11,1,0,1]
["Postgrado en Marketing Político y Gestión de Campañas Electorales.................",14,1,0,1,1,0,0,0,0]
["Postgrado en Cambio Organizacional ........................................................",4,5,9,66,18,48,4,2,2]
["Postgrado en Comunicación y Cultura........................................................",5,2,2,14,9,5,0,0,0]
["Postgrado en Estrategias Comunicacionales........................................................",4,1,4,20,10,10,0,0,0]
["Maestría en Comunicación - énfasis en Recepción y Cultura...............................................................",3,1,3,17,5,12,0,0,0]
["Maestría en Educación...............................................................",5,1,2,77,16,61,6,2,4]
["Maestría en Comunicación Política...............................................................",18,4,1,19,14,5,1,1,0]
["Maestría en Estudios Organizacionales...............................................................",{"$f":"+C36+D36","v":18},3,15,44,12,32,0,0,0]
[]
["FACULTAD DE PSICOLOGÍA......................................................................",{"$f":"+C38+D38","v":249},{"$f":"SUM(C39:C54)","v":34},{"$f":"SUM(D39:D54)","v":215},{"$f":"+F38+G38","v":813},{"$f":"SUM(F39:F54)","v":102},{"$f":"SUM(G39:G54)","v":711},{"$f":"+I38+J38","v":32},{"$f":"SUM(I39:I54)","v":7},{"$f":"SUM(J39:J54)","v":25}]
["Postgrado en Psiconeuroinmunoendocrinología.........................................................",25,3,22,53,7,46,2,1,1]
["Postgrado en Psicología Educacional.........................................................",69,8,61,170,16,154,5,0,5]
["Postgrado en Psicología del Trabajo y Organización.........................................................",36,4,32,73,10,63,5,1,4]
["Postgrado en Psicología Clínica orientación Cognitiva.........................................................",25,1,24,62,4,58,0,0,0]
["Postgrado en Drogodependencia.........................................................",45,13,32,77,18,59,3,1,2]
["Postgrado en Psicología Infantil y del Adolescente.........................................................",9,3,6,57,4,53,1,0,1]
["Postgrado en Psicología Analítica.........................................................",1,0,1,18,9,9,1,1,0]
["Postgrado en Psicología Sistémica y Familias.........................................................",26,2,24,65,6,59,0,0,0]
["Postgrado en Diabetología.........................................................",0,0,0,40,10,30,2,2,0]
["Maestría en Intervención Psicopedagógica.........................................................",2,0,2,23,1,22,1,0,1]
["Maestría en Psicología Educacional.........................................................",2,0,2,23,2,21,0,0,0]
["Maestría en Psicología Clínica Niños y Adolescentes.........................................................",1,0,1,10,0,10,0,0,0]
["Maestría en Psicoterapia Jungiana.........................................................",0,0,0,34,7,27,0,0,0]
["Maestría en Psicología Clínica Familiar Sistémica.........................................................",0,0,0,29,3,26,0,0,0]
["Maestría en Psicología Clínica orientación Analítica............................................",0,0,0,0,0,0,1,1,0]
["Maestría en Nutrición.........................................................",8,0,8,79,5,74,11,0,11]
[]
["FACULTAD DE ENFERMERÍA.......................................................",{"$f":"+C56+D56","v":1},{"$f":"SUM(C57:C59)","v":1},{"$f":"SUM(D57:D59)","v":0},{"$f":"+F56+G56","v":89},{"$f":"SUM(F57:F59)","v":10},{"$f":"SUM(G57:G59)","v":79},{"$f":"+I56+J56","v":27},{"$f":"SUM(I57:I59)","v":3},{"$f":"SUM(J57:J59)","v":24}]
["Postgrado en Gestión de Servicios de Salud.......................................................",{"$f":"+C57+D57","v":1},1,0,{"$f":"+F57+G57","v":65},9,56,{"$f":"+I57+J57","v":27},3,24]
["Postgrado en Salud Comunitaria..............................................",{"$f":"+C58+D58","v":0},0,0,{"$f":"+F58+G58","v":11},0,11,{"$f":"+I58+J58","v":0},0,0]
["Postgrado en Urgencias y Emergencias Hospitalarias..............................................",{"$f":"+C59+D59","v":0},0,0,{"$f":"+F59+G59","v":13},1,12,{"$f":"+I59+J59","v":0},0,0]
[]
["FACULTAD DE INGENIERÍA -"]
["Maestría en Ciencias de Ingeniería Eléctrica.......................................................",{"$f":"+C62+D62","v":0},0,0,{"$f":"+F62+G62","v":3},3,0,{"$f":"+I62+J62","v":1},1,0]
[]
["FACULTAD DE DERECHO....................................................................",{"$f":"+C64+D64","v":0},{"$f":"SUM(C65:C66)","v":0},{"$f":"SUM(D65:D66)","v":0},{"$f":"+F64+G64","v":64},{"$f":"SUM(F65:F66)","v":35},{"$f":"SUM(G65:G66)","v":29},{"$f":"+I64+J64","v":0},{"$f":"SUM(I65:I66)","v":0},{"$f":"SUM(J65:J66)","v":0}]
["Maestría en Derecho..............................................................",{"$f":"+C65+D65","v":0},0,0,{"$f":"+F65+G65","v":38},19,19,{"$f":"+I65+J65","v":0},0,0]
["Maestría en Derecho Civil Contractual........................................",{"$f":"+C66+D66","v":0},0,0,{"$f":"+F66+G66","v":26},16,10,{"$f":"+I66+J66","v":0},0,0]
[]
["INTERFACULTADES....................................................................",{"$f":"+C68+D68","v":0},{"$f":"SUM(C69:C73)","v":0},{"$f":"SUM(D69:D73)","v":0},{"$f":"+F68+G68","v":10},{"$f":"SUM(F69:F73)","v":0},{"$f":"SUM(G69:G73)","v":10},{"$f":"+I68+J68","v":1},{"$f":"SUM(I69:I73)","v":0},{"$f":"SUM(J69:J73)","v":1}]
["Postgrado en Psicología Educacional - Paysandú.....................................",0,0,0,0,0,0,0,0,0]
["Postgrado en Psicología Educacional - Salto..............................................................",0,0,0,10,0,10,0,0,0]
["Postgrado en psicología sistémica y Familias - Salto.......................................",0,0,0,0,0,0,0,0,0]
["Postgrado en Dificultad de aprendizaje - Salto........................................",0,0,0,0,0,0,0,0,0]
["Maestría en Educación y Sociedad  - Maldonado........................................",0,0,0,0,0,0,1,0,1]
[]
["UNIVERSIDAD ORT URUGUAY.................................................................................................................",{"$f":"+B77+B92+B97","v":185},81,104,592,258,334,138,42,96]
[]
["FACULTAD DE ADMINISTRACIÓN Y CIENCIAS SOCIALES........................................",{"$f":"+C77+D77","v":122},{"$f":"SUM(C78:C90)","v":46},{"$f":"SUM(D78:D90)","v":76},{"$f":"+F77+G77","v":386},{"$f":"SUM(F78:F90)","v":172},{"$f":"SUM(G78:G90)","v":214},{"$f":"+I77+J77","v":54},{"$f":"SUM(I78:I90)","v":23},{"$f":"SUM(J78:J90)","v":31}]
["Diploma en Recursos Humanos..........................................................",8,1,7,35,5,30,10,1,9]
["Diploma en Agronegocios..........................................................",0,0,0,3,3,0,2,2,0]
["Diploma en Finanzas..........................................................",10,5,5,39,19,20,7,3,4]
["Diploma en Logística Empresarial..........................................................",0,0,0,0,0,0,1,0,1]
["Diploma en Impuestos..........................................................",29,8,21,74,21,53,5,1,4]
["Diploma de Especialización en Contabilidad..........................................................",6,1,5,10,2,8,0,0,0]
["Diploma en Dirección de Marketing..........................................................",10,1,9,32,9,23,10,5,5]
["Master en Administración de Empresas..........................................................",27,17,10,100,74,26,16,10,6]
["Master en Contabilidad e Impuestos..........................................................",12,7,5,16,8,8,0,0,0]
["Master en Economía por Investigación..........................................................",7,4,3,12,7,5,0,0,0]
["Master en Políticas Públicas..........................................................",0,0,0,2,1,1,1,0,1]
["Master en Dirección de Recursos Humanos..........................................................",10,1,9,32,7,25,1,1,0]
["Master en Dirección Financiera..........................................................",3,1,2,31,16,15,1,0,1]
[]
["FACULTAD DE INGENIERÍA......................................................",{"$f":"+C92+D92","v":26},{"$f":"SUM(C93:C95)","v":23},{"$f":"SUM(D93:D95)","v":3},{"$f":"+F92+G92","v":53},{"$f":"SUM(F93:F95)","v":42},{"$f":"SUM(G93:G95)","v":11},{"$f":"+I92+J92","v":0},{"$f":"SUM(I93:I95)","v":0},{"$f":"SUM(J93:J95)","v":0}]
["Master en Ingeniería..........................................................",{"$f":"+C93+D93","v":10},8,2,{"$f":"+F93+G93","v":21},15,6,{"$f":"+I93+J93","v":0},0,0]
["Master en Gerencia de Empresas Tecnológicas..........................................................",{"$f":"+C94+D94","v":16},15,1,{"$f":"+F94+G94","v":16},15,1,{"$f":"+I94+J94","v":0},0,0]
["Doctorado en Ingeniería Informática....................................",{"$f":"+C95+D95","v":0},0,0,{"$f":"+F95+G95","v":16},12,4,{"$f":"+I95+J95","v":0},0,0]
[]
["INSTITUTO DE EDUCACIÓN.....................................................................",{"$f":"+C97+D97","v":37},{"$f":"SUM(C98:C102)","v":12},{"$f":"SUM(D98:D102)","v":25},{"$f":"+F97+G97","v":153},{"$f":"SUM(F98:F102)","v":44},{"$f":"SUM(G98:G102)","v":109},{"$f":"+I97+J97","v":84},{"$f":"SUM(I98:I102)","v":19},{"$f":"SUM(J98:J102)","v":65}]
["Diploma en Educación..........................................................",0,0,0,0,0,0,14,2,12]
["Diploma en Educación (a distancia)..........................................................",0,0,0,4,3,1,18,4,14]
["Diploma en Planificación y Gestión Educativa (a distancia).................",7,4,3,13,7,6,23,6,17]
["Master en Educación..........................................................",19,2,17,75,13,62,16,3,13]
["Master en Gestión Educativa..........................................................",11,6,5,61,21,40,13,4,9]
[]
["UNIVERSIDAD DE MONTEVIDEO.........................................................",{"$f":"+C104+D104","v":180},{"$f":"+C106+C110+C116+C120","v":68},{"$f":"+D106+D110+D116+D120","v":112},{"$f":"+F104+G104","v":525},{"$f":"+F106+F110+F116+F120","v":232},{"$f":"+G106+G110+G116+G120","v":293},{"$f":"+I104+J104","v":85},{"$f":"+I106+I110+I116+I120","v":48},{"$f":"+J106+J110+J116+J120","v":37}]
[]
["FACULTAD DE CIENCIAS EMPRESARIALES Y ECONOMÍA...............................",{"$f":"+C106+D106","v":26},{"$f":"SUM(C107:C108)","v":12},{"$f":"SUM(D107:D108)","v":14},{"$f":"+F106+G106","v":72},{"$f":"SUM(F107:F108)","v":48},{"$f":"SUM(G107:G108)","v":24},{"$f":"+I106+J106","v":4},{"$f":"SUM(I107:I108)","v":3},{"$f":"SUM(J107:J108)","v":1}]
["Maestría en Economía..........................................................",{"$f":"+C107+D107","v":8},4,4,{"$f":"+F107+G107","v":24},20,4,{"$f":"+I107+J107","v":1},1,0]
["Maestría en Finanzas..........................................................",{"$f":"+C108+D108","v":18},8,10,{"$f":"+F108+G108","v":48},28,20,{"$f":"+I108+J108","v":3},2,1]
[]
["FACULTAD DE DERECHO........................................................",{"$f":"+C110+D110","v":49},{"$f":"SUM(C111:C114)","v":10},{"$f":"SUM(D111:D114)","v":39},{"$f":"+F110+G110","v":223},{"$f":"SUM(F111:F114)","v":68},{"$f":"SUM(G111:G114)","v":155},{"$f":"+I110+J110","v":11},{"$f":"SUM(I111:I114)","v":4},{"$f":"SUM(J111:J114)","v":7}]
["Maestría en Derecho Administrativo Económico......................................",{"$f":"+C111+D111","v":8},2,6,{"$f":"+F111+G111","v":35},7,28,{"$f":"+I111+J111","v":0},0,0]
["Maestría en Derecho de la Empresa................................................",{"$f":"+C112+D112","v":19},5,14,{"$f":"+F112+G112","v":59},18,41,{"$f":"+I112+J112","v":0},0,0]
["Maestría en Derecho y Técnica Tributaria.......................................",{"$f":"+C113+D113","v":17},2,15,{"$f":"+F113+G113","v":114},38,76,{"$f":"+I113+J113","v":7},3,4]
["Maestría en Integración y Comercio Internacional..............................",{"$f":"+C114+D114","v":5},1,4,{"$f":"+F114+G114","v":15},5,10,{"$f":"+I114+J114","v":4},1,3]
[]
["INSTITUTO DE ESTUDIOS EMPRESARIALES..........................................................",{"$f":"+C116+D116","v":55},{"$f":"SUM(C117:C118)","v":31},{"$f":"SUM(D117:D118)","v":24},{"$f":"+F116+G116","v":113},{"$f":"SUM(F117:F118)","v":80},{"$f":"SUM(G117:G118)","v":33},{"$f":"+I116+J116","v":49},{"$f":"SUM(I117:I118)","v":41},{"$f":"SUM(J117:J118)","v":8}]
["Maestría en Dirección y Administración de Empresas.........................",{"$f":"+C117+D117","v":36},21,15,{"$f":"+F117+G117","v":90},66,24,{"$f":"+I117+J117","v":49},41,8]
["Maestría en Dirección de Empresas de Salud.................................",{"$f":"+C118+D118","v":19},10,9,{"$f":"+F118+G118","v":23},14,9,{"$f":"+I118+J118","v":0},0,0]
[]
["CENTRO DE CIENCIAS BIOMÉDICAS............................................................",{"$f":"+C120+D120","v":50},{"$f":"SUM(C121:C124)","v":15},{"$f":"SUM(D121:D124)","v":35},{"$f":"+F120+G120","v":117},{"$f":"SUM(F121:F124)","v":36},{"$f":"SUM(G121:G124)","v":81},{"$f":"+I120+J120","v":21},{"$f":"SUM(I121:I124)","v":0},{"$f":"SUM(J121:J124)","v":21}]
["Maestría en Medicina Familiar.........................................",{"$f":"+C121+D121","v":15},2,13,{"$f":"+F121+G121","v":36},3,33,{"$f":"+I121+J121","v":17},0,17]
["Maestría en Farmacología Clínica..........................................................",{"$f":"+C122+D122","v":5},2,3,{"$f":"+F122+G122","v":15},4,11,{"$f":"+I122+J122","v":1},0,1]
["Maestría en Medicina de Emergencia..........................................................",{"$f":"+C123+D123","v":30},11,19,{"$f":"+F123+G123","v":61},26,35,{"$f":"+I123+J123","v":3},0,3]
["Maestría en Traumatología y Ortopedia..........................................................",{"$f":"+C124+D124","v":0},0,0,{"$f":"+F124+G124","v":5},3,2,{"$f":"+I124+J124","v":0},0,0]
[]
["UNIVERSIDAD DE LA EMPRESA........................................................",{"$f":"+C126+D126","v":189},{"$f":"SUM(C128:C142)","v":90},{"$f":"SUM(D128:D142)","v":99},{"$f":"+F126+G126","v":639},{"$f":"SUM(F128:F142)","v":349},{"$f":"SUM(G128:G142)","v":290},{"$f":"+I126+J126","v":33},{"$f":"SUM(I128:I142)","v":16},{"$f":"SUM(J128:J142)","v":17}]
[]
["Posgrado Especializac. Marketing..........................................................",{"$f":"+C128+D128","v":12},5,7,{"$f":"+F128+G128","v":12},5,7,{"$f":"+I128+J128","v":7},4,3]
["Posgrado Especializac. Finanzas..........................................................",6,3,3,6,3,3,0,0,0]
["Posgrado Habilidades Gerenciales..........................................................",13,5,8,24,13,11,5,0,5]
["Posgrado en Recursos Humanos.........................................",19,3,16,19,3,16,7,2,5]
["Maestría en Agronegocios..........................................................",8,6,2,8,6,2,0,0,0]
["Maestría en Educación..........................................................",31,12,19,120,37,83,5,3,2]
["Maestría en Relac. Internac. Y Derecho Integrac..........................................................",9,6,3,48,34,14,2,2,0]
["Maestría en Direcc. Y Adm. De Empresas (MBA)..........................................................",9,6,3,23,15,8,6,4,2]
["Maestría en Administración..........................................................",12,5,7,105,69,36,0,0,0]
["Doctorado en Administración..........................................................",11,5,6,70,51,19,0,0,0]
["Doctorado en Educación..........................................................",21,8,13,141,66,75,1,1,0]
["Posgrado Especialización en Ventas..........................................................",7,6,1,16,13,3,0,0,0]
["Posgrado Comunicación y Relaciones Públicas..........................................................",17,9,8,17,9,8,0,0,0]
["Posgrado Espec Producc Semillas Forrajeras..........................................................",{"$f":"+C141+D141","v":0},0,0,{"$f":"+F141+G141","v":16},14,2,{"$f":"+I141+J141","v":0},0,0]
["Posgrado Administrac Agropecuaria..........................................................",{"$f":"+C142+D142","v":14},11,3,{"$f":"+F142+G142","v":14},11,3,{"$f":"+I142+J142","v":0},0,0]
["Fuente: Oficinas Productoras de cada una de las Instituciones. "]

{"sheet":"II-6.2.9 ","index":197,"n_rows":52,"n_cols":10,"rows_kept":52,"cut":false,"hidden":false,"merged":[[0,6,1,8],[5,2,5,3],[4,0,4,9],[5,1,7,1],[5,4,7,4],[6,2,6,3],[6,5,6,6],[6,8,6,9],[5,0,7,0],[5,7,7,7],[5,5,5,6],[5,8,5,9]]}
["INSTITUTOS UNIVERSITARIOS: OFERTA DE POSTGRADO",null,null,null,null,null,"ALUMNOS MATRICULADOS"]
[]
["Cuadro Nº II-6.2.9"]
[]
["ALUMNOS INGRESADOS, MATRICULADOS Y EGRESADOS EN PROGRAMAS DE POSTGRADO DE INSTITUTOS UNIVERSITARIOS POR SEXO SEGÚN INSTITUTO UNIVERSITARIO Y ACREDITACIÓN. AÑO 2010."]
["INSTITUTO UNIVERSITARIO / ACREDITACIÓN","TOTAL","INGRESADOS",null,"TOTAL","MATRICULADOS",null,"TOTAL","EGRESADOS"]
[null,null,"SEXO",null,null,"SEXO",null,null,"SEXO"]
[null,null,"M","F",null,"M","F",null,"M","F"]
["TOTAL..............................................................................",{"$f":"SUM(C9:D9)","v":201},{"$f":"+C11+C37+C39+C49+C46","v":41},{"$f":"+D11+D37+D39+D49+D46","v":160},{"$f":"SUM(F9:G9)+567","v":1134},{"$f":"+F11+F37+F39+F49+F46","v":122},{"$f":"+G11+G37+G39+G49+G46","v":445},{"$f":"SUM(I9:J9)","v":66},{"$f":"+I11+I37+I39+I49+I46","v":13},{"$f":"+J11+J37+J39+J49+J46","v":53}]
[]
["INST. UNIV. C.L.A.E.H ..................................................................................................................",{"$f":"+C11+D11","v":179},{"$f":"SUM(C13:C34)","v":39},{"$f":"SUM(D13:D34)","v":140},{"$f":"+F11+G11","v":436},{"$f":"SUM(F13:F34)","v":102},{"$f":"SUM(G13:G34)","v":334},{"$f":"+I11+J11","v":51},{"$f":"SUM(I13:I34)","v":11},{"$f":"SUM(J13:J34)","v":40}]
[]
["Diploma de Especialización en Políticas Sociales......................................................",{"$f":"+C13+D13","v":9},2,7,{"$f":"+F13+G13","v":22},9,13,{"$f":"+I13+J13","v":4},0,4]
["Diploma de Posgrado en Gestión de Servicios de Salud......................................................",42,7,35,101,36,65,11,4,7]
["Diploma en Investigación en Historia Contemporánea......................................................",0,0,0,0,0,0,1,1,0]
["Especialización en Farmacodependencia......................................................",0,0,0,0,0,0,3,0,3]
["Maestría en Didáctica de la Educación Básica......................................................",4,0,4,7,1,6,0,0,0]
["Maestría en Didáctica de la Historia......................................................",21,8,13,0,0,0,0,0,0]
["Maestría en Docencia de la Educación Media......................................................",5,2,3,9,1,8,0,0,0]
["Maestría en Políticas y Gestión de la Educación......................................................",2,1,1,87,21,66,6,3,3]
["Maestría en Políticas y Gestión de la Educación (Salto)......................................................",3,1,2,12,2,10,0,0,0]
["Maestría en Políticas y Gestión de la Educación (Tacuarembó)......................................................",0,0,0,0,0,0,1,0,1]
["Maestría en Políticas y Gestión de la Salud......................................................",14,4,10,0,0,0,0,0,0]
["Maestría en Tecnología Educativa......................................................",4,2,2,14,1,13,0,0,0]
["Master en Políticas de Infancia y Adolescencia......................................................",0,0,0,0,0,0,1,0,1]
["Posgrado de Especialización en Integración y Mercosur......................................................",0,0,0,5,0,5,2,0,2]
["Posgrado en Didáctica de la Educación Básica......................................................",26,0,26,29,0,29,4,0,4]
["Posgrado en Didáctica de la Educación Básica (Cerro Largo)......................................................",1,0,1,8,1,7,0,0,0]
["Posgrado en didáctica de la Educación Básica (Rivera......................................................",0,0,0,0,0,0,0,0,0]
["Posgrado en Docencia de la Educación Media......................................................",0,0,0,26,4,22,0,0,0]
["Posgrado en Políticas y Gestión de la Educación......................................................",41,12,29,92,22,70,0,0,0]
["Posgrado en Políticas y Gestión de la Educación (Rivera)......................................................",0,0,0,0,0,0,11,2,9]
["Posgrado en Políticas y Gestión de la Educación (Cerro Largo)......................................................",0,0,0,0,0,0,1,1,0]
["Posgrado en Tecnología Educativa......................................................",7,0,7,24,4,20,6,0,6]
[]
["INST. UNIV. DE POSTGRADO EN PSICOANÁLISIS (APU) -"]
["Maestría en Psicoanálisis..............................................",{"$f":"+C37+D37","v":8},2,6,{"$f":"+F37+G37","v":40},6,34,{"$f":"+I37+J37","v":7},2,5]
[]
["INST. UNIV. BIOS..................................................................................................................",{"$f":"+C39+D39","v":0},{"$f":"SUM(C40:C44)","v":0},{"$f":"SUM(D40:D44)","v":0},{"$f":"+F39+G39","v":43},{"$f":"SUM(F40:F44)","v":14},{"$f":"SUM(G40:G44)","v":29},{"$f":"+I39+J39","v":0},{"$f":"SUM(I40:I44)","v":0},{"$f":"SUM(J40:J44)","v":0}]
["Maestría en Paisajismo......................................................",0,0,0,25,8,17,0,0,0]
["Maestría en Comunicación.........................................................",0,0,0,6,3,3,0,0,0]
["Maestría en Diseño.........................................................",0,0,0,12,3,9,0,0,0]
["Maestría en Gerontología.........................................................",0,0,0,0,0,0,0,0,0]
["Maestría en Educación.........................................................",0,0,0,0,0,0,0,0,0]
[]
["INST. METODISTA UNIV. CRANDON..................................................................................................................",{"$f":"+C46+D46","v":4},{"$f":"SUM(C47)","v":0},{"$f":"SUM(D47)","v":4},{"$f":"+F46+G46","v":4},{"$f":"SUM(F47)","v":0},{"$f":"SUM(G47)","v":4},{"$f":"+I46+J46","v":4},{"$f":"SUM(I47)","v":0},{"$f":"SUM(J47)","v":4}]
["Posgrado en Traducción......................................................",{"$f":"+C47+D47","v":4},0,4,{"$f":"+F47+G47","v":4},0,4,{"$f":"+I47+J47","v":4},0,4]
[]
["INST. UNIV. CEDIIAP..................................................................................................................",{"$f":"+C49+D49","v":10},{"$f":"SUM(C50:C51)","v":0},{"$f":"SUM(D50:D51)","v":10},{"$f":"+F49+G49","v":44},{"$f":"SUM(F50:F51)","v":0},{"$f":"SUM(G50:G51)","v":44},{"$f":"+I49+J49","v":4},{"$f":"SUM(I50:I51)","v":0},{"$f":"SUM(J50:J51)","v":4}]
["Especialización en Dificultades de Aprendizaje con mención en las funciones psicológicas superiores........................................................",{"$f":"+C50+D50","v":10},0,10,{"$f":"+F50+G50","v":44},0,44,{"$f":"+I50+J50","v":4},0,4]
["Fuente: Oficinas Productoras de cada una de las Instituciones. "]
["Nota: Para las definiciones de ingreso, matrícula y egreso, ir a Anexo-Definiciones. "]

{"sheet":"II-6.2.10 ","index":198,"n_rows":110,"n_cols":12,"rows_kept":110,"cut":false,"hidden":false,"merged":[[5,3,5,11],[7,7,7,8],[6,3,8,3],[6,4,6,5],[0,5,1,7],[7,4,7,5],[6,10,6,11],[7,10,7,11],[4,0,4,11],[110,0,110,11],[6,6,8,6],[6,7,6,8],[6,9,8,9],[6,1,8,1],[108,0,108,11]]}
["UNIVERSIDADES E INSTITUTOS UNIVERSITARIOS",null,null,null,null,"PERSONAL ACADÉMICO"]
[]
["Cuadro Nº II-6.2.10"]
[]
["PERSONAL DOCENTE Y NO DOCENTE DE INSTITUCIONES UNIVERSITARIAS PUBLICAS Y PRIVADAS EXPRESADAS EN POSICIONES FUNCIONALES POR CARGA HORARIA SEMANAL SEGÚN INSTITUCIÓN, ACTIVIDAD Y SEXO. AÑO 2010."]
["INSTITUCIÓN / ACTIVIDAD",null,null,"Carga horaria semanal"]
[null,"TOTAL",null,"Total","20 y -",null,"Total","21 a 39",null,"Total","40 y +"]
[null,null,null,null,"Sexo",null,null,"Sexo",null,null,"Sexo"]
[null,null,null,null,"M","F",null,"M","F",null,"M","F"]
["UDELAR*...................................................",{"$f":"+D10+G10+J10","v":15354},null,{"$f":"+D11+D12","v":3699},{"$f":"SUM(E11:E12)","v":0},{"$f":"SUM(F11:F12)","v":0},{"$f":"+G11+G12","v":6627},{"$f":"SUM(H11:H12)","v":0},{"$f":"SUM(I11:I12)","v":0},{"$f":"+J11+J12","v":5028},{"$f":"SUM(K11:K12)","v":0},{"$f":"SUM(L11:L12)","v":0}]
["Personal Docente...........................................",{"$f":"+D11+G11+J11","v":9609},null,3699,"s/d","s/d",4209,"s/d","s/d",1701,"s/d","s/d"]
["Personal NO Docente...........................................",{"$f":"+D12+G12+J12","v":5745},null,{"$f":"+E12+F12","v":0},0,0,2418,"s/d","s/d",3327,"s/d","s/d"]
[]
["TOTAL PRIVADOS..................................................................",{"$f":"SUM(F14:I14)","v":3213},null,5507,{"$f":"+E16+E23+E30+E37+E45+E52+E59+E66+E73+E80+E87+E95+E102","v":3362},{"$f":"+F16+F23+F30+F37+F45+F52+F59+F66+F73+F80+F87+F95+F102","v":2145},{"$f":"+H14+I14","v":534},{"$f":"+H16+H23+H30+H37+H45+H52+H59+H66+H73+H80+H87+H95+H102","v":250},{"$f":"+I16+I23+I30+I37+I45+I52+I59+I66+I73+I80+I87+I95+I102","v":284},{"$f":"+K14+L14","v":585},{"$f":"+K16+K23+K30+K37+K45+K52+K59+K66+K73+K80+K87+K95+K102","v":256},{"$f":"+L16+L23+L30+L37+L45+L52+L59+L66+L73+L80+L87+L95+L102","v":329}]
[]
["U.C.U.D.A.L...........................................",{"$f":"D16+G16+J16","v":1877},null,1522,{"$f":"SUM(E17:E21)","v":816},{"$f":"SUM(F17:F21)","v":706},{"$f":"+H16+I16","v":160},{"$f":"SUM(H17:H22)","v":55},{"$f":"SUM(I17:I22)","v":105},{"$f":"+K16+L16","v":195},{"$f":"SUM(K17:K22)","v":87},{"$f":"SUM(L17:L22)","v":108}]
["Personal Docente...........................................",{"$f":"D17+G17+J17","v":1348},null,1320,736,584,26,8,18,2,1,1]
["Personal de Investigación y Extensión...........................................",51,null,30,4,26,17,6,11,4,1,3]
["Docente-Investigador................................................",112,null,59,27,32,27,11,16,26,17,9]
["Personal de Gestión Universitaria...........................................",145,null,66,34,32,35,17,18,44,29,15]
["Personal no docente..........................................",221,null,47,15,32,55,13,42,119,39,80]
[]
["UNIVERSIDAD ORT URUGUAY .............................................",2266,null,1948,{"$f":"SUM(E24:E28)","v":1346},{"$f":"SUM(F24:F28)","v":602},{"$f":"+H23+I23","v":183},{"$f":"SUM(H24:H29)","v":105},{"$f":"SUM(I24:I29)","v":78},{"$f":"+K23+L23","v":135},{"$f":"SUM(K24:K29)","v":71},{"$f":"SUM(L24:L29)","v":64}]
["Personal Docente...........................................",1586,null,1573,1103,470,13,8,5,0,0,0]
["Personal de Investigación y Extensión...........................................",41,null,32,24,8,9,8,1,0,0,0]
["Docente-Investigador................................................",0,null,0,0,0,0,0,0,0,0,0]
["Personal de Gestión Universitaria...........................................",428,null,260,187,73,114,63,51,54,24,30]
["Personal no docente..........................................",211,null,83,32,51,47,26,21,81,47,34]
[]
["UNIVERSIDAD DE MONTEVIDEO...........................................",753,null,546,{"$f":"SUM(E31:E35)","v":377},{"$f":"SUM(F31:F35)","v":169},{"$f":"+H30+I30","v":62},{"$f":"SUM(H31:H36)","v":31},{"$f":"SUM(I31:I36)","v":31},145,{"$f":"SUM(K31:K36)","v":55},{"$f":"SUM(L31:L36)","v":90}]
["Personal Docente...........................................",0,null,0,0,0,0,0,0,0,0,0]
["Personal de Investigación y Extensión...........................................",0,null,0,0,0,0,0,0,0,0,0]
["Docente-Investigador................................................",619,null,531,365,166,35,21,14,53,33,20]
["Personal de Gestión Universitaria...........................................",0,null,0,0,0,0,0,0,0,0,0]
["Personal no docente..........................................",134,null,15,12,3,27,10,17,92,22,70]
[]
["UNIVERSIDAD DE LA EMPRESA...........................................",601,null,461,{"$f":"SUM(E38:E43)","v":283},{"$f":"SUM(F38:F43)","v":178},{"$f":"+H37+I37","v":50},{"$f":"SUM(H38:H44)","v":30},{"$f":"SUM(I38:I44)","v":20},90,{"$f":"SUM(K38:K43)","v":31},{"$f":"SUM(L38:L43)","v":59}]
["Personal Docente...........................................",426,null,411,247,164,13,12,1,2,2,0]
["Personal de Investigación y Extensión...........................................",0,null,0,0,0,0,0,0,0,0,0]
["Docente-Investigador................................................",26,null,11,8,3,15,12,3,0,0,0]
["Personal de Gestión Universitaria...........................................",29,null,13,8,5,4,2,2,12,6,6]
["No desagregable por función...........................................",8,null,0,0,0,0,0,0,8,0,8]
["Personal no docente..........................................",112,null,26,20,6,18,4,14,68,23,45]
[]
["INST. UNIV. AUTÓNOMO DEL SUR..........................................",132,null,108,{"$f":"SUM(E46:E50)","v":78},{"$f":"SUM(F46:F50)","v":30},{"$f":"+H45+I45","v":6},{"$f":"SUM(H46:H51)","v":3},{"$f":"SUM(I46:I51)","v":3},{"$f":"+K45+L45","v":18},{"$f":"SUM(K46:K51)","v":11},{"$f":"SUM(L46:L51)","v":7}]
["Personal Docente...........................................",104,null,104,74,30,0,0,0,0,0,0]
["Personal de Investigación y Extensión...........................................",0,null,0,0,0,0,0,0,0,0,0]
["Docente-Investigador................................................",1,null,1,1,0,0,0,0,0,0,0]
["Personal de Gestión Universitaria...........................................",4,null,2,2,0,0,0,0,2,1,1]
["Personal no docente..........................................",23,null,1,1,0,6,3,3,16,10,6]
[]
["INST. UNIV. ASOCIACIÓN CRISTIANA DE JÓVENES..........................................",239,null,239,{"$f":"SUM(E53:E57)","v":138},{"$f":"SUM(F53:F57)","v":101},{"$f":"+H52+I52","v":0},{"$f":"SUM(H53:H58)","v":0},{"$f":"SUM(I53:I58)","v":0},0,{"$f":"SUM(K53:K58)","v":0},{"$f":"SUM(L53:L58)","v":0}]
["Personal Docente...........................................",206,null,206,120,86,0,0,0,0,0,0]
["Personal de Investigación y Extensión...........................................",8,null,8,5,3,0,0,0,0,0,0]
["Docente-Investigador................................................",0,null,0,0,0,0,0,0,0,0,0]
["Personal de Gestión Universitaria...........................................",16,null,16,10,6,0,0,0,0,0,0]
["Personal no docente..........................................",9,null,9,3,6,0,0,0,0,0,0]
[]
["INST. UNIV. C.L.A.E.H .........................................",269,null,245,{"$f":"SUM(E60:E64)","v":135},{"$f":"SUM(F60:F64)","v":110},{"$f":"+H59+I59","v":24},{"$f":"SUM(H60:H65)","v":8},{"$f":"SUM(I60:I65)","v":16},{"$f":"+K59+L59","v":0},{"$f":"SUM(K60:K65)","v":0},{"$f":"SUM(L60:L65)","v":0}]
["Personal Docente...........................................",245,null,245,135,110,0,0,0,0,0,0]
["Personal de Investigación y Extensión...........................................",0,null,0,0,0,0,0,0,0,0,0]
["Docente-Investigador................................................",0,null,0,0,0,0,0,0,0,0,0]
["Personal de Gestión Universitaria...........................................",0,null,0,0,0,0,0,0,0,0,0]
["Personal no docente..........................................",24,null,0,0,0,24,8,16,0,0,0]
[]
["INST. METODISTA UNIV. CRANDON...........................................",46,null,32,{"$f":"SUM(E67:E71)","v":13},{"$f":"SUM(F67:F71)","v":19},{"$f":"+H66+I66","v":14},{"$f":"SUM(H67:H72)","v":2},{"$f":"SUM(I67:I72)","v":12},{"$f":"+K66+L66","v":0},{"$f":"SUM(K67:K72)","v":0},{"$f":"SUM(L67:L72)","v":0}]
["Personal Docente...........................................",27,null,18,9,9,9,2,7,0,0,0]
["Personal de Investigación y Extensión...........................................",0,null,0,0,0,0,0,0,0,0,0]
["Docente-Investigador................................................",11,null,11,3,8,0,0,0,0,0,0]
["Personal de Gestión Universitaria...........................................",0,null,0,0,0,0,0,0,0,0,0]
["Personal no docente..........................................",8,null,3,1,2,5,0,5,0,0,0]
[]
["INST. UNIV. DE POSTGRADO EN PSICOANÁLISIS (APU)**..........................................",0,null,0,{"$f":"SUM(E74:E76)","v":0},{"$f":"SUM(F74:F76)","v":0},{"$f":"+H73+I73","v":0},{"$f":"SUM(H74:H76)","v":0},{"$f":"SUM(I74:I76)","v":0},{"$f":"+K73+L73","v":0},{"$f":"SUM(K74:K76)","v":0},{"$f":"SUM(L74:L76)","v":0}]
["Personal Docente...........................................",31,null,31,"s/d","s/d",0,"s/d","s/d",0,"s/d","s/d"]
["Personal de Investigación y Extensión...........................................",0,null,0,"s/d","s/d",0,"s/d","s/d",0,"s/d","s/d"]
["Docente-Investigador................................................",31,null,31,"s/d","s/d",0,"s/d","s/d",0,"s/d","s/d"]
["Personal de Gestión Universitaria...........................................",0,null,{"$f":"+E77+F77","v":0},"s/d","s/d",0,"s/d","s/d",0,"s/d","s/d"]
["Personal no docente..........................................",0,null,{"$f":"+E78+F78","v":0},"s/d","s/d",0,"s/d","s/d",0,"s/d","s/d"]
[]
["INST. UNIV. MONSEÑOR MARIANO SOLER..........................................",32,null,{"$f":"+E80+F80","v":32},{"$f":"SUM(E81:E85)","v":31},{"$f":"SUM(F81:F85)","v":1},{"$f":"+H80+I80","v":0},{"$f":"SUM(H81:H86)","v":0},{"$f":"SUM(I81:I86)","v":0},{"$f":"+K80+L80","v":0},{"$f":"SUM(K81:K86)","v":0},{"$f":"SUM(L81:L86)","v":0}]
["Personal Docente...........................................",32,null,32,31,1,0,0,0,0,0,0]
["Personal de Investigación y Extensión...........................................",{"$f":"D82+G82+J82","v":0},null,0,0,0,0,0,0,0,0,0]
["Docente-Investigador................................................",0,null,0,0,0,0,0,0,0,0,0]
["Personal de Gestión Universitaria...........................................",0,null,0,0,0,0,0,0,0,0,0]
["Personal no docente..........................................",0,null,0,0,0,0,0,0,0,0,0]
[]
["INST. UNIV. FRANCISCO DE ASIS ...........................................",196,null,177,{"$f":"SUM(E88:E93)","v":89},{"$f":"SUM(F88:F93)","v":88},{"$f":"+H87+I87","v":19},{"$f":"SUM(H88:H93)","v":5},{"$f":"SUM(I88:I93)","v":14},{"$f":"+K87+L87","v":0},{"$f":"SUM(K88:K93)","v":0},{"$f":"SUM(L88:L93)","v":0}]
["Personal Docente...........................................",162,null,162,84,78,0,0,0,0,0,0]
["Personal de Investigación y Extensión...........................................",0,null,0,0,0,0,0,0,0,0,0]
["Docente-Investigador................................................",0,null,0,0,0,0,0,0,0,0,0]
["Personal de Gestión Universitaria...........................................",6,null,6,1,5,0,0,0,0,0,0]
["No desagregable por función...........................................",6,null,5,0,5,1,1,0,0,0,0]
["Personal no docente..........................................",22,null,4,4,0,18,4,14]
[]
["INST. UNIV. BIOS...........................................",105,null,94,{"$f":"SUM(E96:E100)","v":44},{"$f":"SUM(F96:F100)","v":50},{"$f":"+H95+I95","v":11},{"$f":"SUM(H96:H100)","v":10},{"$f":"SUM(I96:I100)","v":1},{"$f":"+K95+L95","v":0},{"$f":"SUM(K96:K101)","v":0},{"$f":"SUM(L96:L101)","v":0}]
["Personal Docente...........................................",74,null,66,34,32,8,7,1,0,0,0]
["Personal de Investigación y Extensión...........................................",0,null,0,0,0,0,0,0,0,0,0]
["Docente-Investigador................................................",16,null,13,5,8,3,3,0,0,0,0]
["Personal de Gestión Universitaria...........................................",0,null,0,0,0,0,0,0,0,0,0]
["Personal no docente..........................................",15,null,15,5,10,0,0,0,0,0,0]
[]
["INST. UNIV. CEDIIAP...........................................",110,null,103,{"$f":"SUM(E103:E107)","v":12},{"$f":"SUM(F103:F107)","v":91},{"$f":"+H102+I102","v":5},{"$f":"SUM(H103:H107)","v":1},{"$f":"SUM(I103:I107)","v":4},{"$f":"+K102+L102","v":2},{"$f":"SUM(K103:K108)","v":1},{"$f":"SUM(L103:L108)","v":1}]
["Personal Docente...........................................",91,null,91,11,80,0,0,0,0,0,0]
["Personal de Investigación y Extensión...........................................",0,null,0,0,0,0,0,0,0,0,0]
["Docente-Investigador................................................",12,null,12,1,11,0,0,0,0,0,0]
["Personal de Gestión Universitaria...........................................",0,null,0,0,0,0,0,0,0,0,0]
["Personal no docente..........................................",7,null,0,0,0,5,1,4,2,1,1]
["Fuente: Oficinas Productoras de cada una de las Instituciones. "]
["Nota:* Para la UdelaR Los datos corresponden al Padrón Setiembre 2010 - SECIU. No se dispone de la información discriminada por sexo. El personal no docente es Técnico, Administrativo y de Servicios (T/A/S). "]
["** No se dispone del dato 2010, se incorpora el último dato disponible."]

{"sheet":"II-6.2.11 ","index":199,"n_rows":63,"n_cols":7,"rows_kept":63,"cut":false,"hidden":false,"merged":[[62,0,62,6],[0,2,1,3],[61,0,61,6],[4,0,4,4],[5,1,6,1],[5,2,5,5]]}
["UNIVERSIDADES PRIVADAS E INSTITUTOS UNIVERSITARIOS",null,"ALUMNOS MATRICULADOS"]
[]
["Cuadro Nº II-6.2.11"]
[]
["ALUMNOS INGRESADOS Y MATRICULADOS DE GRADO EN UNIVERSIDADES E INSTITUTOS UNIVERSITARIOS, SEGÚN INSTITUCIÓN Y LUGAR DE ORIGEN. AÑO 2010."]
["INSTITUCIÓN / FORMACIÓN","TOTAL","ORIGEN DE LOS ESTUDIANTES"]
[null,null,"Total Uruguay","Montevideo","Interior","Extranjero","Sin dato"]
[]
["UDELAR"]
["Ingresados...........................................","s/d","s/d","s/d","s/d","s/d","s/d"]
["Matriculados...........................................","s/d","s/d","s/d","s/d","s/d","s/d"]
[]
["U.C.U.D.A.L"]
["Ingresados...........................................",{"$f":"SUM(D14:G14)","v":1368},{"$f":"SUM(D14:E14)","v":1205},834,371,36,127]
["Matriculados...........................................",{"$f":"SUM(D15:G15)","v":5939},{"$f":"SUM(D15:E15)","v":5566},4053,1513,202,171]
[]
["UNIVERSIDAD ORT URUGUAY "]
["Ingresados...........................................",{"$f":"SUM(D18:G18)","v":1162},{"$f":"SUM(D18:E18)","v":1132},846,286,30,0]
["Matriculados...........................................",{"$f":"SUM(D19:G19)","v":6617},{"$f":"SUM(D19:E19)","v":6467},4766,1701,150,0]
[]
["UNIVERSIDAD DE MONTEVIDEO"]
["Ingresados...........................................",{"$f":"SUM(D22:G22)","v":363},{"$f":"SUM(D22:E22)","v":359},234,125,4,0]
["Matriculados...........................................",{"$f":"SUM(D23:G23)","v":1650},{"$f":"SUM(D23:E23)","v":1630},1186,444,20,0]
[]
["UNIVERSIDAD DE LA EMPRESA"]
["Ingresados...........................................",{"$f":"SUM(D26:G26)","v":491},{"$f":"SUM(D26:E26)","v":491},339,152,0,0]
["Matriculados...........................................",{"$f":"SUM(D27:G27)","v":1547},{"$f":"SUM(D27:E27)","v":1545},1184,361,2,0]
[]
["INST. UNIV. AUTÓNOMO DEL SUR"]
["Ingresados...........................................",{"$f":"SUM(D30:G30)","v":77},{"$f":"SUM(D30:E30)","v":77},46,31,0,0]
["Matriculados...........................................",{"$f":"SUM(D31:G31)","v":442},{"$f":"SUM(D31:E31)","v":438},317,121,4,0]
[]
["INST. UNIV. ASOCIACIÓN CRISTIANA DE JÓVENES*"]
["Ingresados...........................................",{"$f":"SUM(D34:F34)","v":108},107,72,35,1,0]
["Matriculados...........................................",{"$f":"SUM(D35:G35)","v":190},190,137,53,0,0]
[]
["INST. UNIV. C.L.A.E.H "]
["Ingresados...........................................",{"$f":"SUM(C38:G38)","v":52},48,"s/d","s/d",4,0]
["Matriculados...........................................",{"$f":"SUM(C39:G39)","v":215},194,"s/d","s/d",21,0]
[]
["INST. METODISTA UNIV. CRANDON"]
["Ingresados...........................................",{"$f":"SUM(D42:G42)","v":0},{"$f":"SUM(D42:E42)","v":0},0,0,0,0]
["Matriculados...........................................",{"$f":"SUM(D43:G43)","v":12},{"$f":"SUM(D43:E43)","v":12},11,1,0,0]
[]
["INST. UNIV. MONSEÑOR MARIANO SOLER"]
["Ingresados...........................................",{"$f":"SUM(D46:G46)","v":18},{"$f":"SUM(D46:E46,G46)","v":8},4,4,10,0]
["Matriculados...........................................",{"$f":"SUM(D47:G47)","v":42},37,15,7,20,0]
[]
["INST. UNIV. FRANCISCO DE ASIS"]
["Ingresados...........................................",{"$f":"SUM(D50:G50)","v":118},{"$f":"SUM(D50:E50)","v":116},3,113,2,0]
["Matriculados...........................................",{"$f":"SUM(D51:G51)","v":380},{"$f":"SUM(D51:E51)","v":378},16,362,2,0]
[]
["INST. UNIV. BIOS"]
["Ingresados...........................................",{"$f":"SUM(D54:G54)","v":16},{"$f":"SUM(D54:E54)","v":16},6,10,0,0]
["Matriculados...........................................",{"$f":"SUM(D55:G55)","v":59},{"$f":"SUM(D55:E55)","v":58},40,18,1,0]
[]
["INST. UNIV. CEDIIAP"]
["Ingresados...........................................",{"$f":"SUM(D58:G58)","v":64},{"$f":"SUM(D58:E58)","v":64},47,17,0,0]
["Matriculados...........................................",{"$f":"SUM(D59:G59)","v":186},{"$f":"SUM(D59:E59)","v":185},137,48,1,0]
[]
["Fuente: Oficinas Productoras de cada una de las Instituciones. "]
["Nota: Se excluye a las carreas cortas o tecnicaturas. La categoría \"Sin dato\" refiere a los  alumnos de los cuales no se cuenta con información de origen. "]
["*Para el INST. UNIV. ASOCIACIÓN CRISTIANA DE JÓVENES, los datos de matrícula 2010 en el siguiente cuadro no incluye a los ingresos 2010. Constan solamente los alumnos de 2º, 3º y 4º."]

{"sheet":"EDUCACIÓN DE JÓVENES Y ADULTOS","index":200,"n_rows":35,"n_cols":1,"rows_kept":35,"cut":false,"hidden":false,"merged":[[28,0,28,4],[24,0,24,4],[34,0,34,4],[32,0,32,4],[30,0,30,4],[26,0,26,4],[20,0,20,4],[22,0,22,4],[10,0,10,4],[12,0,12,4],[14,0,14,4],[16,0,16,4],[18,0,18,4]]}
[]
[]
[]
[]
[]
[]
[]
[]
[]
["Cuadro II-7.1.1"]
[{"$f":"' II-7.1.1'!A6:E6","v":"ALUMNOS MATRICULADOS EN EDUCACIÓN PRIMARIA POR SEXO SEGÚN GRANDES ÁREAS Y DEPARTAMENTO. AÑO 2010."}]
["Cuadro II-7.1.2"]
[{"$f":"' II-7.1.2'!A6:E6","v":"ALUMNOS MATRICULADOS EN TALLERES POR SEXO SEGÚN GRANDES ÁREAS Y DEPARTAMENTO. AÑO 2010."}]
["Cuadro II-7.1.3"]
[{"$f":"'II-7.1.3'!A5:L5","v":"ALUMNOS MATRICULADOS EN CURSOS DE EDUCACIÓN TÉCNICA PARA JÓVENES Y ADULTOS POR GRANDES ÁREAS Y SEXO SEGÚN TIPO DE CURSO. AÑO 2010."}]
["Cuadro II-7.1.4"]
[{"$f":"'II-7.1.4'!A5:N5","v":"ALUMNOS MATRICULADOS EN CURSOS DE EDUCACIÓN TÉCNICA PARA JÓVENES Y ADULTOS POR EDAD SEGÚN TIPO DE CURSO. AÑO 2010."}]
["Cuadro II-7.1.5"]
[{"$f":"'II-7.1.5 '!A5:D5","v":"ALUMNOS MATRICULADOS EN EDUCACIÓN TÉCNICA POR TIPO DE CURSO SEGÚN DEPARTAMENTO. AÑO 2010."}]
["Cuadro II-7.1.6"]
[{"$f":"'II-7.1.6 '!A5:D5","v":"ALUMNOS MATRICULADOS EN EDUCACIÓN TÉCNICA POR TIPO DE CURSO SEGÚN ÁREAS Y SECTORES DE ESTUDIO. AÑO 2010."}]
["Cuadro II-7.1.7"]
[{"$f":"'II-7.1.7'!A7:G7","v":"ALUMNOS INGRESADOS, MATRICULADOS Y EGRESADOS EN CECAP POR SEXO, SEGÚN DEPARTAMENTO Y EDAD. AÑO 2010."}]
["Cuadro II-7.1.8"]
[{"$f":"'II-7.1.8'!A7:G7","v":"ALUMNOS CON EGRESO ANTICIPADO Y DESVINCULADOS DE CECAP POR SEXO, SEGÚN DEPARTAMENTO Y EDAD. AÑO 2010."}]
["Cuadro II-7.1.9"]
[{"$f":"'II-7.1.9 '!A5:J5","v":"ALUMNOS INGRESADOS, MATRICULADOS Y EGRESADOS EN OFERTAS EDUCATIVAS NO TERCIARIAS DE UNIVERSIDADES PRIVADAS POR SEXO. AÑO 2010."}]
["Cuadro II-7.2.1"]
[{"$f":"'II-7.2.1'!A6:F6","v":"PERSONAL DOCENTE,TITULADO Y NO TITULADO, POR SEXO, REGIÒN Y DEPARTAMENTO SEGÙN CARGA HORARIA SEMANAL. AÑO 2010."}]
["Cuadro II-7.2.2"]
[{"$f":"'II-7.2.2'!A6:C6","v":"PERSONAL DOCENTE Y NÚMERO DE ESTABLECIMIENTOS EN PNJA"}]
["Cuadro II -7.2.3"]
[{"$f":"'II-7.2.3'!A5:D5","v":"PERSONAL DOCENTE EN EDUCACIÓN  TECNOLÓGICA POR TIPO DE CURSO. AÑO 2010."}]
["Cuadro II-7.3.1"]
[{"$f":"'II-7.3.1 '!A7:L7","v":"CANTIDAD DE CURSOS, DE HORAS Y DE ALUMNOS MATRICULADOS SEGÚN TIPO DE CURSO Y ÁREA DE FORMACIÓN. AÑO 2010."}]

{"sheet":" II-7.1.1","index":201,"n_rows":34,"n_cols":8,"rows_kept":34,"cut":false,"hidden":false,"merged":[[6,6,6,7],[6,5,7,5],[0,3,0,5],[6,2,7,2],[1,0,1,2],[6,3,6,4],[2,3,3,4],[6,0,7,0],[5,0,5,7]]}
["ANEP",null,null,"ALUMNOS MATRICULADOS"]
["CODICEN – PROGRAMA NACIONAL DE JÓVENES Y ADULTOS"]
[]
["Cuadro Nº  II-7.1.1"]
[]
["ALUMNOS MATRICULADOS EN EDUCACIÓN PRIMARIA POR SEXO SEGÚN GRANDES ÁREAS Y DEPARTAMENTO. AÑO 2010."]
["GRANDES ÁREAS Y DEPARTAMENTOS",null,"TOTAL","PRIMER  TRAMO: NIVEL I",null,"TOTAL","SEGUNDO TRAMO: NIVEL II"]
[null,null,null,"M","F",null,"M","F"]
[]
["TOTAL........................................",null,{"$f":"+C12+C13","v":1484},{"$f":"D12+D13","v":729},{"$f":"E12+E13","v":755},{"$f":"+F12+F13","v":1319},{"$f":"G12+G13","v":571},{"$f":"H12+H13","v":748}]
[]
["MONTEVIDEO..................................",null,{"$f":"D12+E12","v":632},319,313,{"$f":"G12+H12","v":512},258,254]
["RESTO DEL PAÍS.......................................",null,{"$f":"D13+E13","v":852},{"$f":"SUM(D15:D32)","v":410},{"$f":"SUM(E15:E32)","v":442},{"$f":"G13+H13","v":807},{"$f":"SUM(G15:G32)","v":313},{"$f":"SUM(H15:H32)","v":494}]
[]
["Artigas............................................",null,{"$f":"D15+E15","v":32},5,27,{"$f":"G15+H15","v":37},9,28]
["Canelones.....................................",null,188,94,94,{"$f":"G16+H16","v":186},73,113]
["Cerro Largo......................................",null,3,3,0,17,8,9]
["Colonia.................................................",null,50,16,34,17,3,14]
["Durazno................................................",null,14,11,3,11,6,5]
["Flores................................................",null,0,0,0,0,0,0]
["Florida........................................",null,40,26,14,17,7,10]
["Lavalleja........................................",null,27,22,5,58,17,41]
["Maldonado........................................",null,2,1,1,31,10,21]
["Paysandú......................................................",null,59,27,32,142,38,104]
["Río Negro............................................",null,40,10,30,41,11,30]
["Rivera...............................................",null,97,43,54,84,38,46]
["Rocha........................................",null,72,26,46,5,2,3]
["Salto........................................",null,84,41,43,21,6,15]
["San José........................................",null,29,24,5,54,24,30]
["Soriano........................................",null,80,49,31,66,46,20]
["Tacuarembó........................................",null,29,10,19,10,8,2]
["Treinta y Tres........................................",null,6,2,4,10,7,3]
["PRUEBA DE ACREDITACIÓN........................................",null,null,null,null,1024]
["Fuente: ANEP - CODICEN - Programa de Educación de Jóvenes y Adultos."]

{"sheet":" II-7.1.2","index":202,"n_rows":33,"n_cols":5,"rows_kept":33,"cut":false,"hidden":false,"merged":[[0,2,0,4],[1,0,1,2],[2,3,3,4],[5,0,5,4],[6,0,7,0],[6,2,7,2],[6,3,6,4]]}
["ANEP",null,"ALUMNOS MATRICULADOS"]
["CODICEN – PROGRAMA NACIONAL DE JÓVENES Y ADULTOS"]
[]
["Cuadro Nº  II-7.1.2"]
[]
["ALUMNOS MATRICULADOS EN TALLERES POR SEXO SEGÚN GRANDES ÁREAS Y DEPARTAMENTO. AÑO 2010."]
["GRANDES ÁREAS Y DEPARTAMENTOS",null,"TOTAL","TALLERES"]
[null,null,null,"M","F"]
[]
["TOTAL........................................",null,{"$f":"+C12+C13","v":4815},{"$f":"D12+D13","v":1762},{"$f":"E12+E13","v":3053}]
[]
["MONTEVIDEO..................................",null,{"$f":"D12+E12","v":4151},1398,2753]
["RESTO DEL PAÍS.......................................",null,{"$f":"D13+E13","v":664},{"$f":"SUM(D15:D32)","v":364},{"$f":"SUM(E15:E32)","v":300}]
[]
["Artigas............................................",null,{"$f":"D15+E15","v":0},0,0]
["Canelones.....................................",null,159,80,79]
["Cerro Largo......................................",null,15,5,10]
["Colonia.................................................",null,23,8,15]
["Durazno................................................",null,0,0,0]
["Flores................................................",null,15,9,6]
["Florida........................................",null,8,8,0]
["Lavalleja........................................",null,0,0,0]
["Maldonado........................................",null,0,0,0]
["Paysandú......................................................",null,21,16,5]
["Río Negro............................................",null,23,23,0]
["Rivera...............................................",null,150,75,75]
["Rocha........................................",null,9,0,9]
["Salto........................................",null,123,65,58]
["San José........................................",null,0,0,0]
["Soriano........................................",null,63,56,7]
["Tacuarembó........................................",null,55,19,36]
["Treinta y Tres........................................",null,0,0,0]
["Fuente: ANEP - CODICEN - Programa de Educación de Jóvenes y Adultos."]

{"sheet":"II-7.1.3","index":203,"n_rows":33,"n_cols":12,"rows_kept":33,"cut":false,"hidden":false,"merged":[[0,9,1,11],[4,0,4,11],[5,6,5,11],[5,1,6,4],[6,6,6,8],[6,9,6,11],[5,0,8,0],[7,3,7,4],[7,7,7,8],[7,10,7,11]]}
["CONSEJO DE EDUCACIÓN TÉCNICO PROFESIONAL (U.T.U.)",null,null,null,null,null,null,null,null,"ALUMNOS MATRICULADOS"]
[]
["Cuadro Nº II-7.1.3"]
[]
["ALUMNOS MATRICULADOS EN CURSOS DE EDUCACIÓN TÉCNICA PARA JÓVENES Y ADULTOS POR GRANDES ÁREAS Y SEXO SEGÚN TIPO DE CURSO. AÑO 2010."]
[" TIPO  DE  CURSO","TOTAL",null,null,null,null,"GRANDES ÁREAS"]
[null,null,null,null,null,null,"  MONTEVIDEO",null,null,"RESTO DE PAÍS"]
[null,null,null,"SEXO",null,null,null,"SEXO",null,null,"SEXO"]
[null,"Total",null,"Masculino","Femenino",null,"Total","Masculino","Femenino","Total","Masculino","Femenino"]
[]
["TOTAL...............................................",{"$f":"B13+B26","v":11912},null,{"$f":"D13+D26","v":6066},{"$f":"E13+E26","v":5846},null,{"$f":"G13+G26","v":5556},{"$f":"H13+H26","v":2774},2782,{"$f":"J13+J26","v":6356},{"$f":"K13+K26","v":3292},{"$f":"L13+L26","v":3064}]
[]
["NIVEL BÁSICO.........................................",{"$f":"SUM(B14:B24)","v":9800},null,{"$f":"SUM(D14:D24)","v":5088},{"$f":"SUM(E14:E24)","v":4712},null,{"$f":"SUM(G14:G24)","v":4439},2479,1960,5361,2609,2752]
["   Acreditación de Saberes......................",{"$f":"SUM(D14:E14)","v":28},null,{"$f":"+H14+K14","v":28},{"$f":"+I14+L14","v":0},null,{"$f":"+H14+I14","v":0},0,0,{"$f":"SUM(K14:L14)","v":28},28,0]
["   Capacitación...........................................",{"$f":"SUM(D15:E15)","v":338},null,178,160,null,{"$f":"+H15+I15","v":8},5,3,{"$f":"SUM(K15:L15)","v":330},173,157]
["   Capacitación Profesional Básica ......................",1963,null,869,1094,null,244,100,144,{"$f":"SUM(K16:L16)","v":1719},769,950]
["   Curso Básico.....................................",2530,null,1674,856,null,1374,844,530,1156,830,326]
["   Curso Básico Especialización................................",1472,null,709,763,null,743,370,373,729,339,390]
["   Form. y Des. Artesanal y Cultural............",110,null,56,54,null,71,37,34,39,19,20]
["   Formación Profesional en Artes y Artesanías...",394,null,188,206,null,394,188,206,0,0,0]
["   Formación Profesional Acelerada..................",6,null,1,5,null,6,1,5,0,0,0]
["   Formación Profesional Básica...............................",2712,null,1175,1537,null,1394,765,629,1318,410,908]
["   Formación Profesional Básica 98...................",30,null,30,0,null,5,5,0,25,25,0]
["   Formación Profesional Especializada........................",{"$f":"SUM(D24:E24)","v":217},null,180,37,null,200,164,36,17,16,1]
[]
["NIVEL SUPERIOR..............................................",{"$f":"D26+E26","v":2112},null,{"$f":"SUM(D27:D31)","v":978},{"$f":"SUM(E27:E31)","v":1134},null,{"$f":"SUM(G27:G31)","v":1117},{"$f":"SUM(H27:H31)","v":295},822,{"$f":"SUM(J27:J31)","v":995},{"$f":"SUM(K27:K31)","v":683},{"$f":"SUM(L27:L31)","v":312}]
["   Capacitación Profesional Superior..............................",{"$f":"SUM(D27:E27)","v":35},null,{"$f":"H27+K27","v":32},3,null,{"$f":"SUM(H27:I27)","v":0},0,0,{"$f":"+K27+L27","v":35},32,3]
["   Capacitación Superior...............................",{"$f":"SUM(D28:E28)","v":1202},null,710,492,null,{"$f":"SUM(H28:I28)","v":297},97,200,{"$f":"+K28+L28","v":905},613,292]
["   Capacitación Técnica..............................",{"$f":"SUM(D29:E29)","v":60},null,40,20,null,60,40,20,0,0,0]
["   Curso Técnico........................................",{"$f":"SUM(D30:E30)","v":336},null,9,327,null,336,9,327,0,0,0]
["   Formación Profesional Superior..........................",{"$f":"SUM(D31:E31)","v":479},null,187,292,null,424,149,275,55,38,17]
[]
["Fuente: D.E. - CETP (U.T.U.)"]

{"sheet":"II-7.1.4","index":204,"n_rows":31,"n_cols":14,"rows_kept":31,"cut":false,"hidden":false,"merged":[[5,1,6,1],[0,11,1,13],[4,0,4,13],[5,2,5,13]]}
["CONSEJO DE EDUCACIÓN TÉCNICO PROFESIONAL (U.T.U.)",null,null,null,null,null,null,null,null,null,null,"ALUMNOS MATRICULADOS"]
[]
["Cuadro Nº II-7.1.4"]
[]
["ALUMNOS MATRICULADOS EN CURSOS DE EDUCACIÓN TÉCNICA PARA JÓVENES Y ADULTOS POR EDAD SEGÚN TIPO DE CURSO. AÑO 2010."]
[null,"TOTAL","EDAD"]
["TIPO  DE  CURSO",null,"11 y 12 años","13\naños","14\naños","15\naños","16\naños","17\naños","18\naños","19\naños","20 a 24 años","25 a 29 años","30 años y más","edad desc"]
[]
["TOTAL..................................................",{"$f":"B11+B24","v":11912},{"$f":"C11+C24","v":0},{"$f":"D11+D24","v":2},86,1460,1723,1489,935,630,1856,865,{"$f":"M11+M24","v":2866},0]
[]
["NIVEL BÁSICO.........................................",{"$f":"SUM(B12:B22)","v":9800},{"$f":"SUM(C12:C22)","v":0},{"$f":"SUM(D12:D22)","v":2},83,1366,1558,1300,686,416,1247,685,2457,0]
["   Acreditación de Saberes...........",{"$f":"+C12+D12+E12++F12+G12+H12+I12+J12+K12+L12+M12+N12","v":28},0,0,0,0,0,0,0,0,0,2,26,0]
["   Capacitación...........................................",{"$f":"+C13+D13+E13++F13+G13+H13+I13+J13+K13+L13+M13+N13","v":338},0,0,4,46,44,31,19,9,24,13,148,0]
["   Capacitación Profesional Básica ......................",1963,0,1,23,277,304,220,109,67,220,140,602,0]
["   Curso Básico.....................................",2530,0,1,30,650,563,401,147,80,224,113,321,0]
["   Curso Básico Especialización................................",1472,0,0,5,25,229,272,190,86,204,104,357,0]
["   Form. y Des. Artesanal y Cultural............",110,0,0,6,7,11,21,8,11,27,16,3,0]
["   Formación Profesional en Artes y Artesanías...",394,0,0,0,10,12,14,15,21,86,50,186,0]
["   Formación Profesional Acelerada..................",6,0,0,0,0,0,0,0,0,1,2,3,0]
["   Formación Profesional Básica............",2712,0,0,15,348,367,313,172,129,407,196,765,0]
["   Formación Profesional Básica 98...........",30,0,0,0,1,9,5,5,2,4,2,2,0]
["   Formación Profesional Especializada........................",217,0,0,0,2,19,23,21,11,50,47,44,0]
[]
["NIVEL SUPERIOR.........................................",{"$f":"SUM(B25:B29)","v":2112},{"$f":"SUM(C25:C29)","v":0},{"$f":"SUM(D25:D29)","v":0},3,94,165,189,249,214,609,180,409,0]
["Capacitación Profesional Superior..............................",{"$f":"+C25+D25+E25++F25+G25+H25+I25+J25+K25+L25+M25+N25","v":35},0,0,0,1,1,1,5,3,11,5,8,0]
["Capacitación Superior...............................",{"$f":"+C26+D26+E26++F26+G26+H26+I26+J26+K26+L26+M26+N26","v":1202},0,0,3,77,117,108,141,100,255,98,303,0]
["Capacitación Técnica..............................",{"$f":"+C27+D27+E27++F27+G27+H27+I27+J27+K27+L27+M27+N27","v":60},0,0,0,0,0,1,8,7,25,5,14,0]
["Curso Técnico........................................",{"$f":"+C28+D28+E28++F28+G28+H28+I28+J28+K28+L28+M28+N28","v":336},0,0,0,9,21,32,46,37,144,22,25,0]
["Formación Profesional Superior..........................",{"$f":"+C29+D29+E29++F29+G29+H29+I29+J29+K29+L29+M29+N29","v":479},0,0,0,7,26,47,49,67,174,50,59,0]
[]
["Fuente: D.E. - CETP (U.T.U.)"]

{"sheet":"II-7.1.5 ","index":205,"n_rows":36,"n_cols":4,"rows_kept":36,"cut":false,"hidden":false,"merged":[[0,0,1,1],[0,2,0,3],[34,0,34,1],[34,3,36,3],[6,0,7,0],[6,2,6,3],[6,1,7,1],[4,0,4,3]]}
["CONSEJO DE EDUCACIÓN TÉCNICO PROFESIONAL (U.T.U.)",null,"ALUMNOS MATRICULADOS"]
[]
["Cuadro Nº II-7.1.5"]
[]
["ALUMNOS MATRICULADOS EN EDUCACIÓN TÉCNICA POR TIPO DE CURSO SEGÚN DEPARTAMENTO. AÑO 2010."]
[]
["DEPARTAMENTO","Total","TIPO DE CURSO"]
[null,null,"NIVEL\nBÁSICO","NIVEL\nSUPERIOR"]
[]
["TOTAL................",{"$f":"+B12+B13","v":11912},{"$f":"+C12+C13","v":9800},{"$f":"+D12+D13","v":2112}]
[]
["MONTEVIDEO...........",{"$f":"+C12+D12","v":5556},4439,1117]
["RESTO DE PAÍS........",{"$f":"+C13+D13","v":6356},{"$f":"SUM(C15:C32)","v":5361},{"$f":"SUM(D15:D32)","v":995}]
[]
["Artigas..............",{"$f":"+C15+D15","v":1793},1648,145]
["Canelones............",305,259,46]
["Cerro Largo..........",409,320,89]
["Colonia..............",366,341,25]
["Durazno..............",144,100,44]
["Flores...............",90,36,54]
["Florida..............",32,32,0]
["Lavalleja............",150,123,27]
["Maldonado............",363,263,100]
["Paysandú.............",202,189,13]
["Río Negro............",138,85,53]
["Rivera...............",224,169,55]
["Rocha................",654,613,41]
["Salto................",270,220,50]
["San José.............",573,479,94]
["Soriano..............",215,125,90]
["Tacuarembó...........",307,262,45]
["Treinta y Tres.......",121,97,24]
[]
["Fuente: D.E. - CETP (U.T.U.)"]
[]
[null,null,"       "]

{"sheet":"II-7.1.6 ","index":206,"n_rows":48,"n_cols":4,"rows_kept":48,"cut":false,"hidden":false,"merged":[[4,0,4,3],[0,0,1,1],[0,2,0,3],[6,0,7,0],[6,1,7,1],[6,2,6,3]]}
["CONSEJO DE EDUCACIÓN TÉCNICO PROFESIONAL (U.T.U.)",null,"ALUMNOS MATRICULADOS"]
[]
["Cuadro Nº II-7.1.6"]
[]
["ALUMNOS MATRICULADOS EN EDUCACIÓN TÉCNICA POR TIPO DE CURSO SEGÚN ÁREAS Y SECTORES DE ESTUDIO. AÑO 2010."]
[]
["ÁREAS Y SECTOR DE ESTUDIO","Total","TIPO DE CURSO"]
[null,null,"NIVEL\nBÁSICO","NIVEL\nSUPERIOR"]
[]
["TOTAL................",{"$f":"B12+B15+B26+B29+B32+B36+B42","v":11912},{"$f":"C12+C15+C26+C29+C32+C36+C42","v":9800},{"$f":"D12+D15+D26+D29+D32+D36+D42","v":2112}]
[]
["AGRICULTURA Y PESCA..................................",{"$f":"SUM(B13:B14)","v":123},{"$f":"SUM(C13:C14)","v":123},{"$f":"SUM(D13:D14)","v":0}]
["Agropecuario............................................",{"$f":"+C13+D13","v":12},12,0]
["Hortifruticultura y jardinería............................................",{"$f":"+C14+D14","v":111},111,0]
["INDUSTRIA.........................................",{"$f":"SUM(B16:B24)","v":4975},{"$f":"SUM(C16:C24)","v":4616},{"$f":"SUM(D16:D24)","v":359}]
["Metal - mecánica............................................",{"$f":"+C16+D16","v":956},868,88]
["Electricidad y electrónica............................................",372,372]
["Producción de alimentos............................................",1503,1503,0]
["Textil y confección de vestimenta............................................",1193,1022,171]
["Cuero y calzado............................................",164,164]
["Madera y muebles............................................",452,452]
["Gráficos............................................",197,97,100]
["Cerámica............................................",112,112]
["Mant, reparac y serv a la producción............................................",26,26,0]
[]
["MANTENIMIENTO Y REPARACIÓN DE VEHÍCULOS............................................",{"$f":"B27","v":815},{"$f":"C27","v":815},{"$f":"D27","v":0}]
["Mantenimiento y reparación de vehículos....................",{"$f":"+C27+D27","v":815},815,0]
[]
["CONSTRUCCIÓN.............................................",{"$f":"B30","v":683},{"$f":"C30","v":683},{"$f":"D30","v":0}]
["Construcción y Arquitectura....................",{"$f":"+C30+D30","v":683},683]
[]
["COMERCIO,ADMINIST.,INFORM. Y COMUNICACIÓN............................................",{"$f":"SUM(B33:B34)","v":1558},{"$f":"SUM(C33:C34)","v":321},{"$f":"SUM(D33:D34)","v":1237}]
["Comercio y administración............................................",{"$f":"+C33+D33","v":94},0,94]
["Informática............................................",{"$f":"+C34+D34","v":1464},321,1143]
[]
["SERVICIOS..........................................",{"$f":"SUM(B37:B40)","v":2485},{"$f":"SUM(C37:C40)","v":1969},{"$f":"SUM(D37:D40)","v":516}]
["Hotelería............................................",{"$f":"+C37+D37","v":265},0,265]
["Gastronomía............................................",{"$f":"+C38+D38","v":1434},1434,0]
["Turismo............................................",{"$f":"+C39+D39","v":86},0,86]
["Servicios personales............................................",{"$f":"+C40+D40","v":700},535,165]
[]
["ARTES Y ARTESANÍAS................................",{"$f":"SUM(B43:B44)","v":1273},{"$f":"SUM(C43:C44)","v":1273},{"$f":"SUM(D43:D44)","v":0}]
["Artes............................................",{"$f":"+C43+D43","v":340},340,0]
["Artesanías......................................",{"$f":"+C44+D44","v":933},933,0]
[]
["Fuente: D.E. - U.T.U"]
["Nota: El presente cuadro no incluye las Áreas y Sectores de Estudios contenidos en Educación "]
["      Media Básica y Superior, en tanto solo aplican para dichos niveles. "]

{"sheet":"II-7.1.7","index":207,"n_rows":60,"n_cols":10,"rows_kept":60,"cut":false,"hidden":false,"merged":[[58,0,58,9],[0,5,1,6],[7,0,9,0],[7,1,9,1],[7,2,7,3],[8,2,8,3],[7,7,9,7],[7,8,7,9],[8,8,8,9],[56,0,56,6],[7,4,9,4],[7,5,7,6],[8,5,8,6],[6,0,6,9]]}
["MEC - DIRECCIÓN DE EDUCACIÓN",null,null,null,null,"ALUMNOS MATRICULADOS"]
["ÁREA DE EDUCACIÓN NO FORMAL"]
["CECAP"]
[]
["Cuadro Nº II-7.1.7"]
[]
["ALUMNOS INGRESADOS, MATRICULADOS Y EGRESADOS EN CECAP POR SEXO, SEGÚN DEPARTAMENTO Y EDAD. AÑO 2010."]
["DEPARTAMENTO Y EDAD","TOTAL ","INGRESADOS",null,"TOTAL ","MATRICULADOS",null,"TOTAL ","EGRESADOS"]
[null,null,"SEXO",null,null,"SEXO",null,null,"SEXO"]
[null,null,"M","F",null,"M","F",null,"M","F"]
["TOTAL.............................................................",{"$f":"SUM(C11:D11)","v":958},{"$f":"+C13+C17","v":513},{"$f":"+D13+D17","v":445},{"$f":"F11+G11","v":1127},{"$f":"+F13+F17","v":592},{"$f":"+G13+G17","v":535},{"$f":"I11+J11","v":430},{"$f":"+I13+I17","v":223},{"$f":"+J13+J17","v":207}]
[]
["MONTEVIDEO...........................................................",{"$f":"SUM(C13:D13)","v":325},{"$f":"SUM(C14:C15)","v":152},{"$f":"SUM(D14:D15)","v":173},{"$f":"F13+G13","v":348},{"$f":"SUM(F14:F15)","v":162},{"$f":"SUM(G14:G15)","v":186},{"$f":"I13+J13","v":189},{"$f":"SUM(I14:I15)","v":84},{"$f":"SUM(J14:J15)","v":105}]
["    14 a 17 años...............................................",{"$f":"SUM(C14:D14)","v":325},152,173,{"$f":"F14+G14","v":339},157,182,{"$f":"I14+J14","v":186},81,105]
["    18 años y más...............................................",{"$f":"SUM(C15:D15)","v":0},0,0,{"$f":"F15+G15","v":9},5,4,{"$f":"I15+J15","v":3},3,0]
[]
["RESTO DEL PAÍS....................................................",{"$f":"C17+D17","v":633},{"$f":"+C21+C29+C33+C37+C41+C45+C50+C54","v":361},{"$f":"+D21+D29+D33+D37+D41+D45+D50+D54","v":272},{"$f":"F17+G17","v":779},{"$f":"+F21+F29+F33+F37+F41+F45+F50+F54","v":430},{"$f":"+G21+G29+G33+G37+G41+G45+G50+G54","v":349},{"$f":"I17+J17","v":241},{"$f":"+I21+I29+I33+I37+I41+I45+I50+I54","v":139},{"$f":"+J21+J29+J33+J37+J41+J45+J50+J54","v":102}]
["    14 a 17 años...............................................",{"$f":"C18+D18","v":455},{"$f":"+C23+C26+C30+C34+C42+C46+C51+C55","v":271},{"$f":"+D23+D26+D30+D34+D42+D46+D51+D55","v":184},{"$f":"F18+G18","v":561},{"$f":"+F23+F26+F30+F34+F42+F46+F51+F55","v":322},{"$f":"+G23+G26+G30+G34+G42+G46+G51+G55","v":239},{"$f":"I18+J18","v":160},{"$f":"+I23+I26+I30+I34+I42+I46+I51+I55","v":94},{"$f":"+J23+J26+J30+J34+J42+J46+J51+J55","v":66}]
["    18 años y más...............................................",{"$f":"C19+D19","v":101},{"$f":"+C24+C27+C31+C35+C43+C47+C52+C56","v":48},{"$f":"+D24+D27+D31+D35+D43+D47+D52+D56","v":53},{"$f":"F19+G19","v":144},{"$f":"+F24+F27+F31+F35+F43+F47+F52+F56","v":71},{"$f":"+G24+G27+G31+G35+G43+G47+G52+G56","v":73},{"$f":"I19+J19","v":76},{"$f":"+I24+I27+I31+I35+I43+I47+I52+I56","v":42},{"$f":"+J24+J27+J31+J35+J43+J47+J52+J56","v":34}]
[]
["Canelones..................",{"$f":"B22+B25","v":68},38,30,121,70,51,{"$f":"H22+H25","v":26},18,8]
["  Barros Blancos...............................................",{"$f":"C22+D22","v":51},{"$f":"C23+C24","v":27},{"$f":"D23+D24","v":24},{"$f":"F22+G22","v":78},{"$f":"F23+F24","v":46},{"$f":"G23+G24","v":32},{"$f":"I22+J22","v":26},{"$f":"I23+I24","v":18},{"$f":"J23+J24","v":8}]
["    14 a 17 años...............................................",46,26,20,63,41,22,24,17,7]
["    18 años y más...............................................",5,1,4,15,5,10,2,1,1]
["  La Paz....................",17,{"$f":"C26+C27","v":11},{"$f":"D26+D27","v":6},43,{"$f":"F26+F27","v":24},{"$f":"G26+G27","v":19},0,{"$f":"I26+I27","v":0},{"$f":"J26+J27","v":0}]
["    14 a 17 años...............................................",16,10,6,39,21,18,0,0,0]
["    18 años y más...............................................",1,1,0,4,3,1,0,0,0]
[]
["Colonia...............................................",{"$f":"C29+D29","v":52},{"$f":"C30+C31","v":30},{"$f":"D30+D31","v":22},{"$f":"F29+G29","v":45},{"$f":"F30+F31","v":28},{"$f":"G30+G31","v":17},{"$f":"I29+J29","v":9},{"$f":"I30+I31","v":9},{"$f":"J30+J31","v":0}]
["    14 a 17 años...............................................",{"$f":"C30+D30","v":50},30,20,{"$f":"F30+G30","v":41},26,15,{"$f":"I30+J30","v":5},5,0]
["    18 años y más...............................................",{"$f":"C31+D31","v":2},0,2,{"$f":"F31+G31","v":4},2,2,{"$f":"I31+J31","v":4},4,0]
[]
["Maldonado (San Carlos)..............................................",{"$f":"C33+D33","v":65},{"$f":"C34+C35","v":36},{"$f":"D34+D35","v":29},{"$f":"F33+G33","v":93},{"$f":"F34+F35","v":49},{"$f":"G34+G35","v":44},{"$f":"I33+J33","v":27},{"$f":"I34+I35","v":15},{"$f":"J34+J35","v":12}]
["    14 a 17 años...............................................",{"$f":"C34+D34","v":51},29,22,{"$f":"F34+G34","v":67},37,30,{"$f":"I34+J34","v":23},12,11]
["    18 años y más...............................................",{"$f":"C35+D35","v":14},7,7,{"$f":"F35+G35","v":26},12,14,{"$f":"I35+J35","v":4},3,1]
[]
["Paysandú..............................................",{"$f":"C37+D37","v":77},{"$f":"C38+C39","v":42},{"$f":"D38+D39","v":35},{"$f":"F37+G37","v":68},{"$f":"F38+F39","v":37},{"$f":"G38+G39","v":31},{"$f":"I37+J37","v":5},{"$f":"I38+I39","v":3},{"$f":"J38+J39","v":2}]
["    14 a 17 años...............................................",{"$f":"C38+D38","v":73},39,34,{"$f":"F38+G38","v":64},34,30,{"$f":"I38+J38","v":2},0,2]
["    18 años y más...............................................",{"$f":"C39+D39","v":4},3,1,{"$f":"F39+G39","v":4},3,1,{"$f":"I39+J39","v":3},3,0]
[]
["Río Negro (Young)............................................",{"$f":"C41+D41","v":71},{"$f":"C42+C43","v":42},{"$f":"D42+D43","v":29},{"$f":"F41+G41","v":43},{"$f":"F42+F43","v":23},{"$f":"G42+G43","v":20},{"$f":"I41+J41","v":21},{"$f":"I42+I43","v":8},{"$f":"J42+J43","v":13}]
["    14 a 17 años...............................................",{"$f":"C42+D42","v":58},36,22,{"$f":"F42+G42","v":37},20,17,{"$f":"I42+J42","v":17},6,11]
["    18 años y más...............................................",{"$f":"C43+D43","v":13},6,7,{"$f":"F43+G43","v":6},3,3,{"$f":"I43+J43","v":4},2,2]
[]
["Rivera...........................................",{"$f":"C45+D45","v":142},{"$f":"C46+C47+C48","v":84},{"$f":"D46+D47+D48","v":58},{"$f":"F45+G45","v":233},{"$f":"F46+F47+F48","v":124},{"$f":"G46+G47+G48","v":109},{"$f":"I45+J45","v":64},{"$f":"I46+I47+I48","v":34},{"$f":"J46+J47+J48","v":30}]
["    14 a 17 años...............................................",{"$f":"C46+D46","v":127},76,51,{"$f":"F46+G46","v":192},108,84,{"$f":"I46+J46","v":30},18,12]
["    18 años y más...............................................",{"$f":"C47+D47","v":15},8,7,{"$f":"F47+G47","v":35},16,19,{"$f":"I47+J47","v":34},16,18]
["    Edad desconocida...............................................",{"$f":"C48+D48","v":0},0,0,{"$f":"F48+G48","v":6},0,6,{"$f":"I48+J48","v":0},0,0]
[]
["Salto............................................",{"$f":"C50+D50","v":54},{"$f":"C51+C52","v":28},{"$f":"D51+D52","v":26},{"$f":"F50+G50","v":83},{"$f":"F51+F52","v":46},{"$f":"G51+G52","v":37},{"$f":"I50+J50","v":21},{"$f":"I51+I52","v":14},{"$f":"J51+J52","v":7}]
["    14 a 17 años...............................................",{"$f":"C51+D51","v":39},20,19,{"$f":"F51+G51","v":62},32,30,{"$f":"I51+J51","v":17},10,7]
["    18 años y más...............................................",{"$f":"C52+D52","v":15},8,7,{"$f":"F52+G52","v":21},14,7,{"$f":"I52+J52","v":4},4,0]
[]
["Treinta y Tres............................................",{"$f":"C54+D54","v":104},{"$f":"C55+C56","v":61},{"$f":"D55+D56","v":43},{"$f":"F54+G54","v":93},{"$f":"F55+F56","v":53},{"$f":"G55+G56","v":40},{"$f":"I54+J54","v":68},{"$f":"I55+I56","v":38},{"$f":"J55+J56","v":30}]
["    14 a 17 años...............................................",{"$f":"C55+D55","v":68},44,24,{"$f":"F55+G55","v":60},37,23,{"$f":"I55+J55","v":44},26,18]
["    18 años y más...............................................",{"$f":"C56+D56","v":36},17,19,{"$f":"F56+G56","v":33},16,17,{"$f":"I56+J56","v":24},12,12]
["Fuente: Procesamiento propio en base a datos proporcionados por el  Área de Educación No Formal, Dirección de Educación, MEC."]
["Nota: Ingresos: Todos los individuos que comenzaron a cursar la propuesta educativa en el primer o segundo semestre del año 2010."]
["      Matriculados: Todos los individuos que durante el año 2010 cursaron la propuesta educativa. "]
["      Egreso: Todos los individuos que culminaron durante el 2010 los cuatro semestres que prevee la propuesta educativa. "]

{"sheet":"II-7.1.8","index":208,"n_rows":58,"n_cols":7,"rows_kept":58,"cut":false,"hidden":false,"merged":[[57,0,57,6],[56,0,56,10],[55,0,55,6],[0,5,1,6],[6,0,6,6],[7,0,9,0],[7,1,9,1],[7,2,7,3],[7,4,9,4],[7,5,7,6],[8,2,8,3],[8,5,8,6]]}
["MEC - DIRECCIÓN DE EDUCACIÓN",null,null,null,null,"ALUMNOS MATRICULADOS"]
["ÁREA DE EDUCACIÓN NO FORMAL"]
["CECAP"]
[]
["Cuadro Nº II-7.1.8"]
[]
["ALUMNOS CON EGRESO ANTICIPADO Y DESVINCULADOS DE CECAP POR SEXO, SEGÚN DEPARTAMENTO Y EDAD. AÑO 2010."]
["DEPARTAMENTO Y EDAD","TOTAL ","EGRESO ANTICIPADO",null,"TOTAL ","DESVINCULADOS"]
[null,null,"SEXO",null,null,"SEXO"]
[null,null,"M","F",null,"M","F"]
["TOTAL.............................................................",{"$f":"SUM(C11:D11)","v":121},{"$f":"+C13+C17","v":73},{"$f":"+D13+D17","v":48},{"$f":"F11+G11","v":228},{"$f":"+F13+F17","v":131},{"$f":"+G13+G17","v":97}]
[]
["MONTEVIDEO...........................................................",{"$f":"SUM(C13:D13)","v":0},{"$f":"SUM(C14:C15)","v":0},{"$f":"SUM(D14:D15)","v":0},{"$f":"F13+G13","v":36},{"$f":"SUM(F14:F15)","v":17},{"$f":"SUM(G14:G15)","v":19}]
["    14 a 17 años...............................................",{"$f":"SUM(C14:D14)","v":0},"S/D","S/D",{"$f":"F14+G14","v":36},17,19]
["    18 años y más...............................................",{"$f":"SUM(C15:D15)","v":0},"S/D","S/D",{"$f":"F15+G15","v":0},0,0]
[]
["RESTO DEL PAÍS....................................................",{"$f":"C17+D17","v":121},{"$f":"+C21+C29+C33+C37+C41+C45+C49+C53","v":73},{"$f":"+D21+D29+D33+D37+D41+D45+D49+D53","v":48},{"$f":"F17+G17","v":192},{"$f":"+F21+F29+F33+F37+F41+F45+F49+F53","v":114},{"$f":"+G21+G29+G33+G37+G41+G45+G49+G53","v":78}]
["    14 a 17 años...............................................",{"$f":"C18+D18","v":82},{"$f":"+C23+C26+C30+C34+C42+C46+C50+C54","v":52},{"$f":"+D23+D26+D30+D34+D42+D46+D50+D54","v":30},{"$f":"F18+G18","v":114},{"$f":"+F23+F26+F30+F34+F42+F46+F50+F54","v":66},{"$f":"+G23+G26+G30+G34+G42+G46+G50+G54","v":48}]
["    18 años y más...............................................",{"$f":"C19+D19","v":33},{"$f":"+C24+C27+C31+C35+C43+C47+C51+C55","v":17},{"$f":"+D24+D27+D31+D35+D43+D47+D51+D55","v":16},{"$f":"F19+G19","v":66},{"$f":"+F24+F27+F31+F35+F43+F47+F51+F55","v":41},{"$f":"+G24+G27+G31+G35+G43+G47+G51+G55","v":25}]
[]
["Canelones..................",{"$f":"B22+B25","v":12},5,7,56,34,22]
["  Barros Blancos...............................................",{"$f":"C22+D22","v":4},{"$f":"C23+C24","v":1},{"$f":"D23+D24","v":3},{"$f":"F22+G22","v":25},{"$f":"F23+F24","v":12},{"$f":"G23+G24","v":13}]
["    14 a 17 años...............................................",2,1,1,16,8,8]
["    18 años y más...............................................",2,0,2,9,4,5]
["  La Paz....................",8,{"$f":"C26+C27","v":4},{"$f":"D26+D27","v":4},31,{"$f":"F26+F27","v":22},{"$f":"G26+G27","v":9}]
["    14 a 17 años...............................................",7,3,4,18,14,4]
["    18 años y más...............................................",1,1,0,13,8,5]
[]
["Colonia...............................................",{"$f":"C29+D29","v":11},{"$f":"C30+C31","v":7},{"$f":"D30+D31","v":4},{"$f":"F29+G29","v":18},{"$f":"F30+F31","v":8},{"$f":"G30+G31","v":10}]
["    14 a 17 años...............................................",{"$f":"C30+D30","v":8},7,1,{"$f":"F30+G30","v":17},7,10]
["    18 años y más...............................................",{"$f":"C31+D31","v":3},0,3,{"$f":"F31+G31","v":1},1,0]
[]
["Maldonado (San Carlos)..............................................",{"$f":"C33+D33","v":18},{"$f":"C34+C35","v":12},{"$f":"D34+D35","v":6},{"$f":"F33+G33","v":49},{"$f":"F34+F35","v":30},{"$f":"G34+G35","v":19}]
["    14 a 17 años...............................................",{"$f":"C34+D34","v":12},8,4,{"$f":"F34+G34","v":28},17,11]
["    18 años y más...............................................",{"$f":"C35+D35","v":6},4,2,{"$f":"F35+G35","v":21},13,8]
[]
["Paysandú..............................................",{"$f":"C37+D37","v":6},{"$f":"C38+C39","v":4},{"$f":"D38+D39","v":2},{"$f":"F37+G37","v":12},{"$f":"F38+F39","v":7},{"$f":"G38+G39","v":5}]
["    14 a 17 años...............................................",{"$f":"C38+D38","v":4},2,2,{"$f":"F38+G38","v":9},5,4]
["    18 años y más...............................................",{"$f":"C39+D39","v":2},2,0,{"$f":"F39+G39","v":3},2,1]
[]
["Río Negro (Young)............................................",{"$f":"C41+D41","v":9},{"$f":"C42+C43","v":4},{"$f":"D42+D43","v":5},{"$f":"F41+G41","v":8},{"$f":"F42+F43","v":7},{"$f":"G42+G43","v":1}]
["    14 a 17 años...............................................",{"$f":"C42+D42","v":8},4,4,{"$f":"F42+G42","v":6},6,0]
["    18 años y más...............................................",{"$f":"C43+D43","v":1},0,1,{"$f":"F43+G43","v":2},1,1]
[]
["Rivera...........................................",{"$f":"C45+D45","v":10},{"$f":"C46+C47","v":8},{"$f":"D46+D47","v":2},{"$f":"F45+G45","v":22},{"$f":"F46+F47","v":9},{"$f":"G46+G47","v":13}]
["    14 a 17 años...............................................",{"$f":"C46+D46","v":6},5,1,{"$f":"F46+G46","v":14},5,9]
["    18 años y más...............................................",{"$f":"C47+D47","v":4},3,1,{"$f":"F47+G47","v":8},4,4]
[]
["Salto............................................",{"$f":"C49+D49","v":45},{"$f":"C50+C51","v":28},{"$f":"D50+D51","v":17},{"$f":"F49+G49","v":12},{"$f":"F50+F51","v":9},{"$f":"G50+G51","v":3}]
["    14 a 17 años...............................................",{"$f":"C50+D50","v":35},22,13,{"$f":"F50+G50","v":3},0,3]
["    18 años y más...............................................",{"$f":"C51+D51","v":10},6,4,{"$f":"F51+G51","v":9},9,0]
[]
["Treinta y Tres............................................",{"$f":"C53+D53","v":10},{"$f":"C54+C55","v":5},{"$f":"D54+D55","v":5},{"$f":"F53+G53","v":15},{"$f":"F54+F55","v":10},{"$f":"G54+G55","v":5}]
["    14 a 17 años...............................................",{"$f":"C54+D54","v":4},2,2,{"$f":"F54+G54","v":12},9,3]
["    18 años y más...............................................",{"$f":"C55+D55","v":6},3,3,{"$f":"F55+G55","v":3},1,2]
["Fuente: Procesamiento propio en base a datos proporcionados por el  Área de Educación No Formal, Dirección de Educación, MEC."]
["Nota:                                                                                                                                            Egreso Anticipado: Todos los individuos que durante el 2010 egresaron de CECAP para incorporarse a otra propuesta educativa o al mundo del     trabajo, habiendo cursado un período menor a cuatro semestres."]
["Desvinculados: Todos los individuos que durante el 2010 dejaron de asistir a la propuesta."]

{"sheet":"II-7.1.9 ","index":209,"n_rows":60,"n_cols":10,"rows_kept":60,"cut":false,"hidden":false,"merged":[[0,6,1,8],[4,0,4,9],[5,0,7,0],[5,1,7,1],[5,2,5,3],[5,4,7,4],[5,5,5,6],[5,7,7,7],[5,8,5,9],[6,2,6,3],[6,5,6,6],[6,8,6,9]]}
["UNIVERSIDADES PRIVADAS: OFERTAS EDUCATIVAS NO TERCIARIAS",null,null,null,null,null,"ALUMNOS MATRICULADOS"]
[]
["Cuadro Nº II-7.1.9"]
[]
["ALUMNOS INGRESADOS, MATRICULADOS Y EGRESADOS EN OFERTAS EDUCATIVAS NO TERCIARIAS DE UNIVERSIDADES PRIVADAS POR SEXO. AÑO 2010."]
["UNIVERSIDAD / ACREDITACIÓN","TOTAL","INGRESADOS",null,"TOTAL","MATRICULADOS",null,"TOTAL","EGRESADOS"]
[null,null,"SEXO",null,null,"SEXO",null,null,"SEXO"]
[null,null,"M","F",null,"M","F",null,"M","F"]
["TOTAL..............................................................................",{"$f":"SUM(C9:D9)","v":1032},{"$f":"+C11+C50","v":664},{"$f":"+D11+D50","v":368},{"$f":"SUM(F9:G9)","v":4578},{"$f":"+F11+F50","v":3180},{"$f":"+G11+G50","v":1398},{"$f":"SUM(I9:J9)","v":558},{"$f":"+I11+I50","v":348},{"$f":"+J11+J50","v":210}]
[]
["UNIVERSIDAD ORT URUGUAY .............................................",{"$f":"SUM(C11:D11)","v":784},{"$f":"SUM(C12:C48)","v":545},{"$f":"SUM(D12:D48)","v":239},{"$f":"SUM(F11:G11)","v":4248},{"$f":"SUM(F12:F48)","v":3020},{"$f":"SUM(G12:G48)","v":1228},{"$f":"SUM(I11:J11)","v":443},{"$f":"SUM(I12:I48)","v":294},{"$f":"SUM(J12:J48)","v":149}]
["Administrador de Sistemas Operativos Microsoft.......................................................................",{"$f":"+C12+D12","v":10},10,0,{"$f":"+F12+G12","v":39},34,5,{"$f":"+I12+J12","v":6},6,0]
["Analista en Comercio Exterior.......................................................................",24,16,8,96,55,41,27,17,10]
["Analista en Comunicación Corporativa y Relaciones Públicas.......................................................................",25,8,17,122,34,88,11,0,11]
["Analista en Marketing.......................................................................",48,21,27,238,125,113,54,34,20]
["Analista en Publicidad.......................................................................",16,7,9,75,41,34,9,3,6]
["Analista en Tecnologías de la Información.......................................................................",114,97,17,778,686,92,19,17,2]
["Analista Programador.......................................................................",62,55,7,516,446,70,50,43,7]
["Analista Programador de Aplicaciones Web.......................................................................",27,22,5,84,62,22,0,0,0]
["Certificado en Gerencia.......................................................................",43,27,16,114,64,50,1,0,1]
["Certificado en Programación Visual - TICs.......................................................................",3,3,0,3,3,0,0,0,0]
["Certificado en Programación Visual Basic .Net.......................................................................",5,4,1,5,4,1,0,0,0]
["Diseñador  de  Interiores.......................................................................",19,3,16,160,31,129,16,1,15]
["Diseñador de Páginas Web.......................................................................",11,9,2,38,26,12,36,22,14]
["Diseñador Gráfico.......................................................................",51,22,29,302,172,130,15,4,11]
["Instalación y mantenimiento de redes.......................................................................",23,20,3,84,76,8,49,44,5]
["Instalación y mantenimiento de redes -TICs.......................................................................",2,2,0,2,2,0,0,0,0]
["Programa de Desarrollo Profesional en Análisis Funcional......................................................................",9,7,2,9,7,2,9,9,0]
["Programación Visual Basic .Net......................................................................",0,0,0,9,9,0,6,6,0]
["Programador de Páginas Web......................................................................",0,0,0,88,71,17,9,7,2]
["Programador Orientado a Objetos - Camino TICs......................................................................",7,5,2,7,5,2,0,0,0]
["Programador Web - Camino TICs......................................................................",2,2,0,2,2,0,0,0,0]
["Secretariado Ejecutivo......................................................................",14,1,13,66,1,65,15,0,15]
["Técnico en Animación Digital......................................................................",0,0,0,58,45,13,6,6,0]
["Técnico en Diseño de Sonido......................................................................",28,24,4,150,135,15,10,9,1]
["Técnico en Edición de Audio Digital......................................................................",0,0,0,19,17,2,1,1,0]
["Técnico en Electro Electrónica......................................................................",21,21,0,73,72,1,14,13,1]
["Técnico en Electro Electrónica - Camino TICs......................................................................",2,2,0,2,2,0,0,0,0]
["Técnico en Electrónica Informática......................................................................",8,7,1,86,80,6,20,20,0]
["Técnico en Electrónica Informática - Camino TICs......................................................................",1,1,0,1,1,0,0,0,0]
["Técnico en Gerencia......................................................................",{"$f":"+C41+D41","v":20},17,3,{"$f":"+F41+G41","v":225},127,98,{"$f":"+I41+J41","v":8},5,3]
["Técnico en Gerencia Comercial......................................................................",23,16,7,74,52,22,2,0,2]
["Técnico en Gerencia Turística......................................................................",19,12,7,87,47,40,4,1,3]
["Técnico en Periodismo Deportivo......................................................................",2,2,0,54,46,8,6,6,0]
["Técnico en Realización Audiovisual......................................................................",28,13,15,91,55,36,9,5,4]
["Técnico en Relaciones Públicas y Organización de Eventos......................................................................",30,11,19,113,26,87,16,0,16]
["Técnico en Sistemas Operativos y Redes......................................................................",77,72,5,368,353,15,15,15,0]
["Técnico Biotecnólogo.................................................",{"$f":"SUM(C48:D48)","v":10},6,4,{"$f":"SUM(F48:G48)","v":10},6,4,{"$f":"SUM(I48:J48)","v":0},0,0]
[]
["UNIVERSIDAD DE LA EMPRESA.................................................................................................................",{"$f":"SUM(C50:D50)","v":248},{"$f":"SUM(C51:C59)","v":119},{"$f":"SUM(D51:D59)","v":129},{"$f":"SUM(F50:G50)","v":330},{"$f":"SUM(F51:F59)","v":160},{"$f":"SUM(G51:G59)","v":170},{"$f":"SUM(I50:J50)","v":115},{"$f":"SUM(I51:I59)","v":54},{"$f":"SUM(J51:J59)","v":61}]
["Analista en Comercio Exterior.......................................................................",{"$f":"+C51+D51","v":23},12,11,{"$f":"+F51+G51","v":23},12,11,{"$f":"+I51+J51","v":10},5,5]
["Analista en Diseño Gráfico.......................................................................",25,19,6,25,19,6,1,1,0]
["Analista en Marketing.......................................................................",98,41,57,132,60,72,51,25,26]
["Analista en Publicidad.......................................................................",11,5,6,11,5,6,5,1,4]
["Analista en Recursos Humanos.......................................................................",22,8,14,39,13,26,15,5,10]
["Programa Gestión Agropecuaria.......................................................................",28,14,14,28,14,14,16,10,6]
["Analista en Relaciones Públicas.......................................................................",10,2,8,10,2,8,7,2,5]
["Técnico en Gerencia.......................................................................",31,18,13,57,35,22,8,5,3]
["Técnico en Vestimenta.......................................................................",0,0,0,5,0,5,2,0,2]
["Fuente: Oficinas Productoras de cada una de las Instituciones. "]

{"sheet":"II-7.2.1","index":210,"n_rows":67,"n_cols":6,"rows_kept":67,"cut":false,"hidden":false,"merged":[[66,0,66,6],[0,2,1,3],[0,5,1,5],[5,0,5,5],[7,2,7,3],[7,4,7,5],[6,0,8,0],[6,1,8,1],[6,2,6,5],[8,2,8,5]]}
["MEC - DIRECCIÓN DE EDUCACIÓN",null,null,null,null,"PERSONAL "]
["ÁREA DE EDUCACIÓN NO FORMAL"]
["CECAP"]
[]
["Cuadro Nº II-7.2.1"]
["PERSONAL DOCENTE,TITULADO Y NO TITULADO, POR SEXO, REGIÒN Y DEPARTAMENTO SEGÙN CARGA HORARIA SEMANAL. AÑO 2010."]
["Dedicación","TOTAL ","DOCENTES"]
[null,null,"TITULADOS",null,"NO TITULADOS"]
[null,null,"SEXO"]
[null,null,"M","F","M","F"]
["TOTAL.............................................................",{"$f":"SUM(C11:F11)","v":134},{"$f":"+C13+C18","v":17},{"$f":"+D13+D18","v":45},{"$f":"+E13+E18","v":38},{"$f":"+F13+F18","v":34}]
[]
["MONTEVIDEO...........................................................",{"$f":"SUM(C13:F13)","v":13},{"$f":"SUM(C14:C16)","v":0},{"$f":"SUM(D14:D16)","v":6},1,6]
["Hasta 19 hs semanales...............................................",{"$f":"SUM(C14:F14)","v":6},0,2,1,3]
["De 20 hs a 39 hs semanales...............................................",{"$f":"SUM(C15:F15)","v":6},0,3,0,3]
["De 40 hs y más semanales...............................................",{"$f":"SUM(C16:F16)","v":1},0,1,0,0]
[]
["RESTO DEL PAÍS....................................................",{"$f":"SUM(C18:F18)","v":121},{"$f":"SUM(C19:C21)","v":17},39,37,28]
["Hasta 19 hs semanales...............................................",{"$f":"SUM(C19:F19)","v":59},{"$f":"+C25+C29+C34+C39+C44+C49+C54+C59+C64","v":7},10,28,14]
["De 20 hs a 39 hs semanales...............................................",{"$f":"SUM(C20:F20)","v":62},10,29,9,14]
["De 40 hs y más semanales...............................................",{"$f":"SUM(C21:F21)","v":0},0,0,0,0]
[]
["Canelones........................",{"$f":"SUM(C23:F23)","v":17},{"$f":"+C24+C28","v":1},{"$f":"+D24+D28","v":5},{"$f":"+E24+E28","v":7},{"$f":"+F24+F28","v":4}]
["  Barros Blancos...............................................",6,{"$f":"SUM(C25:C27)","v":1},{"$f":"SUM(D25:D27)","v":1},4,0]
["Hasta 19 hs semanales...............................................",3,0,0,3,0]
["De 20 hs a 39 hs semanales...............................................",3,1,1,1,0]
["De 40 hs y más semanales...............................................",0,0,0,0,0]
["  La Paz..........................",11,{"$f":"SUM(C29:C31)","v":0},{"$f":"SUM(D29:D31)","v":4},3,4]
["Hasta 19 hs semanales...............................................",4,0,0,2,2]
["De 20 hs a 39 hs semanales...............................................",7,0,4,1,2]
["De 40 hs y más semanales...............................................",{"$f":"SUM(C31:F31)","v":0},0,0,0,0]
[]
["Colonia...............................................",{"$f":"SUM(C33:F33)","v":12},{"$f":"SUM(C34:C36)","v":2},{"$f":"SUM(D34:D36)","v":4},5,1]
["Hasta 19 hs semanales...............................................",{"$f":"SUM(C34:F34)","v":9},2,2,4,1]
["De 20 hs a 39 hs semanales...............................................",{"$f":"SUM(C35:F35)","v":3},0,2,1,0]
["De 40 hs y más semanales...............................................",{"$f":"SUM(C36:F36)","v":0},0,0,0,0]
[]
["Maldonado (San Carlos)..............................................",{"$f":"SUM(C38:F38)","v":10},{"$f":"SUM(C39:C41)","v":2},{"$f":"SUM(D39:D41)","v":3},2,3]
["Hasta 19 hs semanales...............................................",{"$f":"SUM(C39:F39)","v":4},1,1,2,0]
["De 20 hs a 39 hs semanales...............................................",{"$f":"SUM(C40:F40)","v":6},1,2,0,3]
["De 40 hs y más semanales...............................................",{"$f":"SUM(C41:F41)","v":0},0,0,0,0]
[]
["Paysandú..............................................",{"$f":"SUM(C43:F43)","v":11},{"$f":"SUM(C44:C46)","v":1},{"$f":"SUM(D44:D46)","v":4},{"$f":"SUM(E44:E46)","v":4},{"$f":"SUM(F44:F46)","v":2}]
["Hasta 19 hs semanales...............................................",{"$f":"SUM(C44:F44)","v":7},1,1,4,1]
["De 20 hs a 39 hs semanales...............................................",{"$f":"SUM(C45:F45)","v":4},0,3,0,1]
["De 40 hs y más semanales...............................................",{"$f":"SUM(C46:F46)","v":0},0,0,0,0]
[]
["Río Negro (Young)............................................",{"$f":"SUM(C48:F48)","v":12},{"$f":"SUM(C49:C51)","v":1},{"$f":"SUM(D49:D51)","v":3},{"$f":"SUM(E49:E51)","v":1},{"$f":"SUM(F49:F51)","v":7}]
["Hasta 19 hs semanales...............................................",{"$f":"SUM(C49:F49)","v":8},0,2,1,5]
["De 20 hs a 39 hs semanales...............................................",{"$f":"SUM(C50:F50)","v":4},1,1,0,2]
["De 40 hs y más semanales...............................................",{"$f":"SUM(C51:F51)","v":0},0,0,0,0]
[]
["Rivera...........................................",{"$f":"SUM(C53:F53)","v":28},{"$f":"SUM(C54:C56)","v":6},{"$f":"SUM(D54:D56)","v":13},{"$f":"SUM(E54:E56)","v":6},{"$f":"SUM(F54:F56)","v":3}]
["Hasta 19 hs semanales...............................................",{"$f":"SUM(C54:F54)","v":3},0,2,1,0]
["De 20 hs a 39 hs semanales...............................................",{"$f":"SUM(C55:F55)","v":25},6,11,5,3]
["De 40 hs y más semanales...............................................",{"$f":"SUM(C56:F56)","v":0},0,0,0,0]
[]
["Salto............................................",{"$f":"SUM(C58:F58)","v":17},{"$f":"SUM(C59:C61)","v":3},{"$f":"SUM(D59:D61)","v":3},{"$f":"SUM(E59:E61)","v":6},{"$f":"SUM(F59:F61)","v":5}]
["Hasta 19 hs semanales...............................................",{"$f":"SUM(C59:F59)","v":12},3,1,5,3]
["De 20 hs a 39 hs semanales...............................................",{"$f":"SUM(C60:F60)","v":5},0,2,1,2]
["De 40 hs y más semanales...............................................",{"$f":"SUM(C61:F61)","v":0},0,0,0,0]
[]
["Treinta y Tres............................................",{"$f":"SUM(C63:F63)","v":14},{"$f":"SUM(C64:C66)","v":1},{"$f":"SUM(D64:D66)","v":4},{"$f":"SUM(E64:E66)","v":6},{"$f":"SUM(F64:F66)","v":3}]
["Hasta 19 hs semanales...............................................",{"$f":"SUM(C64:F64)","v":9},0,1,6,2]
["De 20 hs a 39 hs semanales...............................................",{"$f":"SUM(C65:F65)","v":5},1,3,0,1]
["De 40 hs y más semanales...............................................",{"$f":"SUM(C66:F66)","v":0},0,0,0,0]
["Fuente: Procesamiento propio en base a datos proporcionados por el  Área de Educación No Formal, Dirección de Educación, MEC."]

{"sheet":"II-7.2.2","index":211,"n_rows":16,"n_cols":3,"rows_kept":16,"cut":false,"hidden":false,"merged":[[0,1,1,2],[2,0,2,2],[4,0,4,2],[5,0,5,2]]}
["ANEP","PERSONAL "]
[]
["CODICEN – PROGRAMA NACIONAL DE JÓVENES Y ADULTOS"]
[]
["Cuadro II-7.2.2"]
["PERSONAL DOCENTE Y NÚMERO DE ESTABLECIMIENTOS EN PNJA"]
[null,"ESTABLECIMIENTOS","DOCENTES"]
["TOTAL ",{"$f":"SUM(B9:B15)","v":230},{"$f":"SUM(C9:C15)","v":497}]
["EJA...................................................................",72,224]
["Atención a la Discapacidad...................................................................",29,87]
["M. del Interior (Ed. en Cárceles)...................................................................",24,51]
["Organismos del Estado...................................................................",13,24]
["ONGs...................................................................",15,27]
["Convenio MIDES - CODICEN...................................................................",73,75]
["Programa Puente (Infamilia-CODICEN)...................................................................",4,9]
["Fuente: ANEP - CODICEN - Programa de Educación de Jóvenes y Adultos."]

{"sheet":"II-7.2.3","index":212,"n_rows":28,"n_cols":3,"rows_kept":28,"cut":false,"hidden":false,"merged":[[0,2,1,3],[4,0,4,3],[5,0,6,0],[5,1,6,1]]}
["CONSEJO DE EDUCACIÓN TÉCNICO PROFESIONAL (U.T.U.)",null,"PERSONAL DOCENTE"]
[]
["Cuadro Nº II-7.2.3"]
[]
["PERSONAL DOCENTE EN EDUCACIÓN  TECNOLÓGICA POR TIPO DE CURSO. AÑO 2010."]
["EDUCACIÓN MEDIA SUPERIOR","TOTAL"]
[]
[]
["TOTAL...................................................................",{"$f":"B11+B23","v":1136}]
[]
["NIVEL BÁSICO...................................................................",{"$f":"SUM(B12:B22)","v":940}]
["Formación Profesional Básica...................................................................",186]
["Formación Profesional Acelerada...................................................................",1]
["Formación Profesional Especializada...................................................................",25]
["Form.Profesional en Artes Y Artesanías...................................................................",49]
["Curso Básico...................................................................",269]
["Curso Básico de Especialización...................................................................",201]
["Capacitación...................................................................",39]
["Capacitación Profesional Básica...................................................................",169]
["Form.y Des. Artesanal y Cultural...................................................................",0]
["Capacitación Profesional...................................................................",0]
["Acreditación Saberes...................................................................",1]
["NIVEL SUPERIOR...................................................................",{"$f":"SUM(B24:B28)","v":196}]
["Formación Profesional Superior...................................................................",104]
["Capacitación Técnica...................................................................",3]
["Capacitación Superior...................................................................",87]
["Capacitación Profesional Superior...................................................................",2]
["Fuente: D.E. - CETP (U.T.U.)"]

{"sheet":"II-7.3.1 ","index":213,"n_rows":25,"n_cols":12,"rows_kept":25,"cut":false,"hidden":false,"merged":[[9,4,9,5],[7,1,8,2],[9,1,10,1],[7,4,8,5],[0,6,1,11],[9,7,9,8],[9,10,9,11],[6,0,6,11],[9,9,10,9],[9,6,10,6],[7,0,10,0],[7,3,10,3],[7,6,8,11],[9,2,10,2]]}
["MEC - DIRECCIÓN DE EDUCACIÓN",null,null,null,null,null,"CURSOS, ALUMNOS MATRICULADOS Y RECURSOS HUMANOS"]
["ÁREA DE EDUCACIÓN NO FORMAL"]
["COCAP"]
[]
["Cuadro Nº II-7.3.1"]
[]
["CANTIDAD DE CURSOS, DE HORAS Y DE ALUMNOS MATRICULADOS SEGÚN TIPO DE CURSO Y ÁREA DE FORMACIÓN. AÑO 2010."]
["TIPO DE CURSO Y ÁREA DE FORMACIÓN","CURSOS",null,"TOTAL","ALUMNOS MATRICULADOS",null,"RECURSOS HUMANOS"]
[]
[null,"CANTIDAD","HORAS",null,"SEXO",null,"TOTAL","DOCENTES",null,"TOTAL","FUNCIONARIOS"]
[null,null,null,null,"M","F",null,"M","F",null,"M","F"]
["TOTAL.............................................................",{"$f":"B14+B20","v":100},{"$f":"SUM(C14,C20)","v":0},{"$f":"E12+F12","v":879},{"$f":"SUM(E14,E20)","v":870},{"$f":"SUM(F14,F20)","v":9},{"$f":"H12+I12","v":31},{"$f":"SUM(H14,H20)","v":31},{"$f":"SUM(I14,I20)","v":0},{"$f":"K12+L12","v":11},{"$f":"SUM(K14,K20)","v":5},{"$f":"SUM(L14,L20)","v":6}]
[]
["   Cursos Abiertos...............................................",92,0,{"$f":"E14+F14","v":789},780,9,{"$f":"H14+I14","v":23},23,0,{"$f":"K14+L14","v":11},5,6]
["    Industrial...............................................",92,0,{"$f":"E15+F15","v":0},0,0,{"$f":"H15+I15","v":0},0,0,{"$f":"K15+L15","v":0},0,0]
["    Hotelería / Gastronomía...............................................",0,0,{"$f":"E16+F16","v":0},0,0,{"$f":"H16+I16","v":0},0,0,{"$f":"K16+L16","v":0},0,0]
["    Administración y Servicios..............................................",0,0,{"$f":"E17+F17","v":0},0,0,{"$f":"H17+I17","v":0},0,0,{"$f":"K17+L17","v":0},0,0]
["    Agropecuario...............................................",0,0,{"$f":"E18+F18","v":0},0,0,{"$f":"H18+I18","v":0},0,0,{"$f":"K18+L18","v":0},0,0]
[]
["   Cursos Cerrados...............................................",8,0,{"$f":"E20+F20","v":90},90,0,{"$f":"H20+I20","v":8},8,0,{"$f":"K20+L20","v":0},0,0]
["    Industrial...............................................",0,0,{"$f":"E21+F21","v":0},0,0,{"$f":"H21+I21","v":0},0,0,{"$f":"K21+L21","v":0},0,0]
["    Hotelería / Gastronomía...............................................",0,0,{"$f":"E22+F22","v":0},0,0,{"$f":"H22+I22","v":0},0,0,{"$f":"K22+L22","v":0},0,0]
["    Administración y Servicios..............................................",0,0,{"$f":"E23+F23","v":0},0,0,{"$f":"H23+I23","v":0},0,0,{"$f":"K23+L23","v":0},0,0]
["    Agropecuario...............................................",0,0,{"$f":"E24+F24","v":0},0,0,{"$f":"H24+I24","v":0},0,0,{"$f":"K24+L24","v":0},0,0]
["Fuente: COCAP."]